BEGIN:VCALENDAR
VERSION:2.0
PRODID:-//The Garth Ministry Area - ECPv6.15.20//NONSGML v1.0//EN
CALSCALE:GREGORIAN
METHOD:PUBLISH
X-ORIGINAL-URL:https://garthma.wales
X-WR-CALDESC:Events for The Garth Ministry Area
REFRESH-INTERVAL;VALUE=DURATION:PT1H
X-Robots-Tag:noindex
X-PUBLISHED-TTL:PT1H
BEGIN:VTIMEZONE
TZID:Europe/London
BEGIN:DAYLIGHT
TZOFFSETFROM:+0000
TZOFFSETTO:+0100
TZNAME:BST
DTSTART:20290325T010000
END:DAYLIGHT
BEGIN:STANDARD
TZOFFSETFROM:+0100
TZOFFSETTO:+0000
TZNAME:GMT
DTSTART:20291028T010000
END:STANDARD
BEGIN:DAYLIGHT
TZOFFSETFROM:+0000
TZOFFSETTO:+0100
TZNAME:BST
DTSTART:20300331T010000
END:DAYLIGHT
BEGIN:STANDARD
TZOFFSETFROM:+0100
TZOFFSETTO:+0000
TZNAME:GMT
DTSTART:20301027T010000
END:STANDARD
BEGIN:DAYLIGHT
TZOFFSETFROM:+0000
TZOFFSETTO:+0100
TZNAME:BST
DTSTART:20310330T010000
END:DAYLIGHT
BEGIN:STANDARD
TZOFFSETFROM:+0100
TZOFFSETTO:+0000
TZNAME:GMT
DTSTART:20311026T010000
END:STANDARD
END:VTIMEZONE
BEGIN:VEVENT
DTSTART;TZID=Europe/London:20300818T093000
DTEND;TZID=Europe/London:20300818T103000
DTSTAMP:20260421T221525
CREATED:20230130T182546Z
LAST-MODIFIED:20251108T122357Z
UID:10011430-1913275800-1913279400@garthma.wales
SUMMARY:Holy Eucharist - St Michael & All Angels
DESCRIPTION:We would love you to come and join us for this Holy Eucharist Service at St. Michael & All Angels\, Tongwynlais.
URL:https://garthma.wales/events/sunday-eucharist-5/2030-08-18/
LOCATION:St Michael and All Angels Church\, Tongwynlais\, Merthyr Road\, Tongwynlais\, CF15 7LD\, United Kingdom
ATTACH;FMTTYPE=image/jpeg:https://garthma.wales/wp-content/uploads/2023/08/St-Michaels-Patronal-festival-scaled.jpg
END:VEVENT
BEGIN:VEVENT
DTSTART;TZID=Europe/London:20300821T093000
DTEND;TZID=Europe/London:20300821T103000
DTSTAMP:20260421T221525
CREATED:20250325T114950Z
LAST-MODIFIED:20251108T123953Z
UID:10011526-1913535000-1913538600@garthma.wales
SUMMARY:Holy Eucharist - St Michael & All Angels Church
DESCRIPTION:Holy Eucharist in St Michael and All Angels.
URL:https://garthma.wales/events/midweek-eucharist-2-2/2030-08-21/
LOCATION:St Michael and All Angels Church\, Tongwynlais\, Merthyr Road\, Tongwynlais\, CF15 7LD\, United Kingdom
CATEGORIES:Mid Week Worship
ATTACH;FMTTYPE=image/jpeg:https://garthma.wales/wp-content/uploads/2023/08/St-Michaels-Patronal-festival-scaled.jpg
END:VEVENT
BEGIN:VEVENT
DTSTART;TZID=Europe/London:20300825T093000
DTEND;TZID=Europe/London:20300825T103000
DTSTAMP:20260421T221525
CREATED:20230130T182546Z
LAST-MODIFIED:20251108T122357Z
UID:10011431-1913880600-1913884200@garthma.wales
SUMMARY:Holy Eucharist - St Michael & All Angels
DESCRIPTION:We would love you to come and join us for this Holy Eucharist Service at St. Michael & All Angels\, Tongwynlais.
URL:https://garthma.wales/events/sunday-eucharist-5/2030-08-25/
LOCATION:St Michael and All Angels Church\, Tongwynlais\, Merthyr Road\, Tongwynlais\, CF15 7LD\, United Kingdom
ATTACH;FMTTYPE=image/jpeg:https://garthma.wales/wp-content/uploads/2023/08/St-Michaels-Patronal-festival-scaled.jpg
END:VEVENT
BEGIN:VEVENT
DTSTART;TZID=Europe/London:20300828T093000
DTEND;TZID=Europe/London:20300828T103000
DTSTAMP:20260421T221525
CREATED:20250325T114950Z
LAST-MODIFIED:20251108T123953Z
UID:10011527-1914139800-1914143400@garthma.wales
SUMMARY:Holy Eucharist - St Michael & All Angels Church
DESCRIPTION:Holy Eucharist in St Michael and All Angels.
URL:https://garthma.wales/events/midweek-eucharist-2-2/2030-08-28/
LOCATION:St Michael and All Angels Church\, Tongwynlais\, Merthyr Road\, Tongwynlais\, CF15 7LD\, United Kingdom
CATEGORIES:Mid Week Worship
ATTACH;FMTTYPE=image/jpeg:https://garthma.wales/wp-content/uploads/2023/08/St-Michaels-Patronal-festival-scaled.jpg
END:VEVENT
BEGIN:VEVENT
DTSTART;TZID=Europe/London:20300901T093000
DTEND;TZID=Europe/London:20300901T103000
DTSTAMP:20260421T221525
CREATED:20230130T182546Z
LAST-MODIFIED:20251108T122357Z
UID:10011432-1914485400-1914489000@garthma.wales
SUMMARY:Holy Eucharist - St Michael & All Angels
DESCRIPTION:We would love you to come and join us for this Holy Eucharist Service at St. Michael & All Angels\, Tongwynlais.
URL:https://garthma.wales/events/sunday-eucharist-5/2030-09-01/
LOCATION:St Michael and All Angels Church\, Tongwynlais\, Merthyr Road\, Tongwynlais\, CF15 7LD\, United Kingdom
ATTACH;FMTTYPE=image/jpeg:https://garthma.wales/wp-content/uploads/2023/08/St-Michaels-Patronal-festival-scaled.jpg
END:VEVENT
BEGIN:VEVENT
DTSTART;TZID=Europe/London:20300904T093000
DTEND;TZID=Europe/London:20300904T103000
DTSTAMP:20260421T221525
CREATED:20250325T114950Z
LAST-MODIFIED:20251108T123953Z
UID:10011528-1914744600-1914748200@garthma.wales
SUMMARY:Holy Eucharist - St Michael & All Angels Church
DESCRIPTION:Holy Eucharist in St Michael and All Angels.
URL:https://garthma.wales/events/midweek-eucharist-2-2/2030-09-04/
LOCATION:St Michael and All Angels Church\, Tongwynlais\, Merthyr Road\, Tongwynlais\, CF15 7LD\, United Kingdom
CATEGORIES:Mid Week Worship
ATTACH;FMTTYPE=image/jpeg:https://garthma.wales/wp-content/uploads/2023/08/St-Michaels-Patronal-festival-scaled.jpg
END:VEVENT
BEGIN:VEVENT
DTSTART;TZID=Europe/London:20300911T093000
DTEND;TZID=Europe/London:20300911T103000
DTSTAMP:20260421T221525
CREATED:20250325T114950Z
LAST-MODIFIED:20251108T123953Z
UID:10011529-1915349400-1915353000@garthma.wales
SUMMARY:Holy Eucharist - St Michael & All Angels Church
DESCRIPTION:Holy Eucharist in St Michael and All Angels.
URL:https://garthma.wales/events/midweek-eucharist-2-2/2030-09-11/
LOCATION:St Michael and All Angels Church\, Tongwynlais\, Merthyr Road\, Tongwynlais\, CF15 7LD\, United Kingdom
CATEGORIES:Mid Week Worship
ATTACH;FMTTYPE=image/jpeg:https://garthma.wales/wp-content/uploads/2023/08/St-Michaels-Patronal-festival-scaled.jpg
END:VEVENT
BEGIN:VEVENT
DTSTART;TZID=Europe/London:20300915T093000
DTEND;TZID=Europe/London:20300915T103000
DTSTAMP:20260421T221525
CREATED:20230130T182546Z
LAST-MODIFIED:20251108T122357Z
UID:10011433-1915695000-1915698600@garthma.wales
SUMMARY:Holy Eucharist - St Michael & All Angels
DESCRIPTION:We would love you to come and join us for this Holy Eucharist Service at St. Michael & All Angels\, Tongwynlais.
URL:https://garthma.wales/events/sunday-eucharist-5/2030-09-15/
LOCATION:St Michael and All Angels Church\, Tongwynlais\, Merthyr Road\, Tongwynlais\, CF15 7LD\, United Kingdom
ATTACH;FMTTYPE=image/jpeg:https://garthma.wales/wp-content/uploads/2023/08/St-Michaels-Patronal-festival-scaled.jpg
END:VEVENT
BEGIN:VEVENT
DTSTART;TZID=Europe/London:20300918T093000
DTEND;TZID=Europe/London:20300918T103000
DTSTAMP:20260421T221525
CREATED:20250325T114950Z
LAST-MODIFIED:20251108T123953Z
UID:10011530-1915954200-1915957800@garthma.wales
SUMMARY:Holy Eucharist - St Michael & All Angels Church
DESCRIPTION:Holy Eucharist in St Michael and All Angels.
URL:https://garthma.wales/events/midweek-eucharist-2-2/2030-09-18/
LOCATION:St Michael and All Angels Church\, Tongwynlais\, Merthyr Road\, Tongwynlais\, CF15 7LD\, United Kingdom
CATEGORIES:Mid Week Worship
ATTACH;FMTTYPE=image/jpeg:https://garthma.wales/wp-content/uploads/2023/08/St-Michaels-Patronal-festival-scaled.jpg
END:VEVENT
BEGIN:VEVENT
DTSTART;TZID=Europe/London:20300922T093000
DTEND;TZID=Europe/London:20300922T103000
DTSTAMP:20260421T221525
CREATED:20230130T182546Z
LAST-MODIFIED:20251108T122357Z
UID:10011434-1916299800-1916303400@garthma.wales
SUMMARY:Holy Eucharist - St Michael & All Angels
DESCRIPTION:We would love you to come and join us for this Holy Eucharist Service at St. Michael & All Angels\, Tongwynlais.
URL:https://garthma.wales/events/sunday-eucharist-5/2030-09-22/
LOCATION:St Michael and All Angels Church\, Tongwynlais\, Merthyr Road\, Tongwynlais\, CF15 7LD\, United Kingdom
ATTACH;FMTTYPE=image/jpeg:https://garthma.wales/wp-content/uploads/2023/08/St-Michaels-Patronal-festival-scaled.jpg
END:VEVENT
BEGIN:VEVENT
DTSTART;TZID=Europe/London:20300925T093000
DTEND;TZID=Europe/London:20300925T103000
DTSTAMP:20260421T221525
CREATED:20250325T114950Z
LAST-MODIFIED:20251108T123953Z
UID:10011531-1916559000-1916562600@garthma.wales
SUMMARY:Holy Eucharist - St Michael & All Angels Church
DESCRIPTION:Holy Eucharist in St Michael and All Angels.
URL:https://garthma.wales/events/midweek-eucharist-2-2/2030-09-25/
LOCATION:St Michael and All Angels Church\, Tongwynlais\, Merthyr Road\, Tongwynlais\, CF15 7LD\, United Kingdom
CATEGORIES:Mid Week Worship
ATTACH;FMTTYPE=image/jpeg:https://garthma.wales/wp-content/uploads/2023/08/St-Michaels-Patronal-festival-scaled.jpg
END:VEVENT
BEGIN:VEVENT
DTSTART;TZID=Europe/London:20300929T093000
DTEND;TZID=Europe/London:20300929T103000
DTSTAMP:20260421T221525
CREATED:20230130T182546Z
LAST-MODIFIED:20251108T122357Z
UID:10011435-1916904600-1916908200@garthma.wales
SUMMARY:Holy Eucharist - St Michael & All Angels
DESCRIPTION:We would love you to come and join us for this Holy Eucharist Service at St. Michael & All Angels\, Tongwynlais.
URL:https://garthma.wales/events/sunday-eucharist-5/2030-09-29/
LOCATION:St Michael and All Angels Church\, Tongwynlais\, Merthyr Road\, Tongwynlais\, CF15 7LD\, United Kingdom
ATTACH;FMTTYPE=image/jpeg:https://garthma.wales/wp-content/uploads/2023/08/St-Michaels-Patronal-festival-scaled.jpg
END:VEVENT
BEGIN:VEVENT
DTSTART;TZID=Europe/London:20301002T093000
DTEND;TZID=Europe/London:20301002T103000
DTSTAMP:20260421T221525
CREATED:20250325T114950Z
LAST-MODIFIED:20251108T123953Z
UID:10011532-1917163800-1917167400@garthma.wales
SUMMARY:Holy Eucharist - St Michael & All Angels Church
DESCRIPTION:Holy Eucharist in St Michael and All Angels.
URL:https://garthma.wales/events/midweek-eucharist-2-2/2030-10-02/
LOCATION:St Michael and All Angels Church\, Tongwynlais\, Merthyr Road\, Tongwynlais\, CF15 7LD\, United Kingdom
CATEGORIES:Mid Week Worship
ATTACH;FMTTYPE=image/jpeg:https://garthma.wales/wp-content/uploads/2023/08/St-Michaels-Patronal-festival-scaled.jpg
END:VEVENT
BEGIN:VEVENT
DTSTART;TZID=Europe/London:20301006T093000
DTEND;TZID=Europe/London:20301006T103000
DTSTAMP:20260421T221525
CREATED:20230130T182546Z
LAST-MODIFIED:20251108T122357Z
UID:10011436-1917509400-1917513000@garthma.wales
SUMMARY:Holy Eucharist - St Michael & All Angels
DESCRIPTION:We would love you to come and join us for this Holy Eucharist Service at St. Michael & All Angels\, Tongwynlais.
URL:https://garthma.wales/events/sunday-eucharist-5/2030-10-06/
LOCATION:St Michael and All Angels Church\, Tongwynlais\, Merthyr Road\, Tongwynlais\, CF15 7LD\, United Kingdom
ATTACH;FMTTYPE=image/jpeg:https://garthma.wales/wp-content/uploads/2023/08/St-Michaels-Patronal-festival-scaled.jpg
END:VEVENT
BEGIN:VEVENT
DTSTART;TZID=Europe/London:20301009T093000
DTEND;TZID=Europe/London:20301009T103000
DTSTAMP:20260421T221525
CREATED:20250325T114950Z
LAST-MODIFIED:20251108T123953Z
UID:10011533-1917768600-1917772200@garthma.wales
SUMMARY:Holy Eucharist - St Michael & All Angels Church
DESCRIPTION:Holy Eucharist in St Michael and All Angels.
URL:https://garthma.wales/events/midweek-eucharist-2-2/2030-10-09/
LOCATION:St Michael and All Angels Church\, Tongwynlais\, Merthyr Road\, Tongwynlais\, CF15 7LD\, United Kingdom
CATEGORIES:Mid Week Worship
ATTACH;FMTTYPE=image/jpeg:https://garthma.wales/wp-content/uploads/2023/08/St-Michaels-Patronal-festival-scaled.jpg
END:VEVENT
BEGIN:VEVENT
DTSTART;TZID=Europe/London:20301016T093000
DTEND;TZID=Europe/London:20301016T103000
DTSTAMP:20260421T221525
CREATED:20250325T114950Z
LAST-MODIFIED:20251108T123953Z
UID:10011534-1918373400-1918377000@garthma.wales
SUMMARY:Holy Eucharist - St Michael & All Angels Church
DESCRIPTION:Holy Eucharist in St Michael and All Angels.
URL:https://garthma.wales/events/midweek-eucharist-2-2/2030-10-16/
LOCATION:St Michael and All Angels Church\, Tongwynlais\, Merthyr Road\, Tongwynlais\, CF15 7LD\, United Kingdom
CATEGORIES:Mid Week Worship
ATTACH;FMTTYPE=image/jpeg:https://garthma.wales/wp-content/uploads/2023/08/St-Michaels-Patronal-festival-scaled.jpg
END:VEVENT
BEGIN:VEVENT
DTSTART;TZID=Europe/London:20301020T093000
DTEND;TZID=Europe/London:20301020T103000
DTSTAMP:20260421T221525
CREATED:20230130T182546Z
LAST-MODIFIED:20251108T122357Z
UID:10011437-1918719000-1918722600@garthma.wales
SUMMARY:Holy Eucharist - St Michael & All Angels
DESCRIPTION:We would love you to come and join us for this Holy Eucharist Service at St. Michael & All Angels\, Tongwynlais.
URL:https://garthma.wales/events/sunday-eucharist-5/2030-10-20/
LOCATION:St Michael and All Angels Church\, Tongwynlais\, Merthyr Road\, Tongwynlais\, CF15 7LD\, United Kingdom
ATTACH;FMTTYPE=image/jpeg:https://garthma.wales/wp-content/uploads/2023/08/St-Michaels-Patronal-festival-scaled.jpg
END:VEVENT
BEGIN:VEVENT
DTSTART;TZID=Europe/London:20301023T093000
DTEND;TZID=Europe/London:20301023T103000
DTSTAMP:20260421T221525
CREATED:20250325T114950Z
LAST-MODIFIED:20251108T123953Z
UID:10011535-1918978200-1918981800@garthma.wales
SUMMARY:Holy Eucharist - St Michael & All Angels Church
DESCRIPTION:Holy Eucharist in St Michael and All Angels.
URL:https://garthma.wales/events/midweek-eucharist-2-2/2030-10-23/
LOCATION:St Michael and All Angels Church\, Tongwynlais\, Merthyr Road\, Tongwynlais\, CF15 7LD\, United Kingdom
CATEGORIES:Mid Week Worship
ATTACH;FMTTYPE=image/jpeg:https://garthma.wales/wp-content/uploads/2023/08/St-Michaels-Patronal-festival-scaled.jpg
END:VEVENT
BEGIN:VEVENT
DTSTART;TZID=Europe/London:20301027T093000
DTEND;TZID=Europe/London:20301027T103000
DTSTAMP:20260421T221525
CREATED:20230130T182546Z
LAST-MODIFIED:20251108T122357Z
UID:10011438-1919323800-1919327400@garthma.wales
SUMMARY:Holy Eucharist - St Michael & All Angels
DESCRIPTION:We would love you to come and join us for this Holy Eucharist Service at St. Michael & All Angels\, Tongwynlais.
URL:https://garthma.wales/events/sunday-eucharist-5/2030-10-27/
LOCATION:St Michael and All Angels Church\, Tongwynlais\, Merthyr Road\, Tongwynlais\, CF15 7LD\, United Kingdom
ATTACH;FMTTYPE=image/jpeg:https://garthma.wales/wp-content/uploads/2023/08/St-Michaels-Patronal-festival-scaled.jpg
END:VEVENT
BEGIN:VEVENT
DTSTART;TZID=Europe/London:20301030T093000
DTEND;TZID=Europe/London:20301030T103000
DTSTAMP:20260421T221525
CREATED:20250325T114950Z
LAST-MODIFIED:20251108T123953Z
UID:10011536-1919583000-1919586600@garthma.wales
SUMMARY:Holy Eucharist - St Michael & All Angels Church
DESCRIPTION:Holy Eucharist in St Michael and All Angels.
URL:https://garthma.wales/events/midweek-eucharist-2-2/2030-10-30/
LOCATION:St Michael and All Angels Church\, Tongwynlais\, Merthyr Road\, Tongwynlais\, CF15 7LD\, United Kingdom
CATEGORIES:Mid Week Worship
ATTACH;FMTTYPE=image/jpeg:https://garthma.wales/wp-content/uploads/2023/08/St-Michaels-Patronal-festival-scaled.jpg
END:VEVENT
BEGIN:VEVENT
DTSTART;TZID=Europe/London:20301103T093000
DTEND;TZID=Europe/London:20301103T103000
DTSTAMP:20260421T221525
CREATED:20230130T182546Z
LAST-MODIFIED:20251108T122357Z
UID:10011439-1919928600-1919932200@garthma.wales
SUMMARY:Holy Eucharist - St Michael & All Angels
DESCRIPTION:We would love you to come and join us for this Holy Eucharist Service at St. Michael & All Angels\, Tongwynlais.
URL:https://garthma.wales/events/sunday-eucharist-5/2030-11-03/
LOCATION:St Michael and All Angels Church\, Tongwynlais\, Merthyr Road\, Tongwynlais\, CF15 7LD\, United Kingdom
ATTACH;FMTTYPE=image/jpeg:https://garthma.wales/wp-content/uploads/2023/08/St-Michaels-Patronal-festival-scaled.jpg
END:VEVENT
BEGIN:VEVENT
DTSTART;TZID=Europe/London:20301106T093000
DTEND;TZID=Europe/London:20301106T103000
DTSTAMP:20260421T221525
CREATED:20250325T114950Z
LAST-MODIFIED:20251108T123953Z
UID:10011537-1920187800-1920191400@garthma.wales
SUMMARY:Holy Eucharist - St Michael & All Angels Church
DESCRIPTION:Holy Eucharist in St Michael and All Angels.
URL:https://garthma.wales/events/midweek-eucharist-2-2/2030-11-06/
LOCATION:St Michael and All Angels Church\, Tongwynlais\, Merthyr Road\, Tongwynlais\, CF15 7LD\, United Kingdom
CATEGORIES:Mid Week Worship
ATTACH;FMTTYPE=image/jpeg:https://garthma.wales/wp-content/uploads/2023/08/St-Michaels-Patronal-festival-scaled.jpg
END:VEVENT
BEGIN:VEVENT
DTSTART;TZID=Europe/London:20301117T093000
DTEND;TZID=Europe/London:20301117T103000
DTSTAMP:20260421T221525
CREATED:20230130T182546Z
LAST-MODIFIED:20251108T122357Z
UID:10011643-1921138200-1921141800@garthma.wales
SUMMARY:Holy Eucharist - St Michael & All Angels
DESCRIPTION:We would love you to come and join us for this Holy Eucharist Service at St. Michael & All Angels\, Tongwynlais.
URL:https://garthma.wales/events/sunday-eucharist-5/2030-11-17/
LOCATION:St Michael and All Angels Church\, Tongwynlais\, Merthyr Road\, Tongwynlais\, CF15 7LD\, United Kingdom
ATTACH;FMTTYPE=image/jpeg:https://garthma.wales/wp-content/uploads/2023/08/St-Michaels-Patronal-festival-scaled.jpg
END:VEVENT
BEGIN:VEVENT
DTSTART;TZID=Europe/London:20301124T093000
DTEND;TZID=Europe/London:20301124T103000
DTSTAMP:20260421T221525
CREATED:20230130T182546Z
LAST-MODIFIED:20251108T122357Z
UID:10011644-1921743000-1921746600@garthma.wales
SUMMARY:Holy Eucharist - St Michael & All Angels
DESCRIPTION:We would love you to come and join us for this Holy Eucharist Service at St. Michael & All Angels\, Tongwynlais.
URL:https://garthma.wales/events/sunday-eucharist-5/2030-11-24/
LOCATION:St Michael and All Angels Church\, Tongwynlais\, Merthyr Road\, Tongwynlais\, CF15 7LD\, United Kingdom
ATTACH;FMTTYPE=image/jpeg:https://garthma.wales/wp-content/uploads/2023/08/St-Michaels-Patronal-festival-scaled.jpg
END:VEVENT
BEGIN:VEVENT
DTSTART;TZID=Europe/London:20301201T093000
DTEND;TZID=Europe/London:20301201T103000
DTSTAMP:20260421T221525
CREATED:20230130T182546Z
LAST-MODIFIED:20251108T122357Z
UID:10011645-1922347800-1922351400@garthma.wales
SUMMARY:Holy Eucharist - St Michael & All Angels
DESCRIPTION:We would love you to come and join us for this Holy Eucharist Service at St. Michael & All Angels\, Tongwynlais.
URL:https://garthma.wales/events/sunday-eucharist-5/2030-12-01/
LOCATION:St Michael and All Angels Church\, Tongwynlais\, Merthyr Road\, Tongwynlais\, CF15 7LD\, United Kingdom
ATTACH;FMTTYPE=image/jpeg:https://garthma.wales/wp-content/uploads/2023/08/St-Michaels-Patronal-festival-scaled.jpg
END:VEVENT
END:VCALENDAR