BEGIN:VCALENDAR
VERSION:2.0
PRODID:-//The Garth Ministry Area - ECPv6.15.20//NONSGML v1.0//EN
CALSCALE:GREGORIAN
METHOD:PUBLISH
X-WR-CALNAME:The Garth Ministry Area
X-ORIGINAL-URL:https://garthma.wales
X-WR-CALDESC:Events for The Garth Ministry Area
REFRESH-INTERVAL;VALUE=DURATION:PT1H
X-Robots-Tag:noindex
X-PUBLISHED-TTL:PT1H
BEGIN:VTIMEZONE
TZID:Europe/London
BEGIN:DAYLIGHT
TZOFFSETFROM:+0000
TZOFFSETTO:+0100
TZNAME:BST
DTSTART:20290325T010000
END:DAYLIGHT
BEGIN:STANDARD
TZOFFSETFROM:+0100
TZOFFSETTO:+0000
TZNAME:GMT
DTSTART:20291028T010000
END:STANDARD
BEGIN:DAYLIGHT
TZOFFSETFROM:+0000
TZOFFSETTO:+0100
TZNAME:BST
DTSTART:20300331T010000
END:DAYLIGHT
BEGIN:STANDARD
TZOFFSETFROM:+0100
TZOFFSETTO:+0000
TZNAME:GMT
DTSTART:20301027T010000
END:STANDARD
BEGIN:DAYLIGHT
TZOFFSETFROM:+0000
TZOFFSETTO:+0100
TZNAME:BST
DTSTART:20310330T010000
END:DAYLIGHT
BEGIN:STANDARD
TZOFFSETFROM:+0100
TZOFFSETTO:+0000
TZNAME:GMT
DTSTART:20311026T010000
END:STANDARD
END:VTIMEZONE
BEGIN:VEVENT
DTSTART;TZID=Europe/London:20300206T093000
DTEND;TZID=Europe/London:20300206T103000
DTSTAMP:20260420T174506
CREATED:20250325T114950Z
LAST-MODIFIED:20251108T123953Z
UID:10008244-1896600600-1896604200@garthma.wales
SUMMARY:Holy Eucharist - St Michael & All Angels Church
DESCRIPTION:Holy Eucharist in St Michael and All Angels.
URL:https://garthma.wales/events/midweek-eucharist-2-2/2030-02-06/
LOCATION:St Michael and All Angels Church\, Tongwynlais\, Merthyr Road\, Tongwynlais\, CF15 7LD\, United Kingdom
CATEGORIES:Mid Week Worship
ATTACH;FMTTYPE=image/jpeg:https://garthma.wales/wp-content/uploads/2023/08/St-Michaels-Patronal-festival-scaled.jpg
END:VEVENT
BEGIN:VEVENT
DTSTART;TZID=Europe/London:20300213T093000
DTEND;TZID=Europe/London:20300213T103000
DTSTAMP:20260420T174506
CREATED:20250325T114950Z
LAST-MODIFIED:20251108T123953Z
UID:10008245-1897205400-1897209000@garthma.wales
SUMMARY:Holy Eucharist - St Michael & All Angels Church
DESCRIPTION:Holy Eucharist in St Michael and All Angels.
URL:https://garthma.wales/events/midweek-eucharist-2-2/2030-02-13/
LOCATION:St Michael and All Angels Church\, Tongwynlais\, Merthyr Road\, Tongwynlais\, CF15 7LD\, United Kingdom
CATEGORIES:Mid Week Worship
ATTACH;FMTTYPE=image/jpeg:https://garthma.wales/wp-content/uploads/2023/08/St-Michaels-Patronal-festival-scaled.jpg
END:VEVENT
BEGIN:VEVENT
DTSTART;TZID=Europe/London:20300217T093000
DTEND;TZID=Europe/London:20300217T103000
DTSTAMP:20260420T174506
CREATED:20230130T182546Z
LAST-MODIFIED:20251108T122357Z
UID:10009862-1897551000-1897554600@garthma.wales
SUMMARY:Holy Eucharist - St Michael & All Angels
DESCRIPTION:We would love you to come and join us for this Holy Eucharist Service at St. Michael & All Angels\, Tongwynlais.
URL:https://garthma.wales/events/sunday-eucharist-5/2030-02-17/
LOCATION:St Michael and All Angels Church\, Tongwynlais\, Merthyr Road\, Tongwynlais\, CF15 7LD\, United Kingdom
ATTACH;FMTTYPE=image/jpeg:https://garthma.wales/wp-content/uploads/2023/08/St-Michaels-Patronal-festival-scaled.jpg
END:VEVENT
BEGIN:VEVENT
DTSTART;TZID=Europe/London:20300220T093000
DTEND;TZID=Europe/London:20300220T103000
DTSTAMP:20260420T174506
CREATED:20250325T114950Z
LAST-MODIFIED:20251108T123953Z
UID:10008246-1897810200-1897813800@garthma.wales
SUMMARY:Holy Eucharist - St Michael & All Angels Church
DESCRIPTION:Holy Eucharist in St Michael and All Angels.
URL:https://garthma.wales/events/midweek-eucharist-2-2/2030-02-20/
LOCATION:St Michael and All Angels Church\, Tongwynlais\, Merthyr Road\, Tongwynlais\, CF15 7LD\, United Kingdom
CATEGORIES:Mid Week Worship
ATTACH;FMTTYPE=image/jpeg:https://garthma.wales/wp-content/uploads/2023/08/St-Michaels-Patronal-festival-scaled.jpg
END:VEVENT
BEGIN:VEVENT
DTSTART;TZID=Europe/London:20300224T093000
DTEND;TZID=Europe/London:20300224T103000
DTSTAMP:20260420T174506
CREATED:20230130T182546Z
LAST-MODIFIED:20251108T122357Z
UID:10009863-1898155800-1898159400@garthma.wales
SUMMARY:Holy Eucharist - St Michael & All Angels
DESCRIPTION:We would love you to come and join us for this Holy Eucharist Service at St. Michael & All Angels\, Tongwynlais.
URL:https://garthma.wales/events/sunday-eucharist-5/2030-02-24/
LOCATION:St Michael and All Angels Church\, Tongwynlais\, Merthyr Road\, Tongwynlais\, CF15 7LD\, United Kingdom
ATTACH;FMTTYPE=image/jpeg:https://garthma.wales/wp-content/uploads/2023/08/St-Michaels-Patronal-festival-scaled.jpg
END:VEVENT
BEGIN:VEVENT
DTSTART;TZID=Europe/London:20300227T093000
DTEND;TZID=Europe/London:20300227T103000
DTSTAMP:20260420T174507
CREATED:20250325T114950Z
LAST-MODIFIED:20251108T123953Z
UID:10008247-1898415000-1898418600@garthma.wales
SUMMARY:Holy Eucharist - St Michael & All Angels Church
DESCRIPTION:Holy Eucharist in St Michael and All Angels.
URL:https://garthma.wales/events/midweek-eucharist-2-2/2030-02-27/
LOCATION:St Michael and All Angels Church\, Tongwynlais\, Merthyr Road\, Tongwynlais\, CF15 7LD\, United Kingdom
CATEGORIES:Mid Week Worship
ATTACH;FMTTYPE=image/jpeg:https://garthma.wales/wp-content/uploads/2023/08/St-Michaels-Patronal-festival-scaled.jpg
END:VEVENT
BEGIN:VEVENT
DTSTART;TZID=Europe/London:20300303T093000
DTEND;TZID=Europe/London:20300303T103000
DTSTAMP:20260420T174507
CREATED:20230130T182546Z
LAST-MODIFIED:20251108T122357Z
UID:10009864-1898760600-1898764200@garthma.wales
SUMMARY:Holy Eucharist - St Michael & All Angels
DESCRIPTION:We would love you to come and join us for this Holy Eucharist Service at St. Michael & All Angels\, Tongwynlais.
URL:https://garthma.wales/events/sunday-eucharist-5/2030-03-03/
LOCATION:St Michael and All Angels Church\, Tongwynlais\, Merthyr Road\, Tongwynlais\, CF15 7LD\, United Kingdom
ATTACH;FMTTYPE=image/jpeg:https://garthma.wales/wp-content/uploads/2023/08/St-Michaels-Patronal-festival-scaled.jpg
END:VEVENT
BEGIN:VEVENT
DTSTART;TZID=Europe/London:20300306T093000
DTEND;TZID=Europe/London:20300306T103000
DTSTAMP:20260420T174507
CREATED:20250325T114950Z
LAST-MODIFIED:20251108T123953Z
UID:10008248-1899019800-1899023400@garthma.wales
SUMMARY:Holy Eucharist - St Michael & All Angels Church
DESCRIPTION:Holy Eucharist in St Michael and All Angels.
URL:https://garthma.wales/events/midweek-eucharist-2-2/2030-03-06/
LOCATION:St Michael and All Angels Church\, Tongwynlais\, Merthyr Road\, Tongwynlais\, CF15 7LD\, United Kingdom
CATEGORIES:Mid Week Worship
ATTACH;FMTTYPE=image/jpeg:https://garthma.wales/wp-content/uploads/2023/08/St-Michaels-Patronal-festival-scaled.jpg
END:VEVENT
BEGIN:VEVENT
DTSTART;TZID=Europe/London:20300313T093000
DTEND;TZID=Europe/London:20300313T103000
DTSTAMP:20260420T174507
CREATED:20250325T114950Z
LAST-MODIFIED:20251108T123953Z
UID:10008249-1899624600-1899628200@garthma.wales
SUMMARY:Holy Eucharist - St Michael & All Angels Church
DESCRIPTION:Holy Eucharist in St Michael and All Angels.
URL:https://garthma.wales/events/midweek-eucharist-2-2/2030-03-13/
LOCATION:St Michael and All Angels Church\, Tongwynlais\, Merthyr Road\, Tongwynlais\, CF15 7LD\, United Kingdom
CATEGORIES:Mid Week Worship
ATTACH;FMTTYPE=image/jpeg:https://garthma.wales/wp-content/uploads/2023/08/St-Michaels-Patronal-festival-scaled.jpg
END:VEVENT
BEGIN:VEVENT
DTSTART;TZID=Europe/London:20300317T093000
DTEND;TZID=Europe/London:20300317T103000
DTSTAMP:20260420T174507
CREATED:20230130T182546Z
LAST-MODIFIED:20251108T122357Z
UID:10009865-1899970200-1899973800@garthma.wales
SUMMARY:Holy Eucharist - St Michael & All Angels
DESCRIPTION:We would love you to come and join us for this Holy Eucharist Service at St. Michael & All Angels\, Tongwynlais.
URL:https://garthma.wales/events/sunday-eucharist-5/2030-03-17/
LOCATION:St Michael and All Angels Church\, Tongwynlais\, Merthyr Road\, Tongwynlais\, CF15 7LD\, United Kingdom
ATTACH;FMTTYPE=image/jpeg:https://garthma.wales/wp-content/uploads/2023/08/St-Michaels-Patronal-festival-scaled.jpg
END:VEVENT
BEGIN:VEVENT
DTSTART;TZID=Europe/London:20300320T093000
DTEND;TZID=Europe/London:20300320T103000
DTSTAMP:20260420T174507
CREATED:20250325T114950Z
LAST-MODIFIED:20251108T123953Z
UID:10008250-1900229400-1900233000@garthma.wales
SUMMARY:Holy Eucharist - St Michael & All Angels Church
DESCRIPTION:Holy Eucharist in St Michael and All Angels.
URL:https://garthma.wales/events/midweek-eucharist-2-2/2030-03-20/
LOCATION:St Michael and All Angels Church\, Tongwynlais\, Merthyr Road\, Tongwynlais\, CF15 7LD\, United Kingdom
CATEGORIES:Mid Week Worship
ATTACH;FMTTYPE=image/jpeg:https://garthma.wales/wp-content/uploads/2023/08/St-Michaels-Patronal-festival-scaled.jpg
END:VEVENT
BEGIN:VEVENT
DTSTART;TZID=Europe/London:20300324T093000
DTEND;TZID=Europe/London:20300324T103000
DTSTAMP:20260420T174507
CREATED:20230130T182546Z
LAST-MODIFIED:20251108T122357Z
UID:10009866-1900575000-1900578600@garthma.wales
SUMMARY:Holy Eucharist - St Michael & All Angels
DESCRIPTION:We would love you to come and join us for this Holy Eucharist Service at St. Michael & All Angels\, Tongwynlais.
URL:https://garthma.wales/events/sunday-eucharist-5/2030-03-24/
LOCATION:St Michael and All Angels Church\, Tongwynlais\, Merthyr Road\, Tongwynlais\, CF15 7LD\, United Kingdom
ATTACH;FMTTYPE=image/jpeg:https://garthma.wales/wp-content/uploads/2023/08/St-Michaels-Patronal-festival-scaled.jpg
END:VEVENT
BEGIN:VEVENT
DTSTART;TZID=Europe/London:20300327T093000
DTEND;TZID=Europe/London:20300327T103000
DTSTAMP:20260420T174507
CREATED:20250325T114950Z
LAST-MODIFIED:20251108T123953Z
UID:10010121-1900834200-1900837800@garthma.wales
SUMMARY:Holy Eucharist - St Michael & All Angels Church
DESCRIPTION:Holy Eucharist in St Michael and All Angels.
URL:https://garthma.wales/events/midweek-eucharist-2-2/2030-03-27/
LOCATION:St Michael and All Angels Church\, Tongwynlais\, Merthyr Road\, Tongwynlais\, CF15 7LD\, United Kingdom
CATEGORIES:Mid Week Worship
ATTACH;FMTTYPE=image/jpeg:https://garthma.wales/wp-content/uploads/2023/08/St-Michaels-Patronal-festival-scaled.jpg
END:VEVENT
BEGIN:VEVENT
DTSTART;TZID=Europe/London:20300331T093000
DTEND;TZID=Europe/London:20300331T103000
DTSTAMP:20260420T174507
CREATED:20230130T182546Z
LAST-MODIFIED:20251108T122357Z
UID:10011415-1901179800-1901183400@garthma.wales
SUMMARY:Holy Eucharist - St Michael & All Angels
DESCRIPTION:We would love you to come and join us for this Holy Eucharist Service at St. Michael & All Angels\, Tongwynlais.
URL:https://garthma.wales/events/sunday-eucharist-5/2030-03-31/
LOCATION:St Michael and All Angels Church\, Tongwynlais\, Merthyr Road\, Tongwynlais\, CF15 7LD\, United Kingdom
ATTACH;FMTTYPE=image/jpeg:https://garthma.wales/wp-content/uploads/2023/08/St-Michaels-Patronal-festival-scaled.jpg
END:VEVENT
BEGIN:VEVENT
DTSTART;TZID=Europe/London:20300403T093000
DTEND;TZID=Europe/London:20300403T103000
DTSTAMP:20260420T174507
CREATED:20250325T114950Z
LAST-MODIFIED:20251108T123953Z
UID:10010977-1901439000-1901442600@garthma.wales
SUMMARY:Holy Eucharist - St Michael & All Angels Church
DESCRIPTION:Holy Eucharist in St Michael and All Angels.
URL:https://garthma.wales/events/midweek-eucharist-2-2/2030-04-03/
LOCATION:St Michael and All Angels Church\, Tongwynlais\, Merthyr Road\, Tongwynlais\, CF15 7LD\, United Kingdom
CATEGORIES:Mid Week Worship
ATTACH;FMTTYPE=image/jpeg:https://garthma.wales/wp-content/uploads/2023/08/St-Michaels-Patronal-festival-scaled.jpg
END:VEVENT
BEGIN:VEVENT
DTSTART;TZID=Europe/London:20300407T093000
DTEND;TZID=Europe/London:20300407T103000
DTSTAMP:20260420T174507
CREATED:20230130T182546Z
LAST-MODIFIED:20251108T122357Z
UID:10011416-1901784600-1901788200@garthma.wales
SUMMARY:Holy Eucharist - St Michael & All Angels
DESCRIPTION:We would love you to come and join us for this Holy Eucharist Service at St. Michael & All Angels\, Tongwynlais.
URL:https://garthma.wales/events/sunday-eucharist-5/2030-04-07/
LOCATION:St Michael and All Angels Church\, Tongwynlais\, Merthyr Road\, Tongwynlais\, CF15 7LD\, United Kingdom
ATTACH;FMTTYPE=image/jpeg:https://garthma.wales/wp-content/uploads/2023/08/St-Michaels-Patronal-festival-scaled.jpg
END:VEVENT
BEGIN:VEVENT
DTSTART;TZID=Europe/London:20300410T093000
DTEND;TZID=Europe/London:20300410T103000
DTSTAMP:20260420T174507
CREATED:20250325T114950Z
LAST-MODIFIED:20251108T123953Z
UID:10010978-1902043800-1902047400@garthma.wales
SUMMARY:Holy Eucharist - St Michael & All Angels Church
DESCRIPTION:Holy Eucharist in St Michael and All Angels.
URL:https://garthma.wales/events/midweek-eucharist-2-2/2030-04-10/
LOCATION:St Michael and All Angels Church\, Tongwynlais\, Merthyr Road\, Tongwynlais\, CF15 7LD\, United Kingdom
CATEGORIES:Mid Week Worship
ATTACH;FMTTYPE=image/jpeg:https://garthma.wales/wp-content/uploads/2023/08/St-Michaels-Patronal-festival-scaled.jpg
END:VEVENT
BEGIN:VEVENT
DTSTART;TZID=Europe/London:20300417T093000
DTEND;TZID=Europe/London:20300417T103000
DTSTAMP:20260420T174507
CREATED:20250325T114950Z
LAST-MODIFIED:20251108T123953Z
UID:10010979-1902648600-1902652200@garthma.wales
SUMMARY:Holy Eucharist - St Michael & All Angels Church
DESCRIPTION:Holy Eucharist in St Michael and All Angels.
URL:https://garthma.wales/events/midweek-eucharist-2-2/2030-04-17/
LOCATION:St Michael and All Angels Church\, Tongwynlais\, Merthyr Road\, Tongwynlais\, CF15 7LD\, United Kingdom
CATEGORIES:Mid Week Worship
ATTACH;FMTTYPE=image/jpeg:https://garthma.wales/wp-content/uploads/2023/08/St-Michaels-Patronal-festival-scaled.jpg
END:VEVENT
BEGIN:VEVENT
DTSTART;TZID=Europe/London:20300421T093000
DTEND;TZID=Europe/London:20300421T103000
DTSTAMP:20260420T174507
CREATED:20230130T182546Z
LAST-MODIFIED:20251108T122357Z
UID:10011417-1902994200-1902997800@garthma.wales
SUMMARY:Holy Eucharist - St Michael & All Angels
DESCRIPTION:We would love you to come and join us for this Holy Eucharist Service at St. Michael & All Angels\, Tongwynlais.
URL:https://garthma.wales/events/sunday-eucharist-5/2030-04-21/
LOCATION:St Michael and All Angels Church\, Tongwynlais\, Merthyr Road\, Tongwynlais\, CF15 7LD\, United Kingdom
ATTACH;FMTTYPE=image/jpeg:https://garthma.wales/wp-content/uploads/2023/08/St-Michaels-Patronal-festival-scaled.jpg
END:VEVENT
BEGIN:VEVENT
DTSTART;TZID=Europe/London:20300424T093000
DTEND;TZID=Europe/London:20300424T103000
DTSTAMP:20260420T174507
CREATED:20250325T114950Z
LAST-MODIFIED:20251108T123953Z
UID:10010980-1903253400-1903257000@garthma.wales
SUMMARY:Holy Eucharist - St Michael & All Angels Church
DESCRIPTION:Holy Eucharist in St Michael and All Angels.
URL:https://garthma.wales/events/midweek-eucharist-2-2/2030-04-24/
LOCATION:St Michael and All Angels Church\, Tongwynlais\, Merthyr Road\, Tongwynlais\, CF15 7LD\, United Kingdom
CATEGORIES:Mid Week Worship
ATTACH;FMTTYPE=image/jpeg:https://garthma.wales/wp-content/uploads/2023/08/St-Michaels-Patronal-festival-scaled.jpg
END:VEVENT
BEGIN:VEVENT
DTSTART;TZID=Europe/London:20300428T093000
DTEND;TZID=Europe/London:20300428T103000
DTSTAMP:20260420T174507
CREATED:20230130T182546Z
LAST-MODIFIED:20251108T122357Z
UID:10011418-1903599000-1903602600@garthma.wales
SUMMARY:Holy Eucharist - St Michael & All Angels
DESCRIPTION:We would love you to come and join us for this Holy Eucharist Service at St. Michael & All Angels\, Tongwynlais.
URL:https://garthma.wales/events/sunday-eucharist-5/2030-04-28/
LOCATION:St Michael and All Angels Church\, Tongwynlais\, Merthyr Road\, Tongwynlais\, CF15 7LD\, United Kingdom
ATTACH;FMTTYPE=image/jpeg:https://garthma.wales/wp-content/uploads/2023/08/St-Michaels-Patronal-festival-scaled.jpg
END:VEVENT
BEGIN:VEVENT
DTSTART;TZID=Europe/London:20300501T093000
DTEND;TZID=Europe/London:20300501T103000
DTSTAMP:20260420T174507
CREATED:20250325T114950Z
LAST-MODIFIED:20251108T123953Z
UID:10010981-1903858200-1903861800@garthma.wales
SUMMARY:Holy Eucharist - St Michael & All Angels Church
DESCRIPTION:Holy Eucharist in St Michael and All Angels.
URL:https://garthma.wales/events/midweek-eucharist-2-2/2030-05-01/
LOCATION:St Michael and All Angels Church\, Tongwynlais\, Merthyr Road\, Tongwynlais\, CF15 7LD\, United Kingdom
CATEGORIES:Mid Week Worship
ATTACH;FMTTYPE=image/jpeg:https://garthma.wales/wp-content/uploads/2023/08/St-Michaels-Patronal-festival-scaled.jpg
END:VEVENT
BEGIN:VEVENT
DTSTART;TZID=Europe/London:20300505T093000
DTEND;TZID=Europe/London:20300505T103000
DTSTAMP:20260420T174507
CREATED:20230130T182546Z
LAST-MODIFIED:20251108T122357Z
UID:10011419-1904203800-1904207400@garthma.wales
SUMMARY:Holy Eucharist - St Michael & All Angels
DESCRIPTION:We would love you to come and join us for this Holy Eucharist Service at St. Michael & All Angels\, Tongwynlais.
URL:https://garthma.wales/events/sunday-eucharist-5/2030-05-05/
LOCATION:St Michael and All Angels Church\, Tongwynlais\, Merthyr Road\, Tongwynlais\, CF15 7LD\, United Kingdom
ATTACH;FMTTYPE=image/jpeg:https://garthma.wales/wp-content/uploads/2023/08/St-Michaels-Patronal-festival-scaled.jpg
END:VEVENT
BEGIN:VEVENT
DTSTART;TZID=Europe/London:20300508T093000
DTEND;TZID=Europe/London:20300508T103000
DTSTAMP:20260420T174507
CREATED:20250325T114950Z
LAST-MODIFIED:20251108T123953Z
UID:10010982-1904463000-1904466600@garthma.wales
SUMMARY:Holy Eucharist - St Michael & All Angels Church
DESCRIPTION:Holy Eucharist in St Michael and All Angels.
URL:https://garthma.wales/events/midweek-eucharist-2-2/2030-05-08/
LOCATION:St Michael and All Angels Church\, Tongwynlais\, Merthyr Road\, Tongwynlais\, CF15 7LD\, United Kingdom
CATEGORIES:Mid Week Worship
ATTACH;FMTTYPE=image/jpeg:https://garthma.wales/wp-content/uploads/2023/08/St-Michaels-Patronal-festival-scaled.jpg
END:VEVENT
BEGIN:VEVENT
DTSTART;TZID=Europe/London:20300515T093000
DTEND;TZID=Europe/London:20300515T103000
DTSTAMP:20260420T174507
CREATED:20250325T114950Z
LAST-MODIFIED:20251108T123953Z
UID:10010983-1905067800-1905071400@garthma.wales
SUMMARY:Holy Eucharist - St Michael & All Angels Church
DESCRIPTION:Holy Eucharist in St Michael and All Angels.
URL:https://garthma.wales/events/midweek-eucharist-2-2/2030-05-15/
LOCATION:St Michael and All Angels Church\, Tongwynlais\, Merthyr Road\, Tongwynlais\, CF15 7LD\, United Kingdom
CATEGORIES:Mid Week Worship
ATTACH;FMTTYPE=image/jpeg:https://garthma.wales/wp-content/uploads/2023/08/St-Michaels-Patronal-festival-scaled.jpg
END:VEVENT
BEGIN:VEVENT
DTSTART;TZID=Europe/London:20300519T093000
DTEND;TZID=Europe/London:20300519T103000
DTSTAMP:20260420T174507
CREATED:20230130T182546Z
LAST-MODIFIED:20251108T122357Z
UID:10011420-1905413400-1905417000@garthma.wales
SUMMARY:Holy Eucharist - St Michael & All Angels
DESCRIPTION:We would love you to come and join us for this Holy Eucharist Service at St. Michael & All Angels\, Tongwynlais.
URL:https://garthma.wales/events/sunday-eucharist-5/2030-05-19/
LOCATION:St Michael and All Angels Church\, Tongwynlais\, Merthyr Road\, Tongwynlais\, CF15 7LD\, United Kingdom
ATTACH;FMTTYPE=image/jpeg:https://garthma.wales/wp-content/uploads/2023/08/St-Michaels-Patronal-festival-scaled.jpg
END:VEVENT
BEGIN:VEVENT
DTSTART;TZID=Europe/London:20300522T093000
DTEND;TZID=Europe/London:20300522T103000
DTSTAMP:20260420T174507
CREATED:20250325T114950Z
LAST-MODIFIED:20251108T123953Z
UID:10010984-1905672600-1905676200@garthma.wales
SUMMARY:Holy Eucharist - St Michael & All Angels Church
DESCRIPTION:Holy Eucharist in St Michael and All Angels.
URL:https://garthma.wales/events/midweek-eucharist-2-2/2030-05-22/
LOCATION:St Michael and All Angels Church\, Tongwynlais\, Merthyr Road\, Tongwynlais\, CF15 7LD\, United Kingdom
CATEGORIES:Mid Week Worship
ATTACH;FMTTYPE=image/jpeg:https://garthma.wales/wp-content/uploads/2023/08/St-Michaels-Patronal-festival-scaled.jpg
END:VEVENT
BEGIN:VEVENT
DTSTART;TZID=Europe/London:20300526T093000
DTEND;TZID=Europe/London:20300526T103000
DTSTAMP:20260420T174507
CREATED:20230130T182546Z
LAST-MODIFIED:20251108T122357Z
UID:10011421-1906018200-1906021800@garthma.wales
SUMMARY:Holy Eucharist - St Michael & All Angels
DESCRIPTION:We would love you to come and join us for this Holy Eucharist Service at St. Michael & All Angels\, Tongwynlais.
URL:https://garthma.wales/events/sunday-eucharist-5/2030-05-26/
LOCATION:St Michael and All Angels Church\, Tongwynlais\, Merthyr Road\, Tongwynlais\, CF15 7LD\, United Kingdom
ATTACH;FMTTYPE=image/jpeg:https://garthma.wales/wp-content/uploads/2023/08/St-Michaels-Patronal-festival-scaled.jpg
END:VEVENT
BEGIN:VEVENT
DTSTART;TZID=Europe/London:20300529T093000
DTEND;TZID=Europe/London:20300529T103000
DTSTAMP:20260420T174507
CREATED:20250325T114950Z
LAST-MODIFIED:20251108T123953Z
UID:10010985-1906277400-1906281000@garthma.wales
SUMMARY:Holy Eucharist - St Michael & All Angels Church
DESCRIPTION:Holy Eucharist in St Michael and All Angels.
URL:https://garthma.wales/events/midweek-eucharist-2-2/2030-05-29/
LOCATION:St Michael and All Angels Church\, Tongwynlais\, Merthyr Road\, Tongwynlais\, CF15 7LD\, United Kingdom
CATEGORIES:Mid Week Worship
ATTACH;FMTTYPE=image/jpeg:https://garthma.wales/wp-content/uploads/2023/08/St-Michaels-Patronal-festival-scaled.jpg
END:VEVENT
BEGIN:VEVENT
DTSTART;TZID=Europe/London:20300602T093000
DTEND;TZID=Europe/London:20300602T103000
DTSTAMP:20260420T174507
CREATED:20230130T182546Z
LAST-MODIFIED:20251108T122357Z
UID:10011422-1906623000-1906626600@garthma.wales
SUMMARY:Holy Eucharist - St Michael & All Angels
DESCRIPTION:We would love you to come and join us for this Holy Eucharist Service at St. Michael & All Angels\, Tongwynlais.
URL:https://garthma.wales/events/sunday-eucharist-5/2030-06-02/
LOCATION:St Michael and All Angels Church\, Tongwynlais\, Merthyr Road\, Tongwynlais\, CF15 7LD\, United Kingdom
ATTACH;FMTTYPE=image/jpeg:https://garthma.wales/wp-content/uploads/2023/08/St-Michaels-Patronal-festival-scaled.jpg
END:VEVENT
END:VCALENDAR