BEGIN:VCALENDAR
VERSION:2.0
PRODID:-//The Garth Ministry Area - ECPv6.15.20//NONSGML v1.0//EN
CALSCALE:GREGORIAN
METHOD:PUBLISH
X-ORIGINAL-URL:https://garthma.wales
X-WR-CALDESC:Events for The Garth Ministry Area
REFRESH-INTERVAL;VALUE=DURATION:PT1H
X-Robots-Tag:noindex
X-PUBLISHED-TTL:PT1H
BEGIN:VTIMEZONE
TZID:Europe/London
BEGIN:DAYLIGHT
TZOFFSETFROM:+0000
TZOFFSETTO:+0100
TZNAME:BST
DTSTART:20240331T010000
END:DAYLIGHT
BEGIN:STANDARD
TZOFFSETFROM:+0100
TZOFFSETTO:+0000
TZNAME:GMT
DTSTART:20241027T010000
END:STANDARD
BEGIN:DAYLIGHT
TZOFFSETFROM:+0000
TZOFFSETTO:+0100
TZNAME:BST
DTSTART:20250330T010000
END:DAYLIGHT
BEGIN:STANDARD
TZOFFSETFROM:+0100
TZOFFSETTO:+0000
TZNAME:GMT
DTSTART:20251026T010000
END:STANDARD
BEGIN:DAYLIGHT
TZOFFSETFROM:+0000
TZOFFSETTO:+0100
TZNAME:BST
DTSTART:20260329T010000
END:DAYLIGHT
BEGIN:STANDARD
TZOFFSETFROM:+0100
TZOFFSETTO:+0000
TZNAME:GMT
DTSTART:20261025T010000
END:STANDARD
END:VTIMEZONE
BEGIN:VEVENT
DTSTART;TZID=Europe/London:20250720T110000
DTEND;TZID=Europe/London:20250720T120000
DTSTAMP:20260421T023650
CREATED:20230130T182656Z
LAST-MODIFIED:20251108T122831Z
UID:10005525-1753009200-1753012800@garthma.wales
SUMMARY:Holy Eucharist - St. Mary & St James Church
DESCRIPTION:Please join us for our Holy Eucharist Service at St. Mary and St. James’ Church\, Taffs Well.
URL:https://garthma.wales/events/sunday-eucharist-6/2025-07-20/
LOCATION:St Mary & St James Church\, Taff’s Well\, Church Street\, Taffs Well\, CF15 7PG\, United Kingdom
CATEGORIES:Sunday Worship
ATTACH;FMTTYPE=image/jpeg:https://garthma.wales/wp-content/uploads/2023/07/candle-rotated.jpg
END:VEVENT
BEGIN:VEVENT
DTSTART;TZID=Europe/London:20250717T181500
DTEND;TZID=Europe/London:20250717T210000
DTSTAMP:20260421T023650
CREATED:20250626T113156Z
LAST-MODIFIED:20250703T083006Z
UID:10010964-1752776100-1752786000@garthma.wales
SUMMARY:Feast of St James Service and Fish and Chip Supper
DESCRIPTION:A short service to commemorate the life of one of our Church’s named Saints followed by our annual fish and chip supper and a quiz. \nTea\, coffee and juice will be available\, but feel free to bring along anything else you wish to drink. Dessert will be provided. Everyone welcome! \n17 July 2025 at St Mary and St James’ Church\, Taffs Well. Service at 6.15pm\, Quiz part 1 at 6.45pm\, Supper at 7.30pm\, Quiz part 2 after supper. \nSign up and order from the menu at the back of the church by 13 July 2025.
URL:https://garthma.wales/events/feast-of-st-james-service-and-fish-and-chip-supper/
LOCATION:St Mary & St James Church\, Taff’s Well\, Church Street\, Taffs Well\, CF15 7PG\, United Kingdom
ATTACH;FMTTYPE=image/png:https://garthma.wales/wp-content/uploads/2025/06/Saint-James-the-Greater-Apostle-Colored-e1750936107269.png
END:VEVENT
BEGIN:VEVENT
DTSTART;TZID=Europe/London:20250715T100000
DTEND;TZID=Europe/London:20250715T110000
DTSTAMP:20260421T023650
CREATED:20240306T201615Z
LAST-MODIFIED:20251108T123655Z
UID:10008266-1752573600-1752577200@garthma.wales
SUMMARY:Holy Eucharist - St Mary & St. James
DESCRIPTION:Please join us for our Holy Eucharist Service at St. Mary and St. James’ Church\, Taffs Well.
URL:https://garthma.wales/events/midweek-eucharist-3-2-2/2025-07-15/
LOCATION:St Mary & St James Church\, Taff’s Well\, Church Street\, Taffs Well\, CF15 7PG\, United Kingdom
CATEGORIES:Mid Week Worship
ATTACH;FMTTYPE=image/jpeg:https://garthma.wales/wp-content/uploads/2023/07/candle-rotated.jpg
END:VEVENT
BEGIN:VEVENT
DTSTART;TZID=Europe/London:20250713T110000
DTEND;TZID=Europe/London:20250713T120000
DTSTAMP:20260421T023650
CREATED:20230130T182656Z
LAST-MODIFIED:20251108T122831Z
UID:10005524-1752404400-1752408000@garthma.wales
SUMMARY:Holy Eucharist - St. Mary & St James Church
DESCRIPTION:Please join us for our Holy Eucharist Service at St. Mary and St. James’ Church\, Taffs Well.
URL:https://garthma.wales/events/sunday-eucharist-6/2025-07-13/
LOCATION:St Mary & St James Church\, Taff’s Well\, Church Street\, Taffs Well\, CF15 7PG\, United Kingdom
CATEGORIES:Sunday Worship
ATTACH;FMTTYPE=image/jpeg:https://garthma.wales/wp-content/uploads/2023/07/candle-rotated.jpg
END:VEVENT
BEGIN:VEVENT
DTSTART;TZID=Europe/London:20250708T100000
DTEND;TZID=Europe/London:20250708T110000
DTSTAMP:20260421T023650
CREATED:20240306T201615Z
LAST-MODIFIED:20251108T123655Z
UID:10008265-1751968800-1751972400@garthma.wales
SUMMARY:Holy Eucharist - St Mary & St. James
DESCRIPTION:Please join us for our Holy Eucharist Service at St. Mary and St. James’ Church\, Taffs Well.
URL:https://garthma.wales/events/midweek-eucharist-3-2-2/2025-07-08/
LOCATION:St Mary & St James Church\, Taff’s Well\, Church Street\, Taffs Well\, CF15 7PG\, United Kingdom
CATEGORIES:Mid Week Worship
ATTACH;FMTTYPE=image/jpeg:https://garthma.wales/wp-content/uploads/2023/07/candle-rotated.jpg
END:VEVENT
BEGIN:VEVENT
DTSTART;TZID=Europe/London:20250706T110000
DTEND;TZID=Europe/London:20250706T120000
DTSTAMP:20260421T023650
CREATED:20230130T182656Z
LAST-MODIFIED:20251108T122831Z
UID:10005523-1751799600-1751803200@garthma.wales
SUMMARY:Holy Eucharist - St. Mary & St James Church
DESCRIPTION:Please join us for our Holy Eucharist Service at St. Mary and St. James’ Church\, Taffs Well.
URL:https://garthma.wales/events/sunday-eucharist-6/2025-07-06/
LOCATION:St Mary & St James Church\, Taff’s Well\, Church Street\, Taffs Well\, CF15 7PG\, United Kingdom
CATEGORIES:Sunday Worship
ATTACH;FMTTYPE=image/jpeg:https://garthma.wales/wp-content/uploads/2023/07/candle-rotated.jpg
END:VEVENT
BEGIN:VEVENT
DTSTART;TZID=Europe/London:20250701T100000
DTEND;TZID=Europe/London:20250701T110000
DTSTAMP:20260421T023650
CREATED:20240306T201615Z
LAST-MODIFIED:20251108T123655Z
UID:10008264-1751364000-1751367600@garthma.wales
SUMMARY:Holy Eucharist - St Mary & St. James
DESCRIPTION:Please join us for our Holy Eucharist Service at St. Mary and St. James’ Church\, Taffs Well.
URL:https://garthma.wales/events/midweek-eucharist-3-2-2/2025-07-01/
LOCATION:St Mary & St James Church\, Taff’s Well\, Church Street\, Taffs Well\, CF15 7PG\, United Kingdom
CATEGORIES:Mid Week Worship
ATTACH;FMTTYPE=image/jpeg:https://garthma.wales/wp-content/uploads/2023/07/candle-rotated.jpg
END:VEVENT
BEGIN:VEVENT
DTSTART;TZID=Europe/London:20250629T110000
DTEND;TZID=Europe/London:20250629T120000
DTSTAMP:20260421T023650
CREATED:20230130T182656Z
LAST-MODIFIED:20251108T122831Z
UID:10005522-1751194800-1751198400@garthma.wales
SUMMARY:Holy Eucharist - St. Mary & St James Church
DESCRIPTION:Please join us for our Holy Eucharist Service at St. Mary and St. James’ Church\, Taffs Well.
URL:https://garthma.wales/events/sunday-eucharist-6/2025-06-29/
LOCATION:St Mary & St James Church\, Taff’s Well\, Church Street\, Taffs Well\, CF15 7PG\, United Kingdom
CATEGORIES:Sunday Worship
ATTACH;FMTTYPE=image/jpeg:https://garthma.wales/wp-content/uploads/2023/07/candle-rotated.jpg
END:VEVENT
BEGIN:VEVENT
DTSTART;TZID=Europe/London:20250624T100000
DTEND;TZID=Europe/London:20250624T110000
DTSTAMP:20260421T023650
CREATED:20240306T201615Z
LAST-MODIFIED:20251108T123655Z
UID:10008263-1750759200-1750762800@garthma.wales
SUMMARY:Holy Eucharist - St Mary & St. James
DESCRIPTION:Please join us for our Holy Eucharist Service at St. Mary and St. James’ Church\, Taffs Well.
URL:https://garthma.wales/events/midweek-eucharist-3-2-2/2025-06-24/
LOCATION:St Mary & St James Church\, Taff’s Well\, Church Street\, Taffs Well\, CF15 7PG\, United Kingdom
CATEGORIES:Mid Week Worship
ATTACH;FMTTYPE=image/jpeg:https://garthma.wales/wp-content/uploads/2023/07/candle-rotated.jpg
END:VEVENT
BEGIN:VEVENT
DTSTART;TZID=Europe/London:20250622T110000
DTEND;TZID=Europe/London:20250622T120000
DTSTAMP:20260421T023650
CREATED:20230130T182656Z
LAST-MODIFIED:20251108T122831Z
UID:10005521-1750590000-1750593600@garthma.wales
SUMMARY:Holy Eucharist - St. Mary & St James Church
DESCRIPTION:Please join us for our Holy Eucharist Service at St. Mary and St. James’ Church\, Taffs Well.
URL:https://garthma.wales/events/sunday-eucharist-6/2025-06-22/
LOCATION:St Mary & St James Church\, Taff’s Well\, Church Street\, Taffs Well\, CF15 7PG\, United Kingdom
CATEGORIES:Sunday Worship
ATTACH;FMTTYPE=image/jpeg:https://garthma.wales/wp-content/uploads/2023/07/candle-rotated.jpg
END:VEVENT
BEGIN:VEVENT
DTSTART;TZID=Europe/London:20250617T100000
DTEND;TZID=Europe/London:20250617T110000
DTSTAMP:20260421T023650
CREATED:20240306T201615Z
LAST-MODIFIED:20251108T123655Z
UID:10008262-1750154400-1750158000@garthma.wales
SUMMARY:Holy Eucharist - St Mary & St. James
DESCRIPTION:Please join us for our Holy Eucharist Service at St. Mary and St. James’ Church\, Taffs Well.
URL:https://garthma.wales/events/midweek-eucharist-3-2-2/2025-06-17/
LOCATION:St Mary & St James Church\, Taff’s Well\, Church Street\, Taffs Well\, CF15 7PG\, United Kingdom
CATEGORIES:Mid Week Worship
ATTACH;FMTTYPE=image/jpeg:https://garthma.wales/wp-content/uploads/2023/07/candle-rotated.jpg
END:VEVENT
BEGIN:VEVENT
DTSTART;TZID=Europe/London:20250615T110000
DTEND;TZID=Europe/London:20250615T120000
DTSTAMP:20260421T023650
CREATED:20230130T182656Z
LAST-MODIFIED:20251108T122831Z
UID:10005520-1749985200-1749988800@garthma.wales
SUMMARY:Holy Eucharist - St. Mary & St James Church
DESCRIPTION:Please join us for our Holy Eucharist Service at St. Mary and St. James’ Church\, Taffs Well.
URL:https://garthma.wales/events/sunday-eucharist-6/2025-06-15/
LOCATION:St Mary & St James Church\, Taff’s Well\, Church Street\, Taffs Well\, CF15 7PG\, United Kingdom
CATEGORIES:Sunday Worship
ATTACH;FMTTYPE=image/jpeg:https://garthma.wales/wp-content/uploads/2023/07/candle-rotated.jpg
END:VEVENT
BEGIN:VEVENT
DTSTART;TZID=Europe/London:20250608T110000
DTEND;TZID=Europe/London:20250608T120000
DTSTAMP:20260421T023650
CREATED:20230130T182656Z
LAST-MODIFIED:20251108T122831Z
UID:10005519-1749380400-1749384000@garthma.wales
SUMMARY:Holy Eucharist - St. Mary & St James Church
DESCRIPTION:Please join us for our Holy Eucharist Service at St. Mary and St. James’ Church\, Taffs Well.
URL:https://garthma.wales/events/sunday-eucharist-6/2025-06-08/
LOCATION:St Mary & St James Church\, Taff’s Well\, Church Street\, Taffs Well\, CF15 7PG\, United Kingdom
CATEGORIES:Sunday Worship
ATTACH;FMTTYPE=image/jpeg:https://garthma.wales/wp-content/uploads/2023/07/candle-rotated.jpg
END:VEVENT
BEGIN:VEVENT
DTSTART;TZID=Europe/London:20250601T110000
DTEND;TZID=Europe/London:20250601T120000
DTSTAMP:20260421T023650
CREATED:20230130T182656Z
LAST-MODIFIED:20251108T122831Z
UID:10005518-1748775600-1748779200@garthma.wales
SUMMARY:Holy Eucharist - St. Mary & St James Church
DESCRIPTION:Please join us for our Holy Eucharist Service at St. Mary and St. James’ Church\, Taffs Well.
URL:https://garthma.wales/events/sunday-eucharist-6/2025-06-01/
LOCATION:St Mary & St James Church\, Taff’s Well\, Church Street\, Taffs Well\, CF15 7PG\, United Kingdom
CATEGORIES:Sunday Worship
ATTACH;FMTTYPE=image/jpeg:https://garthma.wales/wp-content/uploads/2023/07/candle-rotated.jpg
END:VEVENT
BEGIN:VEVENT
DTSTART;TZID=Europe/London:20250527T100000
DTEND;TZID=Europe/London:20250527T110000
DTSTAMP:20260421T023650
CREATED:20240306T201615Z
LAST-MODIFIED:20251108T123655Z
UID:10008259-1748340000-1748343600@garthma.wales
SUMMARY:Holy Eucharist - St Mary & St. James
DESCRIPTION:Please join us for our Holy Eucharist Service at St. Mary and St. James’ Church\, Taffs Well.
URL:https://garthma.wales/events/midweek-eucharist-3-2-2/2025-05-27/
LOCATION:St Mary & St James Church\, Taff’s Well\, Church Street\, Taffs Well\, CF15 7PG\, United Kingdom
CATEGORIES:Mid Week Worship
ATTACH;FMTTYPE=image/jpeg:https://garthma.wales/wp-content/uploads/2023/07/candle-rotated.jpg
END:VEVENT
BEGIN:VEVENT
DTSTART;TZID=Europe/London:20250525T110000
DTEND;TZID=Europe/London:20250525T120000
DTSTAMP:20260421T023650
CREATED:20230130T182656Z
LAST-MODIFIED:20251108T122831Z
UID:10005517-1748170800-1748174400@garthma.wales
SUMMARY:Holy Eucharist - St. Mary & St James Church
DESCRIPTION:Please join us for our Holy Eucharist Service at St. Mary and St. James’ Church\, Taffs Well.
URL:https://garthma.wales/events/sunday-eucharist-6/2025-05-25/
LOCATION:St Mary & St James Church\, Taff’s Well\, Church Street\, Taffs Well\, CF15 7PG\, United Kingdom
CATEGORIES:Sunday Worship
ATTACH;FMTTYPE=image/jpeg:https://garthma.wales/wp-content/uploads/2023/07/candle-rotated.jpg
END:VEVENT
BEGIN:VEVENT
DTSTART;TZID=Europe/London:20250520T100000
DTEND;TZID=Europe/London:20250520T110000
DTSTAMP:20260421T023650
CREATED:20240306T201615Z
LAST-MODIFIED:20251108T123655Z
UID:10008258-1747735200-1747738800@garthma.wales
SUMMARY:Holy Eucharist - St Mary & St. James
DESCRIPTION:Please join us for our Holy Eucharist Service at St. Mary and St. James’ Church\, Taffs Well.
URL:https://garthma.wales/events/midweek-eucharist-3-2-2/2025-05-20/
LOCATION:St Mary & St James Church\, Taff’s Well\, Church Street\, Taffs Well\, CF15 7PG\, United Kingdom
CATEGORIES:Mid Week Worship
ATTACH;FMTTYPE=image/jpeg:https://garthma.wales/wp-content/uploads/2023/07/candle-rotated.jpg
END:VEVENT
BEGIN:VEVENT
DTSTART;TZID=Europe/London:20250518T110000
DTEND;TZID=Europe/London:20250518T120000
DTSTAMP:20260421T023650
CREATED:20230130T182656Z
LAST-MODIFIED:20251108T122831Z
UID:10005516-1747566000-1747569600@garthma.wales
SUMMARY:Holy Eucharist - St. Mary & St James Church
DESCRIPTION:Please join us for our Holy Eucharist Service at St. Mary and St. James’ Church\, Taffs Well.
URL:https://garthma.wales/events/sunday-eucharist-6/2025-05-18/
LOCATION:St Mary & St James Church\, Taff’s Well\, Church Street\, Taffs Well\, CF15 7PG\, United Kingdom
CATEGORIES:Sunday Worship
ATTACH;FMTTYPE=image/jpeg:https://garthma.wales/wp-content/uploads/2023/07/candle-rotated.jpg
END:VEVENT
BEGIN:VEVENT
DTSTART;TZID=Europe/London:20250513T100000
DTEND;TZID=Europe/London:20250513T110000
DTSTAMP:20260421T023650
CREATED:20240306T201615Z
LAST-MODIFIED:20251108T123655Z
UID:10008257-1747130400-1747134000@garthma.wales
SUMMARY:Holy Eucharist - St Mary & St. James
DESCRIPTION:Please join us for our Holy Eucharist Service at St. Mary and St. James’ Church\, Taffs Well.
URL:https://garthma.wales/events/midweek-eucharist-3-2-2/2025-05-13/
LOCATION:St Mary & St James Church\, Taff’s Well\, Church Street\, Taffs Well\, CF15 7PG\, United Kingdom
CATEGORIES:Mid Week Worship
ATTACH;FMTTYPE=image/jpeg:https://garthma.wales/wp-content/uploads/2023/07/candle-rotated.jpg
END:VEVENT
BEGIN:VEVENT
DTSTART;TZID=Europe/London:20250511T110000
DTEND;TZID=Europe/London:20250511T120000
DTSTAMP:20260421T023650
CREATED:20230130T182656Z
LAST-MODIFIED:20251108T122831Z
UID:10005515-1746961200-1746964800@garthma.wales
SUMMARY:Holy Eucharist - St. Mary & St James Church
DESCRIPTION:Please join us for our Holy Eucharist Service at St. Mary and St. James’ Church\, Taffs Well.
URL:https://garthma.wales/events/sunday-eucharist-6/2025-05-11/
LOCATION:St Mary & St James Church\, Taff’s Well\, Church Street\, Taffs Well\, CF15 7PG\, United Kingdom
CATEGORIES:Sunday Worship
ATTACH;FMTTYPE=image/jpeg:https://garthma.wales/wp-content/uploads/2023/07/candle-rotated.jpg
END:VEVENT
BEGIN:VEVENT
DTSTART;TZID=Europe/London:20250506T100000
DTEND;TZID=Europe/London:20250506T110000
DTSTAMP:20260421T023650
CREATED:20240306T201615Z
LAST-MODIFIED:20251108T123655Z
UID:10008256-1746525600-1746529200@garthma.wales
SUMMARY:Holy Eucharist - St Mary & St. James
DESCRIPTION:Please join us for our Holy Eucharist Service at St. Mary and St. James’ Church\, Taffs Well.
URL:https://garthma.wales/events/midweek-eucharist-3-2-2/2025-05-06/
LOCATION:St Mary & St James Church\, Taff’s Well\, Church Street\, Taffs Well\, CF15 7PG\, United Kingdom
CATEGORIES:Mid Week Worship
ATTACH;FMTTYPE=image/jpeg:https://garthma.wales/wp-content/uploads/2023/07/candle-rotated.jpg
END:VEVENT
BEGIN:VEVENT
DTSTART;TZID=Europe/London:20250429T100000
DTEND;TZID=Europe/London:20250429T110000
DTSTAMP:20260421T023650
CREATED:20240306T201615Z
LAST-MODIFIED:20251108T123655Z
UID:10008255-1745920800-1745924400@garthma.wales
SUMMARY:Holy Eucharist - St Mary & St. James
DESCRIPTION:Please join us for our Holy Eucharist Service at St. Mary and St. James’ Church\, Taffs Well.
URL:https://garthma.wales/events/midweek-eucharist-3-2-2/2025-04-29/
LOCATION:St Mary & St James Church\, Taff’s Well\, Church Street\, Taffs Well\, CF15 7PG\, United Kingdom
CATEGORIES:Mid Week Worship
ATTACH;FMTTYPE=image/jpeg:https://garthma.wales/wp-content/uploads/2023/07/candle-rotated.jpg
END:VEVENT
BEGIN:VEVENT
DTSTART;TZID=Europe/London:20250427T110000
DTEND;TZID=Europe/London:20250427T120000
DTSTAMP:20260421T023650
CREATED:20230130T182656Z
LAST-MODIFIED:20251108T122831Z
UID:10005513-1745751600-1745755200@garthma.wales
SUMMARY:Holy Eucharist - St. Mary & St James Church
DESCRIPTION:Please join us for our Holy Eucharist Service at St. Mary and St. James’ Church\, Taffs Well.
URL:https://garthma.wales/events/sunday-eucharist-6/2025-04-27/
LOCATION:St Mary & St James Church\, Taff’s Well\, Church Street\, Taffs Well\, CF15 7PG\, United Kingdom
CATEGORIES:Sunday Worship
ATTACH;FMTTYPE=image/jpeg:https://garthma.wales/wp-content/uploads/2023/07/candle-rotated.jpg
END:VEVENT
BEGIN:VEVENT
DTSTART;TZID=Europe/London:20250420T110000
DTEND;TZID=Europe/London:20250420T120000
DTSTAMP:20260421T023650
CREATED:20230130T182656Z
LAST-MODIFIED:20251108T122831Z
UID:10005512-1745146800-1745150400@garthma.wales
SUMMARY:Holy Eucharist - St. Mary & St James Church
DESCRIPTION:Please join us for our Holy Eucharist Service at St. Mary and St. James’ Church\, Taffs Well.
URL:https://garthma.wales/events/sunday-eucharist-6/2025-04-20/
LOCATION:St Mary & St James Church\, Taff’s Well\, Church Street\, Taffs Well\, CF15 7PG\, United Kingdom
CATEGORIES:Sunday Worship
ATTACH;FMTTYPE=image/jpeg:https://garthma.wales/wp-content/uploads/2023/07/candle-rotated.jpg
END:VEVENT
BEGIN:VEVENT
DTSTART;TZID=Europe/London:20250415T100000
DTEND;TZID=Europe/London:20250415T110000
DTSTAMP:20260421T023650
CREATED:20240306T201615Z
LAST-MODIFIED:20251108T123655Z
UID:10008253-1744711200-1744714800@garthma.wales
SUMMARY:Holy Eucharist - St Mary & St. James
DESCRIPTION:Please join us for our Holy Eucharist Service at St. Mary and St. James’ Church\, Taffs Well.
URL:https://garthma.wales/events/midweek-eucharist-3-2-2/2025-04-15/
LOCATION:St Mary & St James Church\, Taff’s Well\, Church Street\, Taffs Well\, CF15 7PG\, United Kingdom
CATEGORIES:Mid Week Worship
ATTACH;FMTTYPE=image/jpeg:https://garthma.wales/wp-content/uploads/2023/07/candle-rotated.jpg
END:VEVENT
BEGIN:VEVENT
DTSTART;TZID=Europe/London:20250413T110000
DTEND;TZID=Europe/London:20250413T120000
DTSTAMP:20260421T023650
CREATED:20230130T182656Z
LAST-MODIFIED:20251108T122831Z
UID:10005511-1744542000-1744545600@garthma.wales
SUMMARY:Holy Eucharist - St. Mary & St James Church
DESCRIPTION:Please join us for our Holy Eucharist Service at St. Mary and St. James’ Church\, Taffs Well.
URL:https://garthma.wales/events/sunday-eucharist-6/2025-04-13/
LOCATION:St Mary & St James Church\, Taff’s Well\, Church Street\, Taffs Well\, CF15 7PG\, United Kingdom
CATEGORIES:Sunday Worship
ATTACH;FMTTYPE=image/jpeg:https://garthma.wales/wp-content/uploads/2023/07/candle-rotated.jpg
END:VEVENT
BEGIN:VEVENT
DTSTART;TZID=Europe/London:20250408T100000
DTEND;TZID=Europe/London:20250408T110000
DTSTAMP:20260421T023650
CREATED:20240306T201615Z
LAST-MODIFIED:20251108T123655Z
UID:10008252-1744106400-1744110000@garthma.wales
SUMMARY:Holy Eucharist - St Mary & St. James
DESCRIPTION:Please join us for our Holy Eucharist Service at St. Mary and St. James’ Church\, Taffs Well.
URL:https://garthma.wales/events/midweek-eucharist-3-2-2/2025-04-08/
LOCATION:St Mary & St James Church\, Taff’s Well\, Church Street\, Taffs Well\, CF15 7PG\, United Kingdom
CATEGORIES:Mid Week Worship
ATTACH;FMTTYPE=image/jpeg:https://garthma.wales/wp-content/uploads/2023/07/candle-rotated.jpg
END:VEVENT
BEGIN:VEVENT
DTSTART;TZID=Europe/London:20250406T110000
DTEND;TZID=Europe/London:20250406T120000
DTSTAMP:20260421T023650
CREATED:20230130T182656Z
LAST-MODIFIED:20251108T122831Z
UID:10005510-1743937200-1743940800@garthma.wales
SUMMARY:Holy Eucharist - St. Mary & St James Church
DESCRIPTION:Please join us for our Holy Eucharist Service at St. Mary and St. James’ Church\, Taffs Well.
URL:https://garthma.wales/events/sunday-eucharist-6/2025-04-06/
LOCATION:St Mary & St James Church\, Taff’s Well\, Church Street\, Taffs Well\, CF15 7PG\, United Kingdom
CATEGORIES:Sunday Worship
ATTACH;FMTTYPE=image/jpeg:https://garthma.wales/wp-content/uploads/2023/07/candle-rotated.jpg
END:VEVENT
BEGIN:VEVENT
DTSTART;TZID=Europe/London:20250401T100000
DTEND;TZID=Europe/London:20250401T110000
DTSTAMP:20260421T023650
CREATED:20240306T201615Z
LAST-MODIFIED:20251108T123655Z
UID:10008251-1743501600-1743505200@garthma.wales
SUMMARY:Holy Eucharist - St Mary & St. James
DESCRIPTION:Please join us for our Holy Eucharist Service at St. Mary and St. James’ Church\, Taffs Well.
URL:https://garthma.wales/events/midweek-eucharist-3-2-2/2025-04-01/
LOCATION:St Mary & St James Church\, Taff’s Well\, Church Street\, Taffs Well\, CF15 7PG\, United Kingdom
CATEGORIES:Mid Week Worship
ATTACH;FMTTYPE=image/jpeg:https://garthma.wales/wp-content/uploads/2023/07/candle-rotated.jpg
END:VEVENT
BEGIN:VEVENT
DTSTART;TZID=Europe/London:20250330T110000
DTEND;TZID=Europe/London:20250330T120000
DTSTAMP:20260421T023650
CREATED:20230130T182656Z
LAST-MODIFIED:20251108T122831Z
UID:10005509-1743332400-1743336000@garthma.wales
SUMMARY:Holy Eucharist - St. Mary & St James Church
DESCRIPTION:Please join us for our Holy Eucharist Service at St. Mary and St. James’ Church\, Taffs Well.
URL:https://garthma.wales/events/sunday-eucharist-6/2025-03-30/
LOCATION:St Mary & St James Church\, Taff’s Well\, Church Street\, Taffs Well\, CF15 7PG\, United Kingdom
CATEGORIES:Sunday Worship
ATTACH;FMTTYPE=image/jpeg:https://garthma.wales/wp-content/uploads/2023/07/candle-rotated.jpg
END:VEVENT
END:VCALENDAR