BEGIN:VCALENDAR
VERSION:2.0
PRODID:-//The Garth Ministry Area - ECPv6.15.20//NONSGML v1.0//EN
CALSCALE:GREGORIAN
METHOD:PUBLISH
X-WR-CALNAME:The Garth Ministry Area
X-ORIGINAL-URL:https://garthma.wales
X-WR-CALDESC:Events for The Garth Ministry Area
REFRESH-INTERVAL;VALUE=DURATION:PT1H
X-Robots-Tag:noindex
X-PUBLISHED-TTL:PT1H
BEGIN:VTIMEZONE
TZID:Europe/London
BEGIN:DAYLIGHT
TZOFFSETFROM:+0000
TZOFFSETTO:+0100
TZNAME:BST
DTSTART:20240331T010000
END:DAYLIGHT
BEGIN:STANDARD
TZOFFSETFROM:+0100
TZOFFSETTO:+0000
TZNAME:GMT
DTSTART:20241027T010000
END:STANDARD
BEGIN:DAYLIGHT
TZOFFSETFROM:+0000
TZOFFSETTO:+0100
TZNAME:BST
DTSTART:20250330T010000
END:DAYLIGHT
BEGIN:STANDARD
TZOFFSETFROM:+0100
TZOFFSETTO:+0000
TZNAME:GMT
DTSTART:20251026T010000
END:STANDARD
BEGIN:DAYLIGHT
TZOFFSETFROM:+0000
TZOFFSETTO:+0100
TZNAME:BST
DTSTART:20260329T010000
END:DAYLIGHT
BEGIN:STANDARD
TZOFFSETFROM:+0100
TZOFFSETTO:+0000
TZNAME:GMT
DTSTART:20261025T010000
END:STANDARD
END:VTIMEZONE
BEGIN:VEVENT
DTSTART;TZID=Europe/London:20251019T110000
DTEND;TZID=Europe/London:20251019T120000
DTSTAMP:20260420T205337
CREATED:20230130T182656Z
LAST-MODIFIED:20251108T122831Z
UID:10005538-1760871600-1760875200@garthma.wales
SUMMARY:Holy Eucharist - St. Mary & St James Church
DESCRIPTION:Please join us for our Holy Eucharist Service at St. Mary and St. James’ Church\, Taffs Well.
URL:https://garthma.wales/events/sunday-eucharist-6/2025-10-19/
LOCATION:St Mary & St James Church\, Taff’s Well\, Church Street\, Taffs Well\, CF15 7PG\, United Kingdom
CATEGORIES:Sunday Worship
ATTACH;FMTTYPE=image/jpeg:https://garthma.wales/wp-content/uploads/2023/07/candle-rotated.jpg
END:VEVENT
BEGIN:VEVENT
DTSTART;TZID=Europe/London:20251014T100000
DTEND;TZID=Europe/London:20251014T110000
DTSTAMP:20260420T205337
CREATED:20240306T201615Z
LAST-MODIFIED:20251108T123655Z
UID:10008279-1760436000-1760439600@garthma.wales
SUMMARY:Holy Eucharist - St Mary & St. James
DESCRIPTION:Please join us for our Holy Eucharist Service at St. Mary and St. James’ Church\, Taffs Well.
URL:https://garthma.wales/events/midweek-eucharist-3-2-2/2025-10-14/
LOCATION:St Mary & St James Church\, Taff’s Well\, Church Street\, Taffs Well\, CF15 7PG\, United Kingdom
CATEGORIES:Mid Week Worship
ATTACH;FMTTYPE=image/jpeg:https://garthma.wales/wp-content/uploads/2023/07/candle-rotated.jpg
END:VEVENT
BEGIN:VEVENT
DTSTART;TZID=Europe/London:20251012T110000
DTEND;TZID=Europe/London:20251012T120000
DTSTAMP:20260420T205337
CREATED:20230130T182656Z
LAST-MODIFIED:20251108T122831Z
UID:10005537-1760266800-1760270400@garthma.wales
SUMMARY:Holy Eucharist - St. Mary & St James Church
DESCRIPTION:Please join us for our Holy Eucharist Service at St. Mary and St. James’ Church\, Taffs Well.
URL:https://garthma.wales/events/sunday-eucharist-6/2025-10-12/
LOCATION:St Mary & St James Church\, Taff’s Well\, Church Street\, Taffs Well\, CF15 7PG\, United Kingdom
CATEGORIES:Sunday Worship
ATTACH;FMTTYPE=image/jpeg:https://garthma.wales/wp-content/uploads/2023/07/candle-rotated.jpg
END:VEVENT
BEGIN:VEVENT
DTSTART;TZID=Europe/London:20251005T110000
DTEND;TZID=Europe/London:20251005T120000
DTSTAMP:20260420T205337
CREATED:20230130T182656Z
LAST-MODIFIED:20251108T122831Z
UID:10005536-1759662000-1759665600@garthma.wales
SUMMARY:Holy Eucharist - St. Mary & St James Church
DESCRIPTION:Please join us for our Holy Eucharist Service at St. Mary and St. James’ Church\, Taffs Well.
URL:https://garthma.wales/events/sunday-eucharist-6/2025-10-05/
LOCATION:St Mary & St James Church\, Taff’s Well\, Church Street\, Taffs Well\, CF15 7PG\, United Kingdom
CATEGORIES:Sunday Worship
ATTACH;FMTTYPE=image/jpeg:https://garthma.wales/wp-content/uploads/2023/07/candle-rotated.jpg
END:VEVENT
BEGIN:VEVENT
DTSTART;TZID=Europe/London:20250928T110000
DTEND;TZID=Europe/London:20250928T120000
DTSTAMP:20260420T205337
CREATED:20230130T182656Z
LAST-MODIFIED:20251108T122831Z
UID:10005535-1759057200-1759060800@garthma.wales
SUMMARY:Holy Eucharist - St. Mary & St James Church
DESCRIPTION:Please join us for our Holy Eucharist Service at St. Mary and St. James’ Church\, Taffs Well.
URL:https://garthma.wales/events/sunday-eucharist-6/2025-09-28/
LOCATION:St Mary & St James Church\, Taff’s Well\, Church Street\, Taffs Well\, CF15 7PG\, United Kingdom
CATEGORIES:Sunday Worship
ATTACH;FMTTYPE=image/jpeg:https://garthma.wales/wp-content/uploads/2023/07/candle-rotated.jpg
END:VEVENT
BEGIN:VEVENT
DTSTART;TZID=Europe/London:20250923T100000
DTEND;TZID=Europe/London:20250923T110000
DTSTAMP:20260420T205337
CREATED:20240306T201615Z
LAST-MODIFIED:20251108T123655Z
UID:10008276-1758621600-1758625200@garthma.wales
SUMMARY:Holy Eucharist - St Mary & St. James
DESCRIPTION:Please join us for our Holy Eucharist Service at St. Mary and St. James’ Church\, Taffs Well.
URL:https://garthma.wales/events/midweek-eucharist-3-2-2/2025-09-23/
LOCATION:St Mary & St James Church\, Taff’s Well\, Church Street\, Taffs Well\, CF15 7PG\, United Kingdom
CATEGORIES:Mid Week Worship
ATTACH;FMTTYPE=image/jpeg:https://garthma.wales/wp-content/uploads/2023/07/candle-rotated.jpg
END:VEVENT
BEGIN:VEVENT
DTSTART;TZID=Europe/London:20250921T110000
DTEND;TZID=Europe/London:20250921T120000
DTSTAMP:20260420T205337
CREATED:20230130T182656Z
LAST-MODIFIED:20251108T122831Z
UID:10005534-1758452400-1758456000@garthma.wales
SUMMARY:Holy Eucharist - St. Mary & St James Church
DESCRIPTION:Please join us for our Holy Eucharist Service at St. Mary and St. James’ Church\, Taffs Well.
URL:https://garthma.wales/events/sunday-eucharist-6/2025-09-21/
LOCATION:St Mary & St James Church\, Taff’s Well\, Church Street\, Taffs Well\, CF15 7PG\, United Kingdom
CATEGORIES:Sunday Worship
ATTACH;FMTTYPE=image/jpeg:https://garthma.wales/wp-content/uploads/2023/07/candle-rotated.jpg
END:VEVENT
BEGIN:VEVENT
DTSTART;TZID=Europe/London:20250916T100000
DTEND;TZID=Europe/London:20250916T110000
DTSTAMP:20260420T205337
CREATED:20240306T201615Z
LAST-MODIFIED:20251108T123655Z
UID:10008275-1758016800-1758020400@garthma.wales
SUMMARY:Holy Eucharist - St Mary & St. James
DESCRIPTION:Please join us for our Holy Eucharist Service at St. Mary and St. James’ Church\, Taffs Well.
URL:https://garthma.wales/events/midweek-eucharist-3-2-2/2025-09-16/
LOCATION:St Mary & St James Church\, Taff’s Well\, Church Street\, Taffs Well\, CF15 7PG\, United Kingdom
CATEGORIES:Mid Week Worship
ATTACH;FMTTYPE=image/jpeg:https://garthma.wales/wp-content/uploads/2023/07/candle-rotated.jpg
END:VEVENT
BEGIN:VEVENT
DTSTART;TZID=Europe/London:20250914T110000
DTEND;TZID=Europe/London:20250914T120000
DTSTAMP:20260420T205337
CREATED:20230130T182656Z
LAST-MODIFIED:20251108T122831Z
UID:10005533-1757847600-1757851200@garthma.wales
SUMMARY:Holy Eucharist - St. Mary & St James Church
DESCRIPTION:Please join us for our Holy Eucharist Service at St. Mary and St. James’ Church\, Taffs Well.
URL:https://garthma.wales/events/sunday-eucharist-6/2025-09-14/
LOCATION:St Mary & St James Church\, Taff’s Well\, Church Street\, Taffs Well\, CF15 7PG\, United Kingdom
CATEGORIES:Sunday Worship
ATTACH;FMTTYPE=image/jpeg:https://garthma.wales/wp-content/uploads/2023/07/candle-rotated.jpg
END:VEVENT
BEGIN:VEVENT
DTSTART;TZID=Europe/London:20250909T100000
DTEND;TZID=Europe/London:20250909T110000
DTSTAMP:20260420T205337
CREATED:20240306T201615Z
LAST-MODIFIED:20251108T123655Z
UID:10008274-1757412000-1757415600@garthma.wales
SUMMARY:Holy Eucharist - St Mary & St. James
DESCRIPTION:Please join us for our Holy Eucharist Service at St. Mary and St. James’ Church\, Taffs Well.
URL:https://garthma.wales/events/midweek-eucharist-3-2-2/2025-09-09/
LOCATION:St Mary & St James Church\, Taff’s Well\, Church Street\, Taffs Well\, CF15 7PG\, United Kingdom
CATEGORIES:Mid Week Worship
ATTACH;FMTTYPE=image/jpeg:https://garthma.wales/wp-content/uploads/2023/07/candle-rotated.jpg
END:VEVENT
BEGIN:VEVENT
DTSTART;TZID=Europe/London:20250907T110000
DTEND;TZID=Europe/London:20250907T120000
DTSTAMP:20260420T205337
CREATED:20230130T182656Z
LAST-MODIFIED:20251108T122831Z
UID:10005532-1757242800-1757246400@garthma.wales
SUMMARY:Holy Eucharist - St. Mary & St James Church
DESCRIPTION:Please join us for our Holy Eucharist Service at St. Mary and St. James’ Church\, Taffs Well.
URL:https://garthma.wales/events/sunday-eucharist-6/2025-09-07/
LOCATION:St Mary & St James Church\, Taff’s Well\, Church Street\, Taffs Well\, CF15 7PG\, United Kingdom
CATEGORIES:Sunday Worship
ATTACH;FMTTYPE=image/jpeg:https://garthma.wales/wp-content/uploads/2023/07/candle-rotated.jpg
END:VEVENT
BEGIN:VEVENT
DTSTART;TZID=Europe/London:20250902T100000
DTEND;TZID=Europe/London:20250902T110000
DTSTAMP:20260420T205337
CREATED:20240306T201615Z
LAST-MODIFIED:20251108T123655Z
UID:10008273-1756807200-1756810800@garthma.wales
SUMMARY:Holy Eucharist - St Mary & St. James
DESCRIPTION:Please join us for our Holy Eucharist Service at St. Mary and St. James’ Church\, Taffs Well.
URL:https://garthma.wales/events/midweek-eucharist-3-2-2/2025-09-02/
LOCATION:St Mary & St James Church\, Taff’s Well\, Church Street\, Taffs Well\, CF15 7PG\, United Kingdom
CATEGORIES:Mid Week Worship
ATTACH;FMTTYPE=image/jpeg:https://garthma.wales/wp-content/uploads/2023/07/candle-rotated.jpg
END:VEVENT
BEGIN:VEVENT
DTSTART;TZID=Europe/London:20250831T110000
DTEND;TZID=Europe/London:20250831T120000
DTSTAMP:20260420T205337
CREATED:20230130T182656Z
LAST-MODIFIED:20251108T122831Z
UID:10005531-1756638000-1756641600@garthma.wales
SUMMARY:Holy Eucharist - St. Mary & St James Church
DESCRIPTION:Please join us for our Holy Eucharist Service at St. Mary and St. James’ Church\, Taffs Well.
URL:https://garthma.wales/events/sunday-eucharist-6/2025-08-31/
LOCATION:St Mary & St James Church\, Taff’s Well\, Church Street\, Taffs Well\, CF15 7PG\, United Kingdom
CATEGORIES:Sunday Worship
ATTACH;FMTTYPE=image/jpeg:https://garthma.wales/wp-content/uploads/2023/07/candle-rotated.jpg
END:VEVENT
BEGIN:VEVENT
DTSTART;TZID=Europe/London:20250826T100000
DTEND;TZID=Europe/London:20250826T110000
DTSTAMP:20260420T205337
CREATED:20240306T201615Z
LAST-MODIFIED:20251108T123655Z
UID:10008272-1756202400-1756206000@garthma.wales
SUMMARY:Holy Eucharist - St Mary & St. James
DESCRIPTION:Please join us for our Holy Eucharist Service at St. Mary and St. James’ Church\, Taffs Well.
URL:https://garthma.wales/events/midweek-eucharist-3-2-2/2025-08-26/
LOCATION:St Mary & St James Church\, Taff’s Well\, Church Street\, Taffs Well\, CF15 7PG\, United Kingdom
CATEGORIES:Mid Week Worship
ATTACH;FMTTYPE=image/jpeg:https://garthma.wales/wp-content/uploads/2023/07/candle-rotated.jpg
END:VEVENT
BEGIN:VEVENT
DTSTART;TZID=Europe/London:20250824T110000
DTEND;TZID=Europe/London:20250824T120000
DTSTAMP:20260420T205337
CREATED:20230130T182656Z
LAST-MODIFIED:20251108T122831Z
UID:10005530-1756033200-1756036800@garthma.wales
SUMMARY:Holy Eucharist - St. Mary & St James Church
DESCRIPTION:Please join us for our Holy Eucharist Service at St. Mary and St. James’ Church\, Taffs Well.
URL:https://garthma.wales/events/sunday-eucharist-6/2025-08-24/
LOCATION:St Mary & St James Church\, Taff’s Well\, Church Street\, Taffs Well\, CF15 7PG\, United Kingdom
CATEGORIES:Sunday Worship
ATTACH;FMTTYPE=image/jpeg:https://garthma.wales/wp-content/uploads/2023/07/candle-rotated.jpg
END:VEVENT
BEGIN:VEVENT
DTSTART;TZID=Europe/London:20250819T100000
DTEND;TZID=Europe/London:20250819T110000
DTSTAMP:20260420T205337
CREATED:20240306T201615Z
LAST-MODIFIED:20251108T123655Z
UID:10008271-1755597600-1755601200@garthma.wales
SUMMARY:Holy Eucharist - St Mary & St. James
DESCRIPTION:Please join us for our Holy Eucharist Service at St. Mary and St. James’ Church\, Taffs Well.
URL:https://garthma.wales/events/midweek-eucharist-3-2-2/2025-08-19/
LOCATION:St Mary & St James Church\, Taff’s Well\, Church Street\, Taffs Well\, CF15 7PG\, United Kingdom
CATEGORIES:Mid Week Worship
ATTACH;FMTTYPE=image/jpeg:https://garthma.wales/wp-content/uploads/2023/07/candle-rotated.jpg
END:VEVENT
BEGIN:VEVENT
DTSTART;TZID=Europe/London:20250817T110000
DTEND;TZID=Europe/London:20250817T120000
DTSTAMP:20260420T205337
CREATED:20230130T182656Z
LAST-MODIFIED:20251108T122831Z
UID:10005529-1755428400-1755432000@garthma.wales
SUMMARY:Holy Eucharist - St. Mary & St James Church
DESCRIPTION:Please join us for our Holy Eucharist Service at St. Mary and St. James’ Church\, Taffs Well.
URL:https://garthma.wales/events/sunday-eucharist-6/2025-08-17/
LOCATION:St Mary & St James Church\, Taff’s Well\, Church Street\, Taffs Well\, CF15 7PG\, United Kingdom
CATEGORIES:Sunday Worship
ATTACH;FMTTYPE=image/jpeg:https://garthma.wales/wp-content/uploads/2023/07/candle-rotated.jpg
END:VEVENT
BEGIN:VEVENT
DTSTART;TZID=Europe/London:20250812T100000
DTEND;TZID=Europe/London:20250812T110000
DTSTAMP:20260420T205337
CREATED:20240306T201615Z
LAST-MODIFIED:20251108T123655Z
UID:10008270-1754992800-1754996400@garthma.wales
SUMMARY:Holy Eucharist - St Mary & St. James
DESCRIPTION:Please join us for our Holy Eucharist Service at St. Mary and St. James’ Church\, Taffs Well.
URL:https://garthma.wales/events/midweek-eucharist-3-2-2/2025-08-12/
LOCATION:St Mary & St James Church\, Taff’s Well\, Church Street\, Taffs Well\, CF15 7PG\, United Kingdom
CATEGORIES:Mid Week Worship
ATTACH;FMTTYPE=image/jpeg:https://garthma.wales/wp-content/uploads/2023/07/candle-rotated.jpg
END:VEVENT
BEGIN:VEVENT
DTSTART;TZID=Europe/London:20250810T110000
DTEND;TZID=Europe/London:20250810T120000
DTSTAMP:20260420T205337
CREATED:20230819T095244Z
LAST-MODIFIED:20250731T093910Z
UID:10003091-1754823600-1754827200@garthma.wales
SUMMARY:Songs of Praise - St Mary & St James Church
DESCRIPTION:Come and join us as we sing our favourite hymns on Sunday 10 August at 11.00am.
URL:https://garthma.wales/events/songs-of-praise-st-mary-st-james-church/
LOCATION:St Mary & St James Church\, Taff’s Well\, Church Street\, Taffs Well\, CF15 7PG\, United Kingdom
CATEGORIES:Sunday Worship
ATTACH;FMTTYPE=image/png:https://garthma.wales/wp-content/uploads/2025/06/6a6c0fd2247218bbfd5b1f0277f92be2-002.png
END:VEVENT
BEGIN:VEVENT
DTSTART;TZID=Europe/London:20250805T100000
DTEND;TZID=Europe/London:20250805T110000
DTSTAMP:20260420T205338
CREATED:20240306T201615Z
LAST-MODIFIED:20251108T123655Z
UID:10008269-1754388000-1754391600@garthma.wales
SUMMARY:Holy Eucharist - St Mary & St. James
DESCRIPTION:Please join us for our Holy Eucharist Service at St. Mary and St. James’ Church\, Taffs Well.
URL:https://garthma.wales/events/midweek-eucharist-3-2-2/2025-08-05/
LOCATION:St Mary & St James Church\, Taff’s Well\, Church Street\, Taffs Well\, CF15 7PG\, United Kingdom
CATEGORIES:Mid Week Worship
ATTACH;FMTTYPE=image/jpeg:https://garthma.wales/wp-content/uploads/2023/07/candle-rotated.jpg
END:VEVENT
BEGIN:VEVENT
DTSTART;TZID=Europe/London:20250803T110000
DTEND;TZID=Europe/London:20250803T120000
DTSTAMP:20260420T205338
CREATED:20230130T182656Z
LAST-MODIFIED:20251108T122831Z
UID:10005527-1754218800-1754222400@garthma.wales
SUMMARY:Holy Eucharist - St. Mary & St James Church
DESCRIPTION:Please join us for our Holy Eucharist Service at St. Mary and St. James’ Church\, Taffs Well.
URL:https://garthma.wales/events/sunday-eucharist-6/2025-08-03/
LOCATION:St Mary & St James Church\, Taff’s Well\, Church Street\, Taffs Well\, CF15 7PG\, United Kingdom
CATEGORIES:Sunday Worship
ATTACH;FMTTYPE=image/jpeg:https://garthma.wales/wp-content/uploads/2023/07/candle-rotated.jpg
END:VEVENT
BEGIN:VEVENT
DTSTART;TZID=Europe/London:20250729T100000
DTEND;TZID=Europe/London:20250729T110000
DTSTAMP:20260420T205338
CREATED:20240306T201615Z
LAST-MODIFIED:20251108T123655Z
UID:10008268-1753783200-1753786800@garthma.wales
SUMMARY:Holy Eucharist - St Mary & St. James
DESCRIPTION:Please join us for our Holy Eucharist Service at St. Mary and St. James’ Church\, Taffs Well.
URL:https://garthma.wales/events/midweek-eucharist-3-2-2/2025-07-29/
LOCATION:St Mary & St James Church\, Taff’s Well\, Church Street\, Taffs Well\, CF15 7PG\, United Kingdom
CATEGORIES:Mid Week Worship
ATTACH;FMTTYPE=image/jpeg:https://garthma.wales/wp-content/uploads/2023/07/candle-rotated.jpg
END:VEVENT
BEGIN:VEVENT
DTSTART;TZID=Europe/London:20250727T110000
DTEND;TZID=Europe/London:20250727T120000
DTSTAMP:20260420T205338
CREATED:20230130T182656Z
LAST-MODIFIED:20251108T122831Z
UID:10005526-1753614000-1753617600@garthma.wales
SUMMARY:Holy Eucharist - St. Mary & St James Church
DESCRIPTION:Please join us for our Holy Eucharist Service at St. Mary and St. James’ Church\, Taffs Well.
URL:https://garthma.wales/events/sunday-eucharist-6/2025-07-27/
LOCATION:St Mary & St James Church\, Taff’s Well\, Church Street\, Taffs Well\, CF15 7PG\, United Kingdom
CATEGORIES:Sunday Worship
ATTACH;FMTTYPE=image/jpeg:https://garthma.wales/wp-content/uploads/2023/07/candle-rotated.jpg
END:VEVENT
BEGIN:VEVENT
DTSTART;TZID=Europe/London:20250722T100000
DTEND;TZID=Europe/London:20250722T110000
DTSTAMP:20260420T205338
CREATED:20240306T201615Z
LAST-MODIFIED:20251108T123655Z
UID:10008267-1753178400-1753182000@garthma.wales
SUMMARY:Holy Eucharist - St Mary & St. James
DESCRIPTION:Please join us for our Holy Eucharist Service at St. Mary and St. James’ Church\, Taffs Well.
URL:https://garthma.wales/events/midweek-eucharist-3-2-2/2025-07-22/
LOCATION:St Mary & St James Church\, Taff’s Well\, Church Street\, Taffs Well\, CF15 7PG\, United Kingdom
CATEGORIES:Mid Week Worship
ATTACH;FMTTYPE=image/jpeg:https://garthma.wales/wp-content/uploads/2023/07/candle-rotated.jpg
END:VEVENT
BEGIN:VEVENT
DTSTART;TZID=Europe/London:20250720T110000
DTEND;TZID=Europe/London:20250720T120000
DTSTAMP:20260420T205338
CREATED:20230130T182656Z
LAST-MODIFIED:20251108T122831Z
UID:10005525-1753009200-1753012800@garthma.wales
SUMMARY:Holy Eucharist - St. Mary & St James Church
DESCRIPTION:Please join us for our Holy Eucharist Service at St. Mary and St. James’ Church\, Taffs Well.
URL:https://garthma.wales/events/sunday-eucharist-6/2025-07-20/
LOCATION:St Mary & St James Church\, Taff’s Well\, Church Street\, Taffs Well\, CF15 7PG\, United Kingdom
CATEGORIES:Sunday Worship
ATTACH;FMTTYPE=image/jpeg:https://garthma.wales/wp-content/uploads/2023/07/candle-rotated.jpg
END:VEVENT
BEGIN:VEVENT
DTSTART;TZID=Europe/London:20250717T181500
DTEND;TZID=Europe/London:20250717T210000
DTSTAMP:20260420T205338
CREATED:20250626T113156Z
LAST-MODIFIED:20250703T083006Z
UID:10010964-1752776100-1752786000@garthma.wales
SUMMARY:Feast of St James Service and Fish and Chip Supper
DESCRIPTION:A short service to commemorate the life of one of our Church’s named Saints followed by our annual fish and chip supper and a quiz. \nTea\, coffee and juice will be available\, but feel free to bring along anything else you wish to drink. Dessert will be provided. Everyone welcome! \n17 July 2025 at St Mary and St James’ Church\, Taffs Well. Service at 6.15pm\, Quiz part 1 at 6.45pm\, Supper at 7.30pm\, Quiz part 2 after supper. \nSign up and order from the menu at the back of the church by 13 July 2025.
URL:https://garthma.wales/events/feast-of-st-james-service-and-fish-and-chip-supper/
LOCATION:St Mary & St James Church\, Taff’s Well\, Church Street\, Taffs Well\, CF15 7PG\, United Kingdom
ATTACH;FMTTYPE=image/png:https://garthma.wales/wp-content/uploads/2025/06/Saint-James-the-Greater-Apostle-Colored-e1750936107269.png
END:VEVENT
BEGIN:VEVENT
DTSTART;TZID=Europe/London:20250715T100000
DTEND;TZID=Europe/London:20250715T110000
DTSTAMP:20260420T205338
CREATED:20240306T201615Z
LAST-MODIFIED:20251108T123655Z
UID:10008266-1752573600-1752577200@garthma.wales
SUMMARY:Holy Eucharist - St Mary & St. James
DESCRIPTION:Please join us for our Holy Eucharist Service at St. Mary and St. James’ Church\, Taffs Well.
URL:https://garthma.wales/events/midweek-eucharist-3-2-2/2025-07-15/
LOCATION:St Mary & St James Church\, Taff’s Well\, Church Street\, Taffs Well\, CF15 7PG\, United Kingdom
CATEGORIES:Mid Week Worship
ATTACH;FMTTYPE=image/jpeg:https://garthma.wales/wp-content/uploads/2023/07/candle-rotated.jpg
END:VEVENT
BEGIN:VEVENT
DTSTART;TZID=Europe/London:20250713T110000
DTEND;TZID=Europe/London:20250713T120000
DTSTAMP:20260420T205338
CREATED:20230130T182656Z
LAST-MODIFIED:20251108T122831Z
UID:10005524-1752404400-1752408000@garthma.wales
SUMMARY:Holy Eucharist - St. Mary & St James Church
DESCRIPTION:Please join us for our Holy Eucharist Service at St. Mary and St. James’ Church\, Taffs Well.
URL:https://garthma.wales/events/sunday-eucharist-6/2025-07-13/
LOCATION:St Mary & St James Church\, Taff’s Well\, Church Street\, Taffs Well\, CF15 7PG\, United Kingdom
CATEGORIES:Sunday Worship
ATTACH;FMTTYPE=image/jpeg:https://garthma.wales/wp-content/uploads/2023/07/candle-rotated.jpg
END:VEVENT
BEGIN:VEVENT
DTSTART;TZID=Europe/London:20250708T100000
DTEND;TZID=Europe/London:20250708T110000
DTSTAMP:20260420T205338
CREATED:20240306T201615Z
LAST-MODIFIED:20251108T123655Z
UID:10008265-1751968800-1751972400@garthma.wales
SUMMARY:Holy Eucharist - St Mary & St. James
DESCRIPTION:Please join us for our Holy Eucharist Service at St. Mary and St. James’ Church\, Taffs Well.
URL:https://garthma.wales/events/midweek-eucharist-3-2-2/2025-07-08/
LOCATION:St Mary & St James Church\, Taff’s Well\, Church Street\, Taffs Well\, CF15 7PG\, United Kingdom
CATEGORIES:Mid Week Worship
ATTACH;FMTTYPE=image/jpeg:https://garthma.wales/wp-content/uploads/2023/07/candle-rotated.jpg
END:VEVENT
BEGIN:VEVENT
DTSTART;TZID=Europe/London:20250706T110000
DTEND;TZID=Europe/London:20250706T120000
DTSTAMP:20260420T205338
CREATED:20230130T182656Z
LAST-MODIFIED:20251108T122831Z
UID:10005523-1751799600-1751803200@garthma.wales
SUMMARY:Holy Eucharist - St. Mary & St James Church
DESCRIPTION:Please join us for our Holy Eucharist Service at St. Mary and St. James’ Church\, Taffs Well.
URL:https://garthma.wales/events/sunday-eucharist-6/2025-07-06/
LOCATION:St Mary & St James Church\, Taff’s Well\, Church Street\, Taffs Well\, CF15 7PG\, United Kingdom
CATEGORIES:Sunday Worship
ATTACH;FMTTYPE=image/jpeg:https://garthma.wales/wp-content/uploads/2023/07/candle-rotated.jpg
END:VEVENT
END:VCALENDAR