BEGIN:VCALENDAR
VERSION:2.0
PRODID:-//The Garth Ministry Area - ECPv6.15.20//NONSGML v1.0//EN
CALSCALE:GREGORIAN
METHOD:PUBLISH
X-ORIGINAL-URL:https://garthma.wales
X-WR-CALDESC:Events for The Garth Ministry Area
REFRESH-INTERVAL;VALUE=DURATION:PT1H
X-Robots-Tag:noindex
X-PUBLISHED-TTL:PT1H
BEGIN:VTIMEZONE
TZID:Europe/London
BEGIN:DAYLIGHT
TZOFFSETFROM:+0000
TZOFFSETTO:+0100
TZNAME:BST
DTSTART:20220327T010000
END:DAYLIGHT
BEGIN:STANDARD
TZOFFSETFROM:+0100
TZOFFSETTO:+0000
TZNAME:GMT
DTSTART:20221030T010000
END:STANDARD
BEGIN:DAYLIGHT
TZOFFSETFROM:+0000
TZOFFSETTO:+0100
TZNAME:BST
DTSTART:20230326T010000
END:DAYLIGHT
BEGIN:STANDARD
TZOFFSETFROM:+0100
TZOFFSETTO:+0000
TZNAME:GMT
DTSTART:20231029T010000
END:STANDARD
BEGIN:DAYLIGHT
TZOFFSETFROM:+0000
TZOFFSETTO:+0100
TZNAME:BST
DTSTART:20240331T010000
END:DAYLIGHT
BEGIN:STANDARD
TZOFFSETFROM:+0100
TZOFFSETTO:+0000
TZNAME:GMT
DTSTART:20241027T010000
END:STANDARD
END:VTIMEZONE
BEGIN:VEVENT
DTSTART;TZID=Europe/London:20231107T100000
DTEND;TZID=Europe/London:20231107T110000
DTSTAMP:20260424T032657
CREATED:20230130T183004Z
LAST-MODIFIED:20230807T192454Z
UID:10001779-1699351200-1699354800@garthma.wales
SUMMARY:Holy Eucharist - St Mary & St. James
DESCRIPTION:Please join us for our Holy Eucharist Service at St. Mary and St. James’ Church\, Taffs Well.
URL:https://garthma.wales/events/midweek-eucharist-3/2023-11-07/
LOCATION:St Mary & St James Church\, Taff’s Well\, Church Street\, Taffs Well\, CF15 7PG\, United Kingdom
CATEGORIES:Mid Week Worship
ATTACH;FMTTYPE=image/jpeg:https://garthma.wales/wp-content/uploads/2023/07/candle-rotated.jpg
END:VEVENT
BEGIN:VEVENT
DTSTART;TZID=Europe/London:20231105T110000
DTEND;TZID=Europe/London:20231105T120000
DTSTAMP:20260424T032657
CREATED:20230130T182656Z
LAST-MODIFIED:20251108T122831Z
UID:10001579-1699182000-1699185600@garthma.wales
SUMMARY:Holy Eucharist - St. Mary & St James Church
DESCRIPTION:Please join us for our Holy Eucharist Service at St. Mary and St. James’ Church\, Taffs Well.
URL:https://garthma.wales/events/sunday-eucharist-6/2023-11-05/
LOCATION:St Mary & St James Church\, Taff’s Well\, Church Street\, Taffs Well\, CF15 7PG\, United Kingdom
CATEGORIES:Sunday Worship
ATTACH;FMTTYPE=image/jpeg:https://garthma.wales/wp-content/uploads/2023/07/candle-rotated.jpg
END:VEVENT
BEGIN:VEVENT
DTSTART;TZID=Europe/London:20231031T100000
DTEND;TZID=Europe/London:20231031T110000
DTSTAMP:20260424T032657
CREATED:20230130T183004Z
LAST-MODIFIED:20230807T192454Z
UID:10001778-1698746400-1698750000@garthma.wales
SUMMARY:Holy Eucharist - St Mary & St. James
DESCRIPTION:Please join us for our Holy Eucharist Service at St. Mary and St. James’ Church\, Taffs Well.
URL:https://garthma.wales/events/midweek-eucharist-3/2023-10-31/
LOCATION:St Mary & St James Church\, Taff’s Well\, Church Street\, Taffs Well\, CF15 7PG\, United Kingdom
CATEGORIES:Mid Week Worship
ATTACH;FMTTYPE=image/jpeg:https://garthma.wales/wp-content/uploads/2023/07/candle-rotated.jpg
END:VEVENT
BEGIN:VEVENT
DTSTART;TZID=Europe/London:20231029T110000
DTEND;TZID=Europe/London:20231029T120000
DTSTAMP:20260424T032657
CREATED:20231020T155020Z
LAST-MODIFIED:20231020T160225Z
UID:10004300-1698577200-1698580800@garthma.wales
SUMMARY:Holy Eucharist incorporating commemoration of the departed
DESCRIPTION:If you would like a loved one’s name read out during this service please contact the Church Warden – StMaryStJames@garthma.wales
URL:https://garthma.wales/events/holy-eucharist-incorporating-commemoration-of-the-departed-2/
LOCATION:St Mary & St James Church\, Taff’s Well\, Church Street\, Taffs Well\, CF15 7PG\, United Kingdom
ATTACH;FMTTYPE=image/jpeg:https://garthma.wales/wp-content/uploads/2023/10/All-Souls-Image.jpg
END:VEVENT
BEGIN:VEVENT
DTSTART;TZID=Europe/London:20231029T110000
DTEND;TZID=Europe/London:20231029T120000
DTSTAMP:20260424T032657
CREATED:20230130T182656Z
LAST-MODIFIED:20251108T122831Z
UID:10001578-1698577200-1698580800@garthma.wales
SUMMARY:Holy Eucharist - St. Mary & St James Church
DESCRIPTION:Please join us for our Holy Eucharist Service at St. Mary and St. James’ Church\, Taffs Well.
URL:https://garthma.wales/events/sunday-eucharist-6/2023-10-29/
LOCATION:St Mary & St James Church\, Taff’s Well\, Church Street\, Taffs Well\, CF15 7PG\, United Kingdom
CATEGORIES:Sunday Worship
ATTACH;FMTTYPE=image/jpeg:https://garthma.wales/wp-content/uploads/2023/07/candle-rotated.jpg
END:VEVENT
BEGIN:VEVENT
DTSTART;TZID=Europe/London:20231024T100000
DTEND;TZID=Europe/London:20231024T110000
DTSTAMP:20260424T032657
CREATED:20230130T183004Z
LAST-MODIFIED:20230807T192454Z
UID:10001777-1698141600-1698145200@garthma.wales
SUMMARY:Holy Eucharist - St Mary & St. James
DESCRIPTION:Please join us for our Holy Eucharist Service at St. Mary and St. James’ Church\, Taffs Well.
URL:https://garthma.wales/events/midweek-eucharist-3/2023-10-24/
LOCATION:St Mary & St James Church\, Taff’s Well\, Church Street\, Taffs Well\, CF15 7PG\, United Kingdom
CATEGORIES:Mid Week Worship
ATTACH;FMTTYPE=image/jpeg:https://garthma.wales/wp-content/uploads/2023/07/candle-rotated.jpg
END:VEVENT
BEGIN:VEVENT
DTSTART;TZID=Europe/London:20231022T110000
DTEND;TZID=Europe/London:20231022T120000
DTSTAMP:20260424T032657
CREATED:20230130T182656Z
LAST-MODIFIED:20251108T122831Z
UID:10001577-1697972400-1697976000@garthma.wales
SUMMARY:Holy Eucharist - St. Mary & St James Church
DESCRIPTION:Please join us for our Holy Eucharist Service at St. Mary and St. James’ Church\, Taffs Well.
URL:https://garthma.wales/events/sunday-eucharist-6/2023-10-22/
LOCATION:St Mary & St James Church\, Taff’s Well\, Church Street\, Taffs Well\, CF15 7PG\, United Kingdom
CATEGORIES:Sunday Worship
ATTACH;FMTTYPE=image/jpeg:https://garthma.wales/wp-content/uploads/2023/07/candle-rotated.jpg
END:VEVENT
BEGIN:VEVENT
DTSTART;TZID=Europe/London:20231017T100000
DTEND;TZID=Europe/London:20231017T110000
DTSTAMP:20260424T032657
CREATED:20230130T183004Z
LAST-MODIFIED:20230807T192454Z
UID:10001776-1697536800-1697540400@garthma.wales
SUMMARY:Holy Eucharist - St Mary & St. James
DESCRIPTION:Please join us for our Holy Eucharist Service at St. Mary and St. James’ Church\, Taffs Well.
URL:https://garthma.wales/events/midweek-eucharist-3/2023-10-17/
LOCATION:St Mary & St James Church\, Taff’s Well\, Church Street\, Taffs Well\, CF15 7PG\, United Kingdom
CATEGORIES:Mid Week Worship
ATTACH;FMTTYPE=image/jpeg:https://garthma.wales/wp-content/uploads/2023/07/candle-rotated.jpg
END:VEVENT
BEGIN:VEVENT
DTSTART;TZID=Europe/London:20231015T110000
DTEND;TZID=Europe/London:20231015T120000
DTSTAMP:20260424T032657
CREATED:20230130T182656Z
LAST-MODIFIED:20251108T122831Z
UID:10001576-1697367600-1697371200@garthma.wales
SUMMARY:Holy Eucharist - St. Mary & St James Church
DESCRIPTION:Please join us for our Holy Eucharist Service at St. Mary and St. James’ Church\, Taffs Well.
URL:https://garthma.wales/events/sunday-eucharist-6/2023-10-15/
LOCATION:St Mary & St James Church\, Taff’s Well\, Church Street\, Taffs Well\, CF15 7PG\, United Kingdom
CATEGORIES:Sunday Worship
ATTACH;FMTTYPE=image/jpeg:https://garthma.wales/wp-content/uploads/2023/07/candle-rotated.jpg
END:VEVENT
BEGIN:VEVENT
DTSTART;TZID=Europe/London:20231010T100000
DTEND;TZID=Europe/London:20231010T110000
DTSTAMP:20260424T032657
CREATED:20230130T183004Z
LAST-MODIFIED:20230807T192454Z
UID:10001775-1696932000-1696935600@garthma.wales
SUMMARY:Holy Eucharist - St Mary & St. James
DESCRIPTION:Please join us for our Holy Eucharist Service at St. Mary and St. James’ Church\, Taffs Well.
URL:https://garthma.wales/events/midweek-eucharist-3/2023-10-10/
LOCATION:St Mary & St James Church\, Taff’s Well\, Church Street\, Taffs Well\, CF15 7PG\, United Kingdom
CATEGORIES:Mid Week Worship
ATTACH;FMTTYPE=image/jpeg:https://garthma.wales/wp-content/uploads/2023/07/candle-rotated.jpg
END:VEVENT
BEGIN:VEVENT
DTSTART;TZID=Europe/London:20231008T110000
DTEND;TZID=Europe/London:20231008T120000
DTSTAMP:20260424T032657
CREATED:20230130T182656Z
LAST-MODIFIED:20251108T122831Z
UID:10001575-1696762800-1696766400@garthma.wales
SUMMARY:Holy Eucharist - St. Mary & St James Church
DESCRIPTION:Please join us for our Holy Eucharist Service at St. Mary and St. James’ Church\, Taffs Well.
URL:https://garthma.wales/events/sunday-eucharist-6/2023-10-08/
LOCATION:St Mary & St James Church\, Taff’s Well\, Church Street\, Taffs Well\, CF15 7PG\, United Kingdom
CATEGORIES:Sunday Worship
ATTACH;FMTTYPE=image/jpeg:https://garthma.wales/wp-content/uploads/2023/07/candle-rotated.jpg
END:VEVENT
BEGIN:VEVENT
DTSTART;TZID=Europe/London:20231003T100000
DTEND;TZID=Europe/London:20231003T110000
DTSTAMP:20260424T032657
CREATED:20230130T183004Z
LAST-MODIFIED:20230807T192454Z
UID:10001774-1696327200-1696330800@garthma.wales
SUMMARY:Holy Eucharist - St Mary & St. James
DESCRIPTION:Please join us for our Holy Eucharist Service at St. Mary and St. James’ Church\, Taffs Well.
URL:https://garthma.wales/events/midweek-eucharist-3/2023-10-03/
LOCATION:St Mary & St James Church\, Taff’s Well\, Church Street\, Taffs Well\, CF15 7PG\, United Kingdom
CATEGORIES:Mid Week Worship
ATTACH;FMTTYPE=image/jpeg:https://garthma.wales/wp-content/uploads/2023/07/candle-rotated.jpg
END:VEVENT
BEGIN:VEVENT
DTSTART;TZID=Europe/London:20231001T110000
DTEND;TZID=Europe/London:20231001T120000
DTSTAMP:20260424T032657
CREATED:20230817T162923Z
LAST-MODIFIED:20230819T100406Z
UID:10003089-1696158000-1696161600@garthma.wales
SUMMARY:Harvest Thanksgiving Service - St. Mary & St. James Church
DESCRIPTION:Harvest Thanksgiving Service where we give thanks for God’s bountiful goodness. We will brings gifts for our local Foodbank and sing our wonderful Harvest hymns. \nPlease join us after the service for a bring and share lunch.
URL:https://garthma.wales/events/harvest-thanksgiving-service-st-mary-st-james-church/
LOCATION:St Mary & St James Church\, Taff’s Well\, Church Street\, Taffs Well\, CF15 7PG\, United Kingdom
CATEGORIES:Sunday Worship
ATTACH;FMTTYPE=image/jpeg:https://garthma.wales/wp-content/uploads/2023/08/harvest-2.jpg
END:VEVENT
BEGIN:VEVENT
DTSTART;TZID=Europe/London:20231001T110000
DTEND;TZID=Europe/London:20231001T120000
DTSTAMP:20260424T032657
CREATED:20230130T182656Z
LAST-MODIFIED:20251108T122831Z
UID:10001574-1696158000-1696161600@garthma.wales
SUMMARY:Holy Eucharist - St. Mary & St James Church
DESCRIPTION:Please join us for our Holy Eucharist Service at St. Mary and St. James’ Church\, Taffs Well.
URL:https://garthma.wales/events/sunday-eucharist-6/2023-10-01/
LOCATION:St Mary & St James Church\, Taff’s Well\, Church Street\, Taffs Well\, CF15 7PG\, United Kingdom
CATEGORIES:Sunday Worship
ATTACH;FMTTYPE=image/jpeg:https://garthma.wales/wp-content/uploads/2023/07/candle-rotated.jpg
END:VEVENT
BEGIN:VEVENT
DTSTART;TZID=Europe/London:20230930T100000
DTEND;TZID=Europe/London:20230930T120000
DTSTAMP:20260424T032657
CREATED:20230819T100851Z
LAST-MODIFIED:20230819T101710Z
UID:10003092-1696068000-1696075200@garthma.wales
SUMMARY:Harvest Loaf Bread Making - St Mary & St James Church
DESCRIPTION:Join us at 10am on 30th September for fun and fellowship and a chance to learn a new skill as we make our harvest loaf.
URL:https://garthma.wales/events/harvest-loaf-bread-making-st-mary-st-james-church/
LOCATION:St Mary & St James Church\, Taff’s Well\, Church Street\, Taffs Well\, CF15 7PG\, United Kingdom
ATTACH;FMTTYPE=image/jpeg:https://garthma.wales/wp-content/uploads/2023/08/Harvest-Loaf-Bread-Making.jpg
END:VEVENT
BEGIN:VEVENT
DTSTART;TZID=Europe/London:20230926T100000
DTEND;TZID=Europe/London:20230926T110000
DTSTAMP:20260424T032657
CREATED:20230130T183004Z
LAST-MODIFIED:20230807T192454Z
UID:10001773-1695722400-1695726000@garthma.wales
SUMMARY:Holy Eucharist - St Mary & St. James
DESCRIPTION:Please join us for our Holy Eucharist Service at St. Mary and St. James’ Church\, Taffs Well.
URL:https://garthma.wales/events/midweek-eucharist-3/2023-09-26/
LOCATION:St Mary & St James Church\, Taff’s Well\, Church Street\, Taffs Well\, CF15 7PG\, United Kingdom
CATEGORIES:Mid Week Worship
ATTACH;FMTTYPE=image/jpeg:https://garthma.wales/wp-content/uploads/2023/07/candle-rotated.jpg
END:VEVENT
BEGIN:VEVENT
DTSTART;TZID=Europe/London:20230924T110000
DTEND;TZID=Europe/London:20230924T120000
DTSTAMP:20260424T032657
CREATED:20230130T182656Z
LAST-MODIFIED:20251108T122831Z
UID:10001573-1695553200-1695556800@garthma.wales
SUMMARY:Holy Eucharist - St. Mary & St James Church
DESCRIPTION:Please join us for our Holy Eucharist Service at St. Mary and St. James’ Church\, Taffs Well.
URL:https://garthma.wales/events/sunday-eucharist-6/2023-09-24/
LOCATION:St Mary & St James Church\, Taff’s Well\, Church Street\, Taffs Well\, CF15 7PG\, United Kingdom
CATEGORIES:Sunday Worship
ATTACH;FMTTYPE=image/jpeg:https://garthma.wales/wp-content/uploads/2023/07/candle-rotated.jpg
END:VEVENT
BEGIN:VEVENT
DTSTART;TZID=Europe/London:20230919T100000
DTEND;TZID=Europe/London:20230919T110000
DTSTAMP:20260424T032657
CREATED:20230130T183004Z
LAST-MODIFIED:20230807T192454Z
UID:10001772-1695117600-1695121200@garthma.wales
SUMMARY:Holy Eucharist - St Mary & St. James
DESCRIPTION:Please join us for our Holy Eucharist Service at St. Mary and St. James’ Church\, Taffs Well.
URL:https://garthma.wales/events/midweek-eucharist-3/2023-09-19/
LOCATION:St Mary & St James Church\, Taff’s Well\, Church Street\, Taffs Well\, CF15 7PG\, United Kingdom
CATEGORIES:Mid Week Worship
ATTACH;FMTTYPE=image/jpeg:https://garthma.wales/wp-content/uploads/2023/07/candle-rotated.jpg
END:VEVENT
BEGIN:VEVENT
DTSTART;TZID=Europe/London:20230917T110000
DTEND;TZID=Europe/London:20230917T120000
DTSTAMP:20260424T032657
CREATED:20230130T182656Z
LAST-MODIFIED:20251108T122831Z
UID:10001572-1694948400-1694952000@garthma.wales
SUMMARY:Holy Eucharist - St. Mary & St James Church
DESCRIPTION:Please join us for our Holy Eucharist Service at St. Mary and St. James’ Church\, Taffs Well.
URL:https://garthma.wales/events/sunday-eucharist-6/2023-09-17/
LOCATION:St Mary & St James Church\, Taff’s Well\, Church Street\, Taffs Well\, CF15 7PG\, United Kingdom
CATEGORIES:Sunday Worship
ATTACH;FMTTYPE=image/jpeg:https://garthma.wales/wp-content/uploads/2023/07/candle-rotated.jpg
END:VEVENT
BEGIN:VEVENT
DTSTART;TZID=Europe/London:20230912T100000
DTEND;TZID=Europe/London:20230912T110000
DTSTAMP:20260424T032657
CREATED:20230130T183004Z
LAST-MODIFIED:20230807T192454Z
UID:10001771-1694512800-1694516400@garthma.wales
SUMMARY:Holy Eucharist - St Mary & St. James
DESCRIPTION:Please join us for our Holy Eucharist Service at St. Mary and St. James’ Church\, Taffs Well.
URL:https://garthma.wales/events/midweek-eucharist-3/2023-09-12/
LOCATION:St Mary & St James Church\, Taff’s Well\, Church Street\, Taffs Well\, CF15 7PG\, United Kingdom
CATEGORIES:Mid Week Worship
ATTACH;FMTTYPE=image/jpeg:https://garthma.wales/wp-content/uploads/2023/07/candle-rotated.jpg
END:VEVENT
BEGIN:VEVENT
DTSTART;TZID=Europe/London:20230910T110000
DTEND;TZID=Europe/London:20230910T120000
DTSTAMP:20260424T032657
CREATED:20230130T182656Z
LAST-MODIFIED:20251108T122831Z
UID:10001571-1694343600-1694347200@garthma.wales
SUMMARY:Holy Eucharist - St. Mary & St James Church
DESCRIPTION:Please join us for our Holy Eucharist Service at St. Mary and St. James’ Church\, Taffs Well.
URL:https://garthma.wales/events/sunday-eucharist-6/2023-09-10/
LOCATION:St Mary & St James Church\, Taff’s Well\, Church Street\, Taffs Well\, CF15 7PG\, United Kingdom
CATEGORIES:Sunday Worship
ATTACH;FMTTYPE=image/jpeg:https://garthma.wales/wp-content/uploads/2023/07/candle-rotated.jpg
END:VEVENT
BEGIN:VEVENT
DTSTART;TZID=Europe/London:20230905T100000
DTEND;TZID=Europe/London:20230905T110000
DTSTAMP:20260424T032657
CREATED:20230130T183004Z
LAST-MODIFIED:20230807T192454Z
UID:10001770-1693908000-1693911600@garthma.wales
SUMMARY:Holy Eucharist - St Mary & St. James
DESCRIPTION:Please join us for our Holy Eucharist Service at St. Mary and St. James’ Church\, Taffs Well.
URL:https://garthma.wales/events/midweek-eucharist-3/2023-09-05/
LOCATION:St Mary & St James Church\, Taff’s Well\, Church Street\, Taffs Well\, CF15 7PG\, United Kingdom
CATEGORIES:Mid Week Worship
ATTACH;FMTTYPE=image/jpeg:https://garthma.wales/wp-content/uploads/2023/07/candle-rotated.jpg
END:VEVENT
BEGIN:VEVENT
DTSTART;TZID=Europe/London:20230903T110000
DTEND;TZID=Europe/London:20230903T120000
DTSTAMP:20260424T032657
CREATED:20230130T182656Z
LAST-MODIFIED:20251108T122831Z
UID:10001570-1693738800-1693742400@garthma.wales
SUMMARY:Holy Eucharist - St. Mary & St James Church
DESCRIPTION:Please join us for our Holy Eucharist Service at St. Mary and St. James’ Church\, Taffs Well.
URL:https://garthma.wales/events/sunday-eucharist-6/2023-09-03/
LOCATION:St Mary & St James Church\, Taff’s Well\, Church Street\, Taffs Well\, CF15 7PG\, United Kingdom
CATEGORIES:Sunday Worship
ATTACH;FMTTYPE=image/jpeg:https://garthma.wales/wp-content/uploads/2023/07/candle-rotated.jpg
END:VEVENT
BEGIN:VEVENT
DTSTART;TZID=Europe/London:20230829T100000
DTEND;TZID=Europe/London:20230829T110000
DTSTAMP:20260424T032657
CREATED:20230130T183004Z
LAST-MODIFIED:20230807T192454Z
UID:10001769-1693303200-1693306800@garthma.wales
SUMMARY:Holy Eucharist - St Mary & St. James
DESCRIPTION:Please join us for our Holy Eucharist Service at St. Mary and St. James’ Church\, Taffs Well.
URL:https://garthma.wales/events/midweek-eucharist-3/2023-08-29/
LOCATION:St Mary & St James Church\, Taff’s Well\, Church Street\, Taffs Well\, CF15 7PG\, United Kingdom
CATEGORIES:Mid Week Worship
ATTACH;FMTTYPE=image/jpeg:https://garthma.wales/wp-content/uploads/2023/07/candle-rotated.jpg
END:VEVENT
BEGIN:VEVENT
DTSTART;TZID=Europe/London:20230827T110000
DTEND;TZID=Europe/London:20230827T120000
DTSTAMP:20260424T032657
CREATED:20230130T182656Z
LAST-MODIFIED:20251108T122831Z
UID:10001569-1693134000-1693137600@garthma.wales
SUMMARY:Holy Eucharist - St. Mary & St James Church
DESCRIPTION:Please join us for our Holy Eucharist Service at St. Mary and St. James’ Church\, Taffs Well.
URL:https://garthma.wales/events/sunday-eucharist-6/2023-08-27/
LOCATION:St Mary & St James Church\, Taff’s Well\, Church Street\, Taffs Well\, CF15 7PG\, United Kingdom
CATEGORIES:Sunday Worship
ATTACH;FMTTYPE=image/jpeg:https://garthma.wales/wp-content/uploads/2023/07/candle-rotated.jpg
END:VEVENT
BEGIN:VEVENT
DTSTART;TZID=Europe/London:20230822T100000
DTEND;TZID=Europe/London:20230822T110000
DTSTAMP:20260424T032657
CREATED:20230130T183004Z
LAST-MODIFIED:20230807T192454Z
UID:10001768-1692698400-1692702000@garthma.wales
SUMMARY:Holy Eucharist - St Mary & St. James
DESCRIPTION:Please join us for our Holy Eucharist Service at St. Mary and St. James’ Church\, Taffs Well.
URL:https://garthma.wales/events/midweek-eucharist-3/2023-08-22/
LOCATION:St Mary & St James Church\, Taff’s Well\, Church Street\, Taffs Well\, CF15 7PG\, United Kingdom
CATEGORIES:Mid Week Worship
ATTACH;FMTTYPE=image/jpeg:https://garthma.wales/wp-content/uploads/2023/07/candle-rotated.jpg
END:VEVENT
BEGIN:VEVENT
DTSTART;TZID=Europe/London:20230820T110000
DTEND;TZID=Europe/London:20230820T120000
DTSTAMP:20260424T032657
CREATED:20230130T182656Z
LAST-MODIFIED:20251108T122831Z
UID:10001568-1692529200-1692532800@garthma.wales
SUMMARY:Holy Eucharist - St. Mary & St James Church
DESCRIPTION:Please join us for our Holy Eucharist Service at St. Mary and St. James’ Church\, Taffs Well.
URL:https://garthma.wales/events/sunday-eucharist-6/2023-08-20/
LOCATION:St Mary & St James Church\, Taff’s Well\, Church Street\, Taffs Well\, CF15 7PG\, United Kingdom
CATEGORIES:Sunday Worship
ATTACH;FMTTYPE=image/jpeg:https://garthma.wales/wp-content/uploads/2023/07/candle-rotated.jpg
END:VEVENT
BEGIN:VEVENT
DTSTART;TZID=Europe/London:20230815T100000
DTEND;TZID=Europe/London:20230815T110000
DTSTAMP:20260424T032657
CREATED:20230130T183004Z
LAST-MODIFIED:20230807T192454Z
UID:10001767-1692093600-1692097200@garthma.wales
SUMMARY:Holy Eucharist - St Mary & St. James
DESCRIPTION:Please join us for our Holy Eucharist Service at St. Mary and St. James’ Church\, Taffs Well.
URL:https://garthma.wales/events/midweek-eucharist-3/2023-08-15/
LOCATION:St Mary & St James Church\, Taff’s Well\, Church Street\, Taffs Well\, CF15 7PG\, United Kingdom
CATEGORIES:Mid Week Worship
ATTACH;FMTTYPE=image/jpeg:https://garthma.wales/wp-content/uploads/2023/07/candle-rotated.jpg
END:VEVENT
BEGIN:VEVENT
DTSTART;TZID=Europe/London:20230813T110000
DTEND;TZID=Europe/London:20230813T120000
DTSTAMP:20260424T032657
CREATED:20230130T182656Z
LAST-MODIFIED:20251108T122831Z
UID:10001567-1691924400-1691928000@garthma.wales
SUMMARY:Holy Eucharist - St. Mary & St James Church
DESCRIPTION:Please join us for our Holy Eucharist Service at St. Mary and St. James’ Church\, Taffs Well.
URL:https://garthma.wales/events/sunday-eucharist-6/2023-08-13/
LOCATION:St Mary & St James Church\, Taff’s Well\, Church Street\, Taffs Well\, CF15 7PG\, United Kingdom
CATEGORIES:Sunday Worship
ATTACH;FMTTYPE=image/jpeg:https://garthma.wales/wp-content/uploads/2023/07/candle-rotated.jpg
END:VEVENT
BEGIN:VEVENT
DTSTART;TZID=Europe/London:20230808T100000
DTEND;TZID=Europe/London:20230808T110000
DTSTAMP:20260424T032657
CREATED:20230130T183004Z
LAST-MODIFIED:20230807T192454Z
UID:10001766-1691488800-1691492400@garthma.wales
SUMMARY:Holy Eucharist - St Mary & St. James
DESCRIPTION:Please join us for our Holy Eucharist Service at St. Mary and St. James’ Church\, Taffs Well.
URL:https://garthma.wales/events/midweek-eucharist-3/2023-08-08/
LOCATION:St Mary & St James Church\, Taff’s Well\, Church Street\, Taffs Well\, CF15 7PG\, United Kingdom
CATEGORIES:Mid Week Worship
ATTACH;FMTTYPE=image/jpeg:https://garthma.wales/wp-content/uploads/2023/07/candle-rotated.jpg
END:VEVENT
END:VCALENDAR