BEGIN:VCALENDAR
VERSION:2.0
PRODID:-//The Garth Ministry Area - ECPv6.15.20//NONSGML v1.0//EN
CALSCALE:GREGORIAN
METHOD:PUBLISH
X-ORIGINAL-URL:https://garthma.wales
X-WR-CALDESC:Events for The Garth Ministry Area
REFRESH-INTERVAL;VALUE=DURATION:PT1H
X-Robots-Tag:noindex
X-PUBLISHED-TTL:PT1H
BEGIN:VTIMEZONE
TZID:Europe/London
BEGIN:DAYLIGHT
TZOFFSETFROM:+0000
TZOFFSETTO:+0100
TZNAME:BST
DTSTART:20230326T010000
END:DAYLIGHT
BEGIN:STANDARD
TZOFFSETFROM:+0100
TZOFFSETTO:+0000
TZNAME:GMT
DTSTART:20231029T010000
END:STANDARD
BEGIN:DAYLIGHT
TZOFFSETFROM:+0000
TZOFFSETTO:+0100
TZNAME:BST
DTSTART:20240331T010000
END:DAYLIGHT
BEGIN:STANDARD
TZOFFSETFROM:+0100
TZOFFSETTO:+0000
TZNAME:GMT
DTSTART:20241027T010000
END:STANDARD
BEGIN:DAYLIGHT
TZOFFSETFROM:+0000
TZOFFSETTO:+0100
TZNAME:BST
DTSTART:20250330T010000
END:DAYLIGHT
BEGIN:STANDARD
TZOFFSETFROM:+0100
TZOFFSETTO:+0000
TZNAME:GMT
DTSTART:20251026T010000
END:STANDARD
BEGIN:DAYLIGHT
TZOFFSETFROM:+0000
TZOFFSETTO:+0100
TZNAME:BST
DTSTART:20260329T010000
END:DAYLIGHT
BEGIN:STANDARD
TZOFFSETFROM:+0100
TZOFFSETTO:+0000
TZNAME:GMT
DTSTART:20261025T010000
END:STANDARD
END:VTIMEZONE
BEGIN:VEVENT
DTSTART;TZID=Europe/London:20250209T110000
DTEND;TZID=Europe/London:20250209T120000
DTSTAMP:20260422T074014
CREATED:20230130T182656Z
LAST-MODIFIED:20251108T122831Z
UID:10005502-1739098800-1739102400@garthma.wales
SUMMARY:Holy Eucharist - St. Mary & St James Church
DESCRIPTION:Please join us for our Holy Eucharist Service at St. Mary and St. James’ Church\, Taffs Well.
URL:https://garthma.wales/events/sunday-eucharist-6/2025-02-09/
LOCATION:St Mary & St James Church\, Taff’s Well\, Church Street\, Taffs Well\, CF15 7PG\, United Kingdom
CATEGORIES:Sunday Worship
ATTACH;FMTTYPE=image/jpeg:https://garthma.wales/wp-content/uploads/2023/07/candle-rotated.jpg
END:VEVENT
BEGIN:VEVENT
DTSTART;TZID=Europe/London:20250202T110000
DTEND;TZID=Europe/London:20250202T120000
DTSTAMP:20260422T074014
CREATED:20230130T182656Z
LAST-MODIFIED:20251108T122831Z
UID:10005501-1738494000-1738497600@garthma.wales
SUMMARY:Holy Eucharist - St. Mary & St James Church
DESCRIPTION:Please join us for our Holy Eucharist Service at St. Mary and St. James’ Church\, Taffs Well.
URL:https://garthma.wales/events/sunday-eucharist-6/2025-02-02/
LOCATION:St Mary & St James Church\, Taff’s Well\, Church Street\, Taffs Well\, CF15 7PG\, United Kingdom
CATEGORIES:Sunday Worship
ATTACH;FMTTYPE=image/jpeg:https://garthma.wales/wp-content/uploads/2023/07/candle-rotated.jpg
END:VEVENT
BEGIN:VEVENT
DTSTART;TZID=Europe/London:20250126T110000
DTEND;TZID=Europe/London:20250126T120000
DTSTAMP:20260422T074014
CREATED:20230130T182656Z
LAST-MODIFIED:20251108T122831Z
UID:10005500-1737889200-1737892800@garthma.wales
SUMMARY:Holy Eucharist - St. Mary & St James Church
DESCRIPTION:Please join us for our Holy Eucharist Service at St. Mary and St. James’ Church\, Taffs Well.
URL:https://garthma.wales/events/sunday-eucharist-6/2025-01-26/
LOCATION:St Mary & St James Church\, Taff’s Well\, Church Street\, Taffs Well\, CF15 7PG\, United Kingdom
CATEGORIES:Sunday Worship
ATTACH;FMTTYPE=image/jpeg:https://garthma.wales/wp-content/uploads/2023/07/candle-rotated.jpg
END:VEVENT
BEGIN:VEVENT
DTSTART;TZID=Europe/London:20250119T110000
DTEND;TZID=Europe/London:20250119T120000
DTSTAMP:20260422T074014
CREATED:20230130T182656Z
LAST-MODIFIED:20251108T122831Z
UID:10005499-1737284400-1737288000@garthma.wales
SUMMARY:Holy Eucharist - St. Mary & St James Church
DESCRIPTION:Please join us for our Holy Eucharist Service at St. Mary and St. James’ Church\, Taffs Well.
URL:https://garthma.wales/events/sunday-eucharist-6/2025-01-19/
LOCATION:St Mary & St James Church\, Taff’s Well\, Church Street\, Taffs Well\, CF15 7PG\, United Kingdom
CATEGORIES:Sunday Worship
ATTACH;FMTTYPE=image/jpeg:https://garthma.wales/wp-content/uploads/2023/07/candle-rotated.jpg
END:VEVENT
BEGIN:VEVENT
DTSTART;TZID=Europe/London:20250112T110000
DTEND;TZID=Europe/London:20250112T120000
DTSTAMP:20260422T074014
CREATED:20230130T182656Z
LAST-MODIFIED:20251108T122831Z
UID:10005498-1736679600-1736683200@garthma.wales
SUMMARY:Holy Eucharist - St. Mary & St James Church
DESCRIPTION:Please join us for our Holy Eucharist Service at St. Mary and St. James’ Church\, Taffs Well.
URL:https://garthma.wales/events/sunday-eucharist-6/2025-01-12/
LOCATION:St Mary & St James Church\, Taff’s Well\, Church Street\, Taffs Well\, CF15 7PG\, United Kingdom
CATEGORIES:Sunday Worship
ATTACH;FMTTYPE=image/jpeg:https://garthma.wales/wp-content/uploads/2023/07/candle-rotated.jpg
END:VEVENT
BEGIN:VEVENT
DTSTART;TZID=Europe/London:20250105T110000
DTEND;TZID=Europe/London:20250105T120000
DTSTAMP:20260422T074014
CREATED:20230130T182656Z
LAST-MODIFIED:20251108T122831Z
UID:10005497-1736074800-1736078400@garthma.wales
SUMMARY:Holy Eucharist - St. Mary & St James Church
DESCRIPTION:Please join us for our Holy Eucharist Service at St. Mary and St. James’ Church\, Taffs Well.
URL:https://garthma.wales/events/sunday-eucharist-6/2025-01-05/
LOCATION:St Mary & St James Church\, Taff’s Well\, Church Street\, Taffs Well\, CF15 7PG\, United Kingdom
CATEGORIES:Sunday Worship
ATTACH;FMTTYPE=image/jpeg:https://garthma.wales/wp-content/uploads/2023/07/candle-rotated.jpg
END:VEVENT
BEGIN:VEVENT
DTSTART;TZID=Europe/London:20241229T110000
DTEND;TZID=Europe/London:20241229T120000
DTSTAMP:20260422T074014
CREATED:20230130T182656Z
LAST-MODIFIED:20251108T122831Z
UID:10005496-1735470000-1735473600@garthma.wales
SUMMARY:Holy Eucharist - St. Mary & St James Church
DESCRIPTION:Please join us for our Holy Eucharist Service at St. Mary and St. James’ Church\, Taffs Well.
URL:https://garthma.wales/events/sunday-eucharist-6/2024-12-29/
LOCATION:St Mary & St James Church\, Taff’s Well\, Church Street\, Taffs Well\, CF15 7PG\, United Kingdom
CATEGORIES:Sunday Worship
ATTACH;FMTTYPE=image/jpeg:https://garthma.wales/wp-content/uploads/2023/07/candle-rotated.jpg
END:VEVENT
BEGIN:VEVENT
DTSTART;TZID=Europe/London:20241225T103000
DTEND;TZID=Europe/London:20241225T113000
DTSTAMP:20260422T074014
CREATED:20241119T200319Z
LAST-MODIFIED:20241119T200319Z
UID:10005090-1735122600-1735126200@garthma.wales
SUMMARY:Christmas Day Eucharist\, St Mary & St James Church
DESCRIPTION:A Eucharist service for Christmas Day including the singing of carols. All are welcome.
URL:https://garthma.wales/events/christmas-day-eucharist-st-mary-st-james-church/
LOCATION:St Mary & St James Church\, Taff’s Well\, Church Street\, Taffs Well\, CF15 7PG\, United Kingdom
ATTACH;FMTTYPE=image/jpeg:https://garthma.wales/wp-content/uploads/2023/11/Advent-Candles.jpg
END:VEVENT
BEGIN:VEVENT
DTSTART;TZID=Europe/London:20241215T110000
DTEND;TZID=Europe/London:20241215T120000
DTSTAMP:20260422T074014
CREATED:20230130T182656Z
LAST-MODIFIED:20251108T122831Z
UID:10005494-1734260400-1734264000@garthma.wales
SUMMARY:Holy Eucharist - St. Mary & St James Church
DESCRIPTION:Please join us for our Holy Eucharist Service at St. Mary and St. James’ Church\, Taffs Well.
URL:https://garthma.wales/events/sunday-eucharist-6/2024-12-15/
LOCATION:St Mary & St James Church\, Taff’s Well\, Church Street\, Taffs Well\, CF15 7PG\, United Kingdom
CATEGORIES:Sunday Worship
ATTACH;FMTTYPE=image/jpeg:https://garthma.wales/wp-content/uploads/2023/07/candle-rotated.jpg
END:VEVENT
BEGIN:VEVENT
DTSTART;TZID=Europe/London:20241208T110000
DTEND;TZID=Europe/London:20241208T120000
DTSTAMP:20260422T074014
CREATED:20230130T182656Z
LAST-MODIFIED:20251108T122831Z
UID:10005493-1733655600-1733659200@garthma.wales
SUMMARY:Holy Eucharist - St. Mary & St James Church
DESCRIPTION:Please join us for our Holy Eucharist Service at St. Mary and St. James’ Church\, Taffs Well.
URL:https://garthma.wales/events/sunday-eucharist-6/2024-12-08/
LOCATION:St Mary & St James Church\, Taff’s Well\, Church Street\, Taffs Well\, CF15 7PG\, United Kingdom
CATEGORIES:Sunday Worship
ATTACH;FMTTYPE=image/jpeg:https://garthma.wales/wp-content/uploads/2023/07/candle-rotated.jpg
END:VEVENT
BEGIN:VEVENT
DTSTART;TZID=Europe/London:20241201T110000
DTEND;TZID=Europe/London:20241201T120000
DTSTAMP:20260422T074014
CREATED:20230130T182656Z
LAST-MODIFIED:20251108T122831Z
UID:10005492-1733050800-1733054400@garthma.wales
SUMMARY:Holy Eucharist - St. Mary & St James Church
DESCRIPTION:Please join us for our Holy Eucharist Service at St. Mary and St. James’ Church\, Taffs Well.
URL:https://garthma.wales/events/sunday-eucharist-6/2024-12-01/
LOCATION:St Mary & St James Church\, Taff’s Well\, Church Street\, Taffs Well\, CF15 7PG\, United Kingdom
CATEGORIES:Sunday Worship
ATTACH;FMTTYPE=image/jpeg:https://garthma.wales/wp-content/uploads/2023/07/candle-rotated.jpg
END:VEVENT
BEGIN:VEVENT
DTSTART;TZID=Europe/London:20241126T100000
DTEND;TZID=Europe/London:20241126T110000
DTSTAMP:20260422T074014
CREATED:20240306T201504Z
LAST-MODIFIED:20240306T201505Z
UID:10001834-1732615200-1732618800@garthma.wales
SUMMARY:Holy Eucharist - St Mary & St. James
DESCRIPTION:Please join us for our Holy Eucharist Service at St. Mary and St. James’ Church\, Taffs Well.
URL:https://garthma.wales/events/midweek-eucharist-3-2/2024-11-26/
LOCATION:St Mary & St James Church\, Taff’s Well\, Church Street\, Taffs Well\, CF15 7PG\, United Kingdom
CATEGORIES:Mid Week Worship
ATTACH;FMTTYPE=image/jpeg:https://garthma.wales/wp-content/uploads/2023/07/candle-rotated.jpg
END:VEVENT
BEGIN:VEVENT
DTSTART;TZID=Europe/London:20241124T110000
DTEND;TZID=Europe/London:20241124T120000
DTSTAMP:20260422T074014
CREATED:20230130T182656Z
LAST-MODIFIED:20251108T122831Z
UID:10001634-1732446000-1732449600@garthma.wales
SUMMARY:Holy Eucharist - St. Mary & St James Church
DESCRIPTION:Please join us for our Holy Eucharist Service at St. Mary and St. James’ Church\, Taffs Well.
URL:https://garthma.wales/events/sunday-eucharist-6/2024-11-24/
LOCATION:St Mary & St James Church\, Taff’s Well\, Church Street\, Taffs Well\, CF15 7PG\, United Kingdom
CATEGORIES:Sunday Worship
ATTACH;FMTTYPE=image/jpeg:https://garthma.wales/wp-content/uploads/2023/07/candle-rotated.jpg
END:VEVENT
BEGIN:VEVENT
DTSTART;TZID=Europe/London:20241119T100000
DTEND;TZID=Europe/London:20241119T110000
DTSTAMP:20260422T074014
CREATED:20240306T201504Z
LAST-MODIFIED:20240306T201505Z
UID:10001833-1732010400-1732014000@garthma.wales
SUMMARY:Holy Eucharist - St Mary & St. James
DESCRIPTION:Please join us for our Holy Eucharist Service at St. Mary and St. James’ Church\, Taffs Well.
URL:https://garthma.wales/events/midweek-eucharist-3-2/2024-11-19/
LOCATION:St Mary & St James Church\, Taff’s Well\, Church Street\, Taffs Well\, CF15 7PG\, United Kingdom
CATEGORIES:Mid Week Worship
ATTACH;FMTTYPE=image/jpeg:https://garthma.wales/wp-content/uploads/2023/07/candle-rotated.jpg
END:VEVENT
BEGIN:VEVENT
DTSTART;TZID=Europe/London:20241117T110000
DTEND;TZID=Europe/London:20241117T120000
DTSTAMP:20260422T074014
CREATED:20230130T182656Z
LAST-MODIFIED:20251108T122831Z
UID:10001633-1731841200-1731844800@garthma.wales
SUMMARY:Holy Eucharist - St. Mary & St James Church
DESCRIPTION:Please join us for our Holy Eucharist Service at St. Mary and St. James’ Church\, Taffs Well.
URL:https://garthma.wales/events/sunday-eucharist-6/2024-11-17/
LOCATION:St Mary & St James Church\, Taff’s Well\, Church Street\, Taffs Well\, CF15 7PG\, United Kingdom
CATEGORIES:Sunday Worship
ATTACH;FMTTYPE=image/jpeg:https://garthma.wales/wp-content/uploads/2023/07/candle-rotated.jpg
END:VEVENT
BEGIN:VEVENT
DTSTART;TZID=Europe/London:20241112T100000
DTEND;TZID=Europe/London:20241112T110000
DTSTAMP:20260422T074014
CREATED:20240306T201504Z
LAST-MODIFIED:20240306T201505Z
UID:10001832-1731405600-1731409200@garthma.wales
SUMMARY:Holy Eucharist - St Mary & St. James
DESCRIPTION:Please join us for our Holy Eucharist Service at St. Mary and St. James’ Church\, Taffs Well.
URL:https://garthma.wales/events/midweek-eucharist-3-2/2024-11-12/
LOCATION:St Mary & St James Church\, Taff’s Well\, Church Street\, Taffs Well\, CF15 7PG\, United Kingdom
CATEGORIES:Mid Week Worship
ATTACH;FMTTYPE=image/jpeg:https://garthma.wales/wp-content/uploads/2023/07/candle-rotated.jpg
END:VEVENT
BEGIN:VEVENT
DTSTART;TZID=Europe/London:20241110T110000
DTEND;TZID=Europe/London:20241110T120000
DTSTAMP:20260422T074014
CREATED:20230130T182656Z
LAST-MODIFIED:20251108T122831Z
UID:10001632-1731236400-1731240000@garthma.wales
SUMMARY:Holy Eucharist - St. Mary & St James Church
DESCRIPTION:Please join us for our Holy Eucharist Service at St. Mary and St. James’ Church\, Taffs Well.
URL:https://garthma.wales/events/sunday-eucharist-6/2024-11-10/
LOCATION:St Mary & St James Church\, Taff’s Well\, Church Street\, Taffs Well\, CF15 7PG\, United Kingdom
CATEGORIES:Sunday Worship
ATTACH;FMTTYPE=image/jpeg:https://garthma.wales/wp-content/uploads/2023/07/candle-rotated.jpg
END:VEVENT
BEGIN:VEVENT
DTSTART;TZID=Europe/London:20241105T100000
DTEND;TZID=Europe/London:20241105T110000
DTSTAMP:20260422T074014
CREATED:20240306T201504Z
LAST-MODIFIED:20240306T201505Z
UID:10001831-1730800800-1730804400@garthma.wales
SUMMARY:Holy Eucharist - St Mary & St. James
DESCRIPTION:Please join us for our Holy Eucharist Service at St. Mary and St. James’ Church\, Taffs Well.
URL:https://garthma.wales/events/midweek-eucharist-3-2/2024-11-05/
LOCATION:St Mary & St James Church\, Taff’s Well\, Church Street\, Taffs Well\, CF15 7PG\, United Kingdom
CATEGORIES:Mid Week Worship
ATTACH;FMTTYPE=image/jpeg:https://garthma.wales/wp-content/uploads/2023/07/candle-rotated.jpg
END:VEVENT
BEGIN:VEVENT
DTSTART;TZID=Europe/London:20241103T110000
DTEND;TZID=Europe/London:20241103T120000
DTSTAMP:20260422T074014
CREATED:20230130T182656Z
LAST-MODIFIED:20251108T122831Z
UID:10001631-1730631600-1730635200@garthma.wales
SUMMARY:Holy Eucharist - St. Mary & St James Church
DESCRIPTION:Please join us for our Holy Eucharist Service at St. Mary and St. James’ Church\, Taffs Well.
URL:https://garthma.wales/events/sunday-eucharist-6/2024-11-03/
LOCATION:St Mary & St James Church\, Taff’s Well\, Church Street\, Taffs Well\, CF15 7PG\, United Kingdom
CATEGORIES:Sunday Worship
ATTACH;FMTTYPE=image/jpeg:https://garthma.wales/wp-content/uploads/2023/07/candle-rotated.jpg
END:VEVENT
BEGIN:VEVENT
DTSTART;TZID=Europe/London:20241029T100000
DTEND;TZID=Europe/London:20241029T110000
DTSTAMP:20260422T074015
CREATED:20240306T201504Z
LAST-MODIFIED:20240306T201505Z
UID:10001830-1730196000-1730199600@garthma.wales
SUMMARY:Holy Eucharist - St Mary & St. James
DESCRIPTION:Please join us for our Holy Eucharist Service at St. Mary and St. James’ Church\, Taffs Well.
URL:https://garthma.wales/events/midweek-eucharist-3-2/2024-10-29/
LOCATION:St Mary & St James Church\, Taff’s Well\, Church Street\, Taffs Well\, CF15 7PG\, United Kingdom
CATEGORIES:Mid Week Worship
ATTACH;FMTTYPE=image/jpeg:https://garthma.wales/wp-content/uploads/2023/07/candle-rotated.jpg
END:VEVENT
BEGIN:VEVENT
DTSTART;TZID=Europe/London:20241027T110000
DTEND;TZID=Europe/London:20241027T120000
DTSTAMP:20260422T074015
CREATED:20230130T182656Z
LAST-MODIFIED:20251108T122831Z
UID:10001630-1730026800-1730030400@garthma.wales
SUMMARY:Holy Eucharist - St. Mary & St James Church
DESCRIPTION:Please join us for our Holy Eucharist Service at St. Mary and St. James’ Church\, Taffs Well.
URL:https://garthma.wales/events/sunday-eucharist-6/2024-10-27/
LOCATION:St Mary & St James Church\, Taff’s Well\, Church Street\, Taffs Well\, CF15 7PG\, United Kingdom
CATEGORIES:Sunday Worship
ATTACH;FMTTYPE=image/jpeg:https://garthma.wales/wp-content/uploads/2023/07/candle-rotated.jpg
END:VEVENT
BEGIN:VEVENT
DTSTART;TZID=Europe/London:20241022T100000
DTEND;TZID=Europe/London:20241022T110000
DTSTAMP:20260422T074015
CREATED:20240306T201504Z
LAST-MODIFIED:20240306T201505Z
UID:10001829-1729591200-1729594800@garthma.wales
SUMMARY:Holy Eucharist - St Mary & St. James
DESCRIPTION:Please join us for our Holy Eucharist Service at St. Mary and St. James’ Church\, Taffs Well.
URL:https://garthma.wales/events/midweek-eucharist-3-2/2024-10-22/
LOCATION:St Mary & St James Church\, Taff’s Well\, Church Street\, Taffs Well\, CF15 7PG\, United Kingdom
CATEGORIES:Mid Week Worship
ATTACH;FMTTYPE=image/jpeg:https://garthma.wales/wp-content/uploads/2023/07/candle-rotated.jpg
END:VEVENT
BEGIN:VEVENT
DTSTART;TZID=Europe/London:20241020T110000
DTEND;TZID=Europe/London:20241020T120000
DTSTAMP:20260422T074015
CREATED:20230130T182656Z
LAST-MODIFIED:20251108T122831Z
UID:10001629-1729422000-1729425600@garthma.wales
SUMMARY:Holy Eucharist - St. Mary & St James Church
DESCRIPTION:Please join us for our Holy Eucharist Service at St. Mary and St. James’ Church\, Taffs Well.
URL:https://garthma.wales/events/sunday-eucharist-6/2024-10-20/
LOCATION:St Mary & St James Church\, Taff’s Well\, Church Street\, Taffs Well\, CF15 7PG\, United Kingdom
CATEGORIES:Sunday Worship
ATTACH;FMTTYPE=image/jpeg:https://garthma.wales/wp-content/uploads/2023/07/candle-rotated.jpg
END:VEVENT
BEGIN:VEVENT
DTSTART;TZID=Europe/London:20241015T100000
DTEND;TZID=Europe/London:20241015T110000
DTSTAMP:20260422T074015
CREATED:20240306T201504Z
LAST-MODIFIED:20240306T201505Z
UID:10001828-1728986400-1728990000@garthma.wales
SUMMARY:Holy Eucharist - St Mary & St. James
DESCRIPTION:Please join us for our Holy Eucharist Service at St. Mary and St. James’ Church\, Taffs Well.
URL:https://garthma.wales/events/midweek-eucharist-3-2/2024-10-15/
LOCATION:St Mary & St James Church\, Taff’s Well\, Church Street\, Taffs Well\, CF15 7PG\, United Kingdom
CATEGORIES:Mid Week Worship
ATTACH;FMTTYPE=image/jpeg:https://garthma.wales/wp-content/uploads/2023/07/candle-rotated.jpg
END:VEVENT
BEGIN:VEVENT
DTSTART;TZID=Europe/London:20241013T110000
DTEND;TZID=Europe/London:20241013T120000
DTSTAMP:20260422T074015
CREATED:20230130T182656Z
LAST-MODIFIED:20251108T122831Z
UID:10001628-1728817200-1728820800@garthma.wales
SUMMARY:Holy Eucharist - St. Mary & St James Church
DESCRIPTION:Please join us for our Holy Eucharist Service at St. Mary and St. James’ Church\, Taffs Well.
URL:https://garthma.wales/events/sunday-eucharist-6/2024-10-13/
LOCATION:St Mary & St James Church\, Taff’s Well\, Church Street\, Taffs Well\, CF15 7PG\, United Kingdom
CATEGORIES:Sunday Worship
ATTACH;FMTTYPE=image/jpeg:https://garthma.wales/wp-content/uploads/2023/07/candle-rotated.jpg
END:VEVENT
BEGIN:VEVENT
DTSTART;TZID=Europe/London:20241008T100000
DTEND;TZID=Europe/London:20241008T110000
DTSTAMP:20260422T074015
CREATED:20240306T201504Z
LAST-MODIFIED:20240306T201505Z
UID:10001827-1728381600-1728385200@garthma.wales
SUMMARY:Holy Eucharist - St Mary & St. James
DESCRIPTION:Please join us for our Holy Eucharist Service at St. Mary and St. James’ Church\, Taffs Well.
URL:https://garthma.wales/events/midweek-eucharist-3-2/2024-10-08/
LOCATION:St Mary & St James Church\, Taff’s Well\, Church Street\, Taffs Well\, CF15 7PG\, United Kingdom
CATEGORIES:Mid Week Worship
ATTACH;FMTTYPE=image/jpeg:https://garthma.wales/wp-content/uploads/2023/07/candle-rotated.jpg
END:VEVENT
BEGIN:VEVENT
DTSTART;TZID=Europe/London:20241006T110000
DTEND;TZID=Europe/London:20241006T120000
DTSTAMP:20260422T074015
CREATED:20230130T182656Z
LAST-MODIFIED:20251108T122831Z
UID:10001627-1728212400-1728216000@garthma.wales
SUMMARY:Holy Eucharist - St. Mary & St James Church
DESCRIPTION:Please join us for our Holy Eucharist Service at St. Mary and St. James’ Church\, Taffs Well.
URL:https://garthma.wales/events/sunday-eucharist-6/2024-10-06/
LOCATION:St Mary & St James Church\, Taff’s Well\, Church Street\, Taffs Well\, CF15 7PG\, United Kingdom
CATEGORIES:Sunday Worship
ATTACH;FMTTYPE=image/jpeg:https://garthma.wales/wp-content/uploads/2023/07/candle-rotated.jpg
END:VEVENT
BEGIN:VEVENT
DTSTART;TZID=Europe/London:20241001T100000
DTEND;TZID=Europe/London:20241001T110000
DTSTAMP:20260422T074015
CREATED:20240306T201504Z
LAST-MODIFIED:20240306T201505Z
UID:10001826-1727776800-1727780400@garthma.wales
SUMMARY:Holy Eucharist - St Mary & St. James
DESCRIPTION:Please join us for our Holy Eucharist Service at St. Mary and St. James’ Church\, Taffs Well.
URL:https://garthma.wales/events/midweek-eucharist-3-2/2024-10-01/
LOCATION:St Mary & St James Church\, Taff’s Well\, Church Street\, Taffs Well\, CF15 7PG\, United Kingdom
CATEGORIES:Mid Week Worship
ATTACH;FMTTYPE=image/jpeg:https://garthma.wales/wp-content/uploads/2023/07/candle-rotated.jpg
END:VEVENT
BEGIN:VEVENT
DTSTART;TZID=Europe/London:20240929T110000
DTEND;TZID=Europe/London:20240929T120000
DTSTAMP:20260422T074015
CREATED:20230130T182656Z
LAST-MODIFIED:20251108T122831Z
UID:10001626-1727607600-1727611200@garthma.wales
SUMMARY:Holy Eucharist - St. Mary & St James Church
DESCRIPTION:Please join us for our Holy Eucharist Service at St. Mary and St. James’ Church\, Taffs Well.
URL:https://garthma.wales/events/sunday-eucharist-6/2024-09-29/
LOCATION:St Mary & St James Church\, Taff’s Well\, Church Street\, Taffs Well\, CF15 7PG\, United Kingdom
CATEGORIES:Sunday Worship
ATTACH;FMTTYPE=image/jpeg:https://garthma.wales/wp-content/uploads/2023/07/candle-rotated.jpg
END:VEVENT
BEGIN:VEVENT
DTSTART;TZID=Europe/London:20240924T100000
DTEND;TZID=Europe/London:20240924T110000
DTSTAMP:20260422T074015
CREATED:20240306T201504Z
LAST-MODIFIED:20240306T201505Z
UID:10001825-1727172000-1727175600@garthma.wales
SUMMARY:Holy Eucharist - St Mary & St. James
DESCRIPTION:Please join us for our Holy Eucharist Service at St. Mary and St. James’ Church\, Taffs Well.
URL:https://garthma.wales/events/midweek-eucharist-3-2/2024-09-24/
LOCATION:St Mary & St James Church\, Taff’s Well\, Church Street\, Taffs Well\, CF15 7PG\, United Kingdom
CATEGORIES:Mid Week Worship
ATTACH;FMTTYPE=image/jpeg:https://garthma.wales/wp-content/uploads/2023/07/candle-rotated.jpg
END:VEVENT
END:VCALENDAR