BEGIN:VCALENDAR
VERSION:2.0
PRODID:-//The Garth Ministry Area - ECPv6.15.20//NONSGML v1.0//EN
CALSCALE:GREGORIAN
METHOD:PUBLISH
X-ORIGINAL-URL:https://garthma.wales
X-WR-CALDESC:Events for The Garth Ministry Area
REFRESH-INTERVAL;VALUE=DURATION:PT1H
X-Robots-Tag:noindex
X-PUBLISHED-TTL:PT1H
BEGIN:VTIMEZONE
TZID:Europe/London
BEGIN:DAYLIGHT
TZOFFSETFROM:+0000
TZOFFSETTO:+0100
TZNAME:BST
DTSTART:20290325T010000
END:DAYLIGHT
BEGIN:STANDARD
TZOFFSETFROM:+0100
TZOFFSETTO:+0000
TZNAME:GMT
DTSTART:20291028T010000
END:STANDARD
BEGIN:DAYLIGHT
TZOFFSETFROM:+0000
TZOFFSETTO:+0100
TZNAME:BST
DTSTART:20300331T010000
END:DAYLIGHT
BEGIN:STANDARD
TZOFFSETFROM:+0100
TZOFFSETTO:+0000
TZNAME:GMT
DTSTART:20301027T010000
END:STANDARD
BEGIN:DAYLIGHT
TZOFFSETFROM:+0000
TZOFFSETTO:+0100
TZNAME:BST
DTSTART:20310330T010000
END:DAYLIGHT
BEGIN:STANDARD
TZOFFSETFROM:+0100
TZOFFSETTO:+0000
TZNAME:GMT
DTSTART:20311026T010000
END:STANDARD
END:VTIMEZONE
BEGIN:VEVENT
DTSTART;TZID=Europe/London:20300811T103000
DTEND;TZID=Europe/London:20300811T113000
DTSTAMP:20260425T170246
CREATED:20250127T124930Z
LAST-MODIFIED:20260107T105554Z
UID:10011235-1912674600-1912678200@garthma.wales
SUMMARY:Holy Eucharist - St Mary's Church
DESCRIPTION:A warm welcome awaits you\, so please join us for our Holy Eucharist Service at St. Mary’s Church\, St. Fagans. There will also be Junior Church during the service.
URL:https://garthma.wales/events/sunday-eucharist-8/2030-08-11/
LOCATION:St Mary’s Church\, St Fagans\, Crofft-y-Genau Road\, St Fagans\, CF5 6EL\, United Kingdom
CATEGORIES:Sunday Worship
ATTACH;FMTTYPE=image/webp:https://garthma.wales/wp-content/uploads/2023/01/Tower-Glass-Door-image-St-Marys.webp
END:VEVENT
BEGIN:VEVENT
DTSTART;TZID=Europe/London:20300818T103000
DTEND;TZID=Europe/London:20300818T113000
DTSTAMP:20260425T170246
CREATED:20250127T124930Z
LAST-MODIFIED:20260107T105554Z
UID:10011236-1913279400-1913283000@garthma.wales
SUMMARY:Holy Eucharist - St Mary's Church
DESCRIPTION:A warm welcome awaits you\, so please join us for our Holy Eucharist Service at St. Mary’s Church\, St. Fagans. There will also be Junior Church during the service.
URL:https://garthma.wales/events/sunday-eucharist-8/2030-08-18/
LOCATION:St Mary’s Church\, St Fagans\, Crofft-y-Genau Road\, St Fagans\, CF5 6EL\, United Kingdom
CATEGORIES:Sunday Worship
ATTACH;FMTTYPE=image/webp:https://garthma.wales/wp-content/uploads/2023/01/Tower-Glass-Door-image-St-Marys.webp
END:VEVENT
BEGIN:VEVENT
DTSTART;TZID=Europe/London:20300825T103000
DTEND;TZID=Europe/London:20300825T113000
DTSTAMP:20260425T170246
CREATED:20250127T124930Z
LAST-MODIFIED:20260107T105554Z
UID:10011237-1913884200-1913887800@garthma.wales
SUMMARY:Holy Eucharist - St Mary's Church
DESCRIPTION:A warm welcome awaits you\, so please join us for our Holy Eucharist Service at St. Mary’s Church\, St. Fagans. There will also be Junior Church during the service.
URL:https://garthma.wales/events/sunday-eucharist-8/2030-08-25/
LOCATION:St Mary’s Church\, St Fagans\, Crofft-y-Genau Road\, St Fagans\, CF5 6EL\, United Kingdom
CATEGORIES:Sunday Worship
ATTACH;FMTTYPE=image/webp:https://garthma.wales/wp-content/uploads/2023/01/Tower-Glass-Door-image-St-Marys.webp
END:VEVENT
BEGIN:VEVENT
DTSTART;TZID=Europe/London:20300901T080000
DTEND;TZID=Europe/London:20300901T090000
DTSTAMP:20260425T170246
CREATED:20231020T072852Z
LAST-MODIFIED:20260107T105400Z
UID:10011369-1914480000-1914483600@garthma.wales
SUMMARY:Holy Eucharist - St Mary's Church
DESCRIPTION:Holy Eucharist Service held at St. Mary’s Church\, St. Fagans on the first Sunday of the month.
URL:https://garthma.wales/events/holy-eucharist-st-marys-church/2030-09-01/
LOCATION:St Mary’s Church\, St Fagans\, Crofft-y-Genau Road\, St Fagans\, CF5 6EL\, United Kingdom
CATEGORIES:Sunday Worship
ATTACH;FMTTYPE=image/webp:https://garthma.wales/wp-content/uploads/2023/01/Tower-Glass-Door-image-St-Marys.webp
END:VEVENT
BEGIN:VEVENT
DTSTART;TZID=Europe/London:20300901T103000
DTEND;TZID=Europe/London:20300901T113000
DTSTAMP:20260425T170246
CREATED:20231020T073557Z
LAST-MODIFIED:20260107T110911Z
UID:10011731-1914489000-1914492600@garthma.wales
SUMMARY:All Age Service - St Mary's Church
DESCRIPTION:Please join us for our All Age Service. We look forward to welcoming everyone at this service: the young\, and young at heart. Please do join us.
URL:https://garthma.wales/events/all-age-service-st-marys-church/2030-09-01/
LOCATION:St Mary’s Church\, St Fagans\, Crofft-y-Genau Road\, St Fagans\, CF5 6EL\, United Kingdom
ATTACH;FMTTYPE=image/png:https://garthma.wales/wp-content/uploads/2023/07/All-Age-Service-Logo_final-1.png
END:VEVENT
BEGIN:VEVENT
DTSTART;TZID=Europe/London:20300901T103000
DTEND;TZID=Europe/London:20300901T113000
DTSTAMP:20260425T170246
CREATED:20250127T124930Z
LAST-MODIFIED:20260107T105554Z
UID:10011238-1914489000-1914492600@garthma.wales
SUMMARY:Holy Eucharist - St Mary's Church
DESCRIPTION:A warm welcome awaits you\, so please join us for our Holy Eucharist Service at St. Mary’s Church\, St. Fagans. There will also be Junior Church during the service.
URL:https://garthma.wales/events/sunday-eucharist-8/2030-09-01/
LOCATION:St Mary’s Church\, St Fagans\, Crofft-y-Genau Road\, St Fagans\, CF5 6EL\, United Kingdom
CATEGORIES:Sunday Worship
ATTACH;FMTTYPE=image/webp:https://garthma.wales/wp-content/uploads/2023/01/Tower-Glass-Door-image-St-Marys.webp
END:VEVENT
BEGIN:VEVENT
DTSTART;TZID=Europe/London:20300905T140000
DTEND;TZID=Europe/London:20300905T150000
DTSTAMP:20260425T170246
CREATED:20250501T105805Z
LAST-MODIFIED:20251106T203906Z
UID:10011362-1914847200-1914850800@garthma.wales
SUMMARY:Mothers' Union
DESCRIPTION:Join the Mothers’ Union at St Mary’s Church\, St Fagans on the first Thursday of each month.
URL:https://garthma.wales/events/mothers-union-2/2030-09-05/
LOCATION:St Mary’s Church\, St Fagans\, Crofft-y-Genau Road\, St Fagans\, CF5 6EL\, United Kingdom
ATTACH;FMTTYPE=image/jpeg:https://garthma.wales/wp-content/uploads/2022/10/mothers-union.jpg
END:VEVENT
BEGIN:VEVENT
DTSTART;TZID=Europe/London:20300908T103000
DTEND;TZID=Europe/London:20300908T113000
DTSTAMP:20260425T170246
CREATED:20250127T124930Z
LAST-MODIFIED:20260107T105554Z
UID:10011239-1915093800-1915097400@garthma.wales
SUMMARY:Holy Eucharist - St Mary's Church
DESCRIPTION:A warm welcome awaits you\, so please join us for our Holy Eucharist Service at St. Mary’s Church\, St. Fagans. There will also be Junior Church during the service.
URL:https://garthma.wales/events/sunday-eucharist-8/2030-09-08/
LOCATION:St Mary’s Church\, St Fagans\, Crofft-y-Genau Road\, St Fagans\, CF5 6EL\, United Kingdom
CATEGORIES:Sunday Worship
ATTACH;FMTTYPE=image/webp:https://garthma.wales/wp-content/uploads/2023/01/Tower-Glass-Door-image-St-Marys.webp
END:VEVENT
BEGIN:VEVENT
DTSTART;TZID=Europe/London:20300915T103000
DTEND;TZID=Europe/London:20300915T113000
DTSTAMP:20260425T170246
CREATED:20250127T124930Z
LAST-MODIFIED:20260107T105554Z
UID:10011240-1915698600-1915702200@garthma.wales
SUMMARY:Holy Eucharist - St Mary's Church
DESCRIPTION:A warm welcome awaits you\, so please join us for our Holy Eucharist Service at St. Mary’s Church\, St. Fagans. There will also be Junior Church during the service.
URL:https://garthma.wales/events/sunday-eucharist-8/2030-09-15/
LOCATION:St Mary’s Church\, St Fagans\, Crofft-y-Genau Road\, St Fagans\, CF5 6EL\, United Kingdom
CATEGORIES:Sunday Worship
ATTACH;FMTTYPE=image/webp:https://garthma.wales/wp-content/uploads/2023/01/Tower-Glass-Door-image-St-Marys.webp
END:VEVENT
BEGIN:VEVENT
DTSTART;TZID=Europe/London:20300922T103000
DTEND;TZID=Europe/London:20300922T113000
DTSTAMP:20260425T170246
CREATED:20250127T124930Z
LAST-MODIFIED:20260107T105554Z
UID:10011241-1916303400-1916307000@garthma.wales
SUMMARY:Holy Eucharist - St Mary's Church
DESCRIPTION:A warm welcome awaits you\, so please join us for our Holy Eucharist Service at St. Mary’s Church\, St. Fagans. There will also be Junior Church during the service.
URL:https://garthma.wales/events/sunday-eucharist-8/2030-09-22/
LOCATION:St Mary’s Church\, St Fagans\, Crofft-y-Genau Road\, St Fagans\, CF5 6EL\, United Kingdom
CATEGORIES:Sunday Worship
ATTACH;FMTTYPE=image/webp:https://garthma.wales/wp-content/uploads/2023/01/Tower-Glass-Door-image-St-Marys.webp
END:VEVENT
BEGIN:VEVENT
DTSTART;TZID=Europe/London:20300929T103000
DTEND;TZID=Europe/London:20300929T113000
DTSTAMP:20260425T170246
CREATED:20250127T124930Z
LAST-MODIFIED:20260107T105554Z
UID:10011242-1916908200-1916911800@garthma.wales
SUMMARY:Holy Eucharist - St Mary's Church
DESCRIPTION:A warm welcome awaits you\, so please join us for our Holy Eucharist Service at St. Mary’s Church\, St. Fagans. There will also be Junior Church during the service.
URL:https://garthma.wales/events/sunday-eucharist-8/2030-09-29/
LOCATION:St Mary’s Church\, St Fagans\, Crofft-y-Genau Road\, St Fagans\, CF5 6EL\, United Kingdom
CATEGORIES:Sunday Worship
ATTACH;FMTTYPE=image/webp:https://garthma.wales/wp-content/uploads/2023/01/Tower-Glass-Door-image-St-Marys.webp
END:VEVENT
BEGIN:VEVENT
DTSTART;TZID=Europe/London:20301003T140000
DTEND;TZID=Europe/London:20301003T150000
DTSTAMP:20260425T170246
CREATED:20250501T105805Z
LAST-MODIFIED:20251106T203906Z
UID:10011363-1917266400-1917270000@garthma.wales
SUMMARY:Mothers' Union
DESCRIPTION:Join the Mothers’ Union at St Mary’s Church\, St Fagans on the first Thursday of each month.
URL:https://garthma.wales/events/mothers-union-2/2030-10-03/
LOCATION:St Mary’s Church\, St Fagans\, Crofft-y-Genau Road\, St Fagans\, CF5 6EL\, United Kingdom
ATTACH;FMTTYPE=image/jpeg:https://garthma.wales/wp-content/uploads/2022/10/mothers-union.jpg
END:VEVENT
BEGIN:VEVENT
DTSTART;TZID=Europe/London:20301006T080000
DTEND;TZID=Europe/London:20301006T090000
DTSTAMP:20260425T170246
CREATED:20231020T072852Z
LAST-MODIFIED:20260107T105400Z
UID:10011370-1917504000-1917507600@garthma.wales
SUMMARY:Holy Eucharist - St Mary's Church
DESCRIPTION:Holy Eucharist Service held at St. Mary’s Church\, St. Fagans on the first Sunday of the month.
URL:https://garthma.wales/events/holy-eucharist-st-marys-church/2030-10-06/
LOCATION:St Mary’s Church\, St Fagans\, Crofft-y-Genau Road\, St Fagans\, CF5 6EL\, United Kingdom
CATEGORIES:Sunday Worship
ATTACH;FMTTYPE=image/webp:https://garthma.wales/wp-content/uploads/2023/01/Tower-Glass-Door-image-St-Marys.webp
END:VEVENT
BEGIN:VEVENT
DTSTART;TZID=Europe/London:20301006T103000
DTEND;TZID=Europe/London:20301006T113000
DTSTAMP:20260425T170246
CREATED:20231020T073557Z
LAST-MODIFIED:20260107T110911Z
UID:10011732-1917513000-1917516600@garthma.wales
SUMMARY:All Age Service - St Mary's Church
DESCRIPTION:Please join us for our All Age Service. We look forward to welcoming everyone at this service: the young\, and young at heart. Please do join us.
URL:https://garthma.wales/events/all-age-service-st-marys-church/2030-10-06/
LOCATION:St Mary’s Church\, St Fagans\, Crofft-y-Genau Road\, St Fagans\, CF5 6EL\, United Kingdom
ATTACH;FMTTYPE=image/png:https://garthma.wales/wp-content/uploads/2023/07/All-Age-Service-Logo_final-1.png
END:VEVENT
BEGIN:VEVENT
DTSTART;TZID=Europe/London:20301006T103000
DTEND;TZID=Europe/London:20301006T113000
DTSTAMP:20260425T170246
CREATED:20250127T124930Z
LAST-MODIFIED:20260107T105554Z
UID:10011243-1917513000-1917516600@garthma.wales
SUMMARY:Holy Eucharist - St Mary's Church
DESCRIPTION:A warm welcome awaits you\, so please join us for our Holy Eucharist Service at St. Mary’s Church\, St. Fagans. There will also be Junior Church during the service.
URL:https://garthma.wales/events/sunday-eucharist-8/2030-10-06/
LOCATION:St Mary’s Church\, St Fagans\, Crofft-y-Genau Road\, St Fagans\, CF5 6EL\, United Kingdom
CATEGORIES:Sunday Worship
ATTACH;FMTTYPE=image/webp:https://garthma.wales/wp-content/uploads/2023/01/Tower-Glass-Door-image-St-Marys.webp
END:VEVENT
BEGIN:VEVENT
DTSTART;TZID=Europe/London:20301013T103000
DTEND;TZID=Europe/London:20301013T113000
DTSTAMP:20260425T170246
CREATED:20250127T124930Z
LAST-MODIFIED:20260107T105554Z
UID:10011244-1918117800-1918121400@garthma.wales
SUMMARY:Holy Eucharist - St Mary's Church
DESCRIPTION:A warm welcome awaits you\, so please join us for our Holy Eucharist Service at St. Mary’s Church\, St. Fagans. There will also be Junior Church during the service.
URL:https://garthma.wales/events/sunday-eucharist-8/2030-10-13/
LOCATION:St Mary’s Church\, St Fagans\, Crofft-y-Genau Road\, St Fagans\, CF5 6EL\, United Kingdom
CATEGORIES:Sunday Worship
ATTACH;FMTTYPE=image/webp:https://garthma.wales/wp-content/uploads/2023/01/Tower-Glass-Door-image-St-Marys.webp
END:VEVENT
BEGIN:VEVENT
DTSTART;TZID=Europe/London:20301020T103000
DTEND;TZID=Europe/London:20301020T113000
DTSTAMP:20260425T170246
CREATED:20250127T124930Z
LAST-MODIFIED:20260107T105554Z
UID:10011245-1918722600-1918726200@garthma.wales
SUMMARY:Holy Eucharist - St Mary's Church
DESCRIPTION:A warm welcome awaits you\, so please join us for our Holy Eucharist Service at St. Mary’s Church\, St. Fagans. There will also be Junior Church during the service.
URL:https://garthma.wales/events/sunday-eucharist-8/2030-10-20/
LOCATION:St Mary’s Church\, St Fagans\, Crofft-y-Genau Road\, St Fagans\, CF5 6EL\, United Kingdom
CATEGORIES:Sunday Worship
ATTACH;FMTTYPE=image/webp:https://garthma.wales/wp-content/uploads/2023/01/Tower-Glass-Door-image-St-Marys.webp
END:VEVENT
BEGIN:VEVENT
DTSTART;TZID=Europe/London:20301027T103000
DTEND;TZID=Europe/London:20301027T113000
DTSTAMP:20260425T170246
CREATED:20250127T124930Z
LAST-MODIFIED:20260107T105554Z
UID:10011246-1919327400-1919331000@garthma.wales
SUMMARY:Holy Eucharist - St Mary's Church
DESCRIPTION:A warm welcome awaits you\, so please join us for our Holy Eucharist Service at St. Mary’s Church\, St. Fagans. There will also be Junior Church during the service.
URL:https://garthma.wales/events/sunday-eucharist-8/2030-10-27/
LOCATION:St Mary’s Church\, St Fagans\, Crofft-y-Genau Road\, St Fagans\, CF5 6EL\, United Kingdom
CATEGORIES:Sunday Worship
ATTACH;FMTTYPE=image/webp:https://garthma.wales/wp-content/uploads/2023/01/Tower-Glass-Door-image-St-Marys.webp
END:VEVENT
BEGIN:VEVENT
DTSTART;TZID=Europe/London:20301103T080000
DTEND;TZID=Europe/London:20301103T090000
DTSTAMP:20260425T170246
CREATED:20231020T072852Z
LAST-MODIFIED:20260107T105400Z
UID:10011371-1919923200-1919926800@garthma.wales
SUMMARY:Holy Eucharist - St Mary's Church
DESCRIPTION:Holy Eucharist Service held at St. Mary’s Church\, St. Fagans on the first Sunday of the month.
URL:https://garthma.wales/events/holy-eucharist-st-marys-church/2030-11-03/
LOCATION:St Mary’s Church\, St Fagans\, Crofft-y-Genau Road\, St Fagans\, CF5 6EL\, United Kingdom
CATEGORIES:Sunday Worship
ATTACH;FMTTYPE=image/webp:https://garthma.wales/wp-content/uploads/2023/01/Tower-Glass-Door-image-St-Marys.webp
END:VEVENT
BEGIN:VEVENT
DTSTART;TZID=Europe/London:20301103T103000
DTEND;TZID=Europe/London:20301103T113000
DTSTAMP:20260425T170246
CREATED:20231020T073557Z
LAST-MODIFIED:20260107T110911Z
UID:10011733-1919932200-1919935800@garthma.wales
SUMMARY:All Age Service - St Mary's Church
DESCRIPTION:Please join us for our All Age Service. We look forward to welcoming everyone at this service: the young\, and young at heart. Please do join us.
URL:https://garthma.wales/events/all-age-service-st-marys-church/2030-11-03/
LOCATION:St Mary’s Church\, St Fagans\, Crofft-y-Genau Road\, St Fagans\, CF5 6EL\, United Kingdom
ATTACH;FMTTYPE=image/png:https://garthma.wales/wp-content/uploads/2023/07/All-Age-Service-Logo_final-1.png
END:VEVENT
BEGIN:VEVENT
DTSTART;TZID=Europe/London:20301103T103000
DTEND;TZID=Europe/London:20301103T113000
DTSTAMP:20260425T170246
CREATED:20250127T124930Z
LAST-MODIFIED:20260107T105554Z
UID:10011311-1919932200-1919935800@garthma.wales
SUMMARY:Holy Eucharist - St Mary's Church
DESCRIPTION:A warm welcome awaits you\, so please join us for our Holy Eucharist Service at St. Mary’s Church\, St. Fagans. There will also be Junior Church during the service.
URL:https://garthma.wales/events/sunday-eucharist-8/2030-11-03/
LOCATION:St Mary’s Church\, St Fagans\, Crofft-y-Genau Road\, St Fagans\, CF5 6EL\, United Kingdom
CATEGORIES:Sunday Worship
ATTACH;FMTTYPE=image/webp:https://garthma.wales/wp-content/uploads/2023/01/Tower-Glass-Door-image-St-Marys.webp
END:VEVENT
BEGIN:VEVENT
DTSTART;TZID=Europe/London:20301110T103000
DTEND;TZID=Europe/London:20301110T113000
DTSTAMP:20260425T170246
CREATED:20250127T124930Z
LAST-MODIFIED:20260107T105554Z
UID:10011721-1920537000-1920540600@garthma.wales
SUMMARY:Holy Eucharist - St Mary's Church
DESCRIPTION:A warm welcome awaits you\, so please join us for our Holy Eucharist Service at St. Mary’s Church\, St. Fagans. There will also be Junior Church during the service.
URL:https://garthma.wales/events/sunday-eucharist-8/2030-11-10/
LOCATION:St Mary’s Church\, St Fagans\, Crofft-y-Genau Road\, St Fagans\, CF5 6EL\, United Kingdom
CATEGORIES:Sunday Worship
ATTACH;FMTTYPE=image/webp:https://garthma.wales/wp-content/uploads/2023/01/Tower-Glass-Door-image-St-Marys.webp
END:VEVENT
BEGIN:VEVENT
DTSTART;TZID=Europe/London:20301117T103000
DTEND;TZID=Europe/London:20301117T113000
DTSTAMP:20260425T170246
CREATED:20250127T124930Z
LAST-MODIFIED:20260107T105554Z
UID:10011722-1921141800-1921145400@garthma.wales
SUMMARY:Holy Eucharist - St Mary's Church
DESCRIPTION:A warm welcome awaits you\, so please join us for our Holy Eucharist Service at St. Mary’s Church\, St. Fagans. There will also be Junior Church during the service.
URL:https://garthma.wales/events/sunday-eucharist-8/2030-11-17/
LOCATION:St Mary’s Church\, St Fagans\, Crofft-y-Genau Road\, St Fagans\, CF5 6EL\, United Kingdom
CATEGORIES:Sunday Worship
ATTACH;FMTTYPE=image/webp:https://garthma.wales/wp-content/uploads/2023/01/Tower-Glass-Door-image-St-Marys.webp
END:VEVENT
BEGIN:VEVENT
DTSTART;TZID=Europe/London:20301124T103000
DTEND;TZID=Europe/London:20301124T113000
DTSTAMP:20260425T170246
CREATED:20250127T124930Z
LAST-MODIFIED:20260107T105554Z
UID:10011723-1921746600-1921750200@garthma.wales
SUMMARY:Holy Eucharist - St Mary's Church
DESCRIPTION:A warm welcome awaits you\, so please join us for our Holy Eucharist Service at St. Mary’s Church\, St. Fagans. There will also be Junior Church during the service.
URL:https://garthma.wales/events/sunday-eucharist-8/2030-11-24/
LOCATION:St Mary’s Church\, St Fagans\, Crofft-y-Genau Road\, St Fagans\, CF5 6EL\, United Kingdom
CATEGORIES:Sunday Worship
ATTACH;FMTTYPE=image/webp:https://garthma.wales/wp-content/uploads/2023/01/Tower-Glass-Door-image-St-Marys.webp
END:VEVENT
BEGIN:VEVENT
DTSTART;TZID=Europe/London:20301201T080000
DTEND;TZID=Europe/London:20301201T090000
DTSTAMP:20260425T170246
CREATED:20231020T072852Z
LAST-MODIFIED:20260107T105400Z
UID:10011699-1922342400-1922346000@garthma.wales
SUMMARY:Holy Eucharist - St Mary's Church
DESCRIPTION:Holy Eucharist Service held at St. Mary’s Church\, St. Fagans on the first Sunday of the month.
URL:https://garthma.wales/events/holy-eucharist-st-marys-church/2030-12-01/
LOCATION:St Mary’s Church\, St Fagans\, Crofft-y-Genau Road\, St Fagans\, CF5 6EL\, United Kingdom
CATEGORIES:Sunday Worship
ATTACH;FMTTYPE=image/webp:https://garthma.wales/wp-content/uploads/2023/01/Tower-Glass-Door-image-St-Marys.webp
END:VEVENT
BEGIN:VEVENT
DTSTART;TZID=Europe/London:20301201T103000
DTEND;TZID=Europe/London:20301201T113000
DTSTAMP:20260425T170246
CREATED:20231020T073557Z
LAST-MODIFIED:20260107T110911Z
UID:10011734-1922351400-1922355000@garthma.wales
SUMMARY:All Age Service - St Mary's Church
DESCRIPTION:Please join us for our All Age Service. We look forward to welcoming everyone at this service: the young\, and young at heart. Please do join us.
URL:https://garthma.wales/events/all-age-service-st-marys-church/2030-12-01/
LOCATION:St Mary’s Church\, St Fagans\, Crofft-y-Genau Road\, St Fagans\, CF5 6EL\, United Kingdom
ATTACH;FMTTYPE=image/png:https://garthma.wales/wp-content/uploads/2023/07/All-Age-Service-Logo_final-1.png
END:VEVENT
BEGIN:VEVENT
DTSTART;TZID=Europe/London:20301201T103000
DTEND;TZID=Europe/London:20301201T113000
DTSTAMP:20260425T170246
CREATED:20250127T124930Z
LAST-MODIFIED:20260107T105554Z
UID:10011724-1922351400-1922355000@garthma.wales
SUMMARY:Holy Eucharist - St Mary's Church
DESCRIPTION:A warm welcome awaits you\, so please join us for our Holy Eucharist Service at St. Mary’s Church\, St. Fagans. There will also be Junior Church during the service.
URL:https://garthma.wales/events/sunday-eucharist-8/2030-12-01/
LOCATION:St Mary’s Church\, St Fagans\, Crofft-y-Genau Road\, St Fagans\, CF5 6EL\, United Kingdom
CATEGORIES:Sunday Worship
ATTACH;FMTTYPE=image/webp:https://garthma.wales/wp-content/uploads/2023/01/Tower-Glass-Door-image-St-Marys.webp
END:VEVENT
BEGIN:VEVENT
DTSTART;TZID=Europe/London:20301208T103000
DTEND;TZID=Europe/London:20301208T113000
DTSTAMP:20260425T170247
CREATED:20250127T124930Z
LAST-MODIFIED:20260107T105554Z
UID:10011725-1922956200-1922959800@garthma.wales
SUMMARY:Holy Eucharist - St Mary's Church
DESCRIPTION:A warm welcome awaits you\, so please join us for our Holy Eucharist Service at St. Mary’s Church\, St. Fagans. There will also be Junior Church during the service.
URL:https://garthma.wales/events/sunday-eucharist-8/2030-12-08/
LOCATION:St Mary’s Church\, St Fagans\, Crofft-y-Genau Road\, St Fagans\, CF5 6EL\, United Kingdom
CATEGORIES:Sunday Worship
ATTACH;FMTTYPE=image/webp:https://garthma.wales/wp-content/uploads/2023/01/Tower-Glass-Door-image-St-Marys.webp
END:VEVENT
BEGIN:VEVENT
DTSTART;TZID=Europe/London:20301215T103000
DTEND;TZID=Europe/London:20301215T113000
DTSTAMP:20260425T170247
CREATED:20250127T124930Z
LAST-MODIFIED:20260107T105554Z
UID:10011726-1923561000-1923564600@garthma.wales
SUMMARY:Holy Eucharist - St Mary's Church
DESCRIPTION:A warm welcome awaits you\, so please join us for our Holy Eucharist Service at St. Mary’s Church\, St. Fagans. There will also be Junior Church during the service.
URL:https://garthma.wales/events/sunday-eucharist-8/2030-12-15/
LOCATION:St Mary’s Church\, St Fagans\, Crofft-y-Genau Road\, St Fagans\, CF5 6EL\, United Kingdom
CATEGORIES:Sunday Worship
ATTACH;FMTTYPE=image/webp:https://garthma.wales/wp-content/uploads/2023/01/Tower-Glass-Door-image-St-Marys.webp
END:VEVENT
BEGIN:VEVENT
DTSTART;TZID=Europe/London:20301222T103000
DTEND;TZID=Europe/London:20301222T113000
DTSTAMP:20260425T170247
CREATED:20250127T124930Z
LAST-MODIFIED:20260107T105554Z
UID:10011727-1924165800-1924169400@garthma.wales
SUMMARY:Holy Eucharist - St Mary's Church
DESCRIPTION:A warm welcome awaits you\, so please join us for our Holy Eucharist Service at St. Mary’s Church\, St. Fagans. There will also be Junior Church during the service.
URL:https://garthma.wales/events/sunday-eucharist-8/2030-12-22/
LOCATION:St Mary’s Church\, St Fagans\, Crofft-y-Genau Road\, St Fagans\, CF5 6EL\, United Kingdom
CATEGORIES:Sunday Worship
ATTACH;FMTTYPE=image/webp:https://garthma.wales/wp-content/uploads/2023/01/Tower-Glass-Door-image-St-Marys.webp
END:VEVENT
END:VCALENDAR