BEGIN:VCALENDAR
VERSION:2.0
PRODID:-//The Garth Ministry Area - ECPv6.15.20//NONSGML v1.0//EN
CALSCALE:GREGORIAN
METHOD:PUBLISH
X-ORIGINAL-URL:https://garthma.wales
X-WR-CALDESC:Events for The Garth Ministry Area
REFRESH-INTERVAL;VALUE=DURATION:PT1H
X-Robots-Tag:noindex
X-PUBLISHED-TTL:PT1H
BEGIN:VTIMEZONE
TZID:Europe/London
BEGIN:DAYLIGHT
TZOFFSETFROM:+0000
TZOFFSETTO:+0100
TZNAME:BST
DTSTART:20290325T010000
END:DAYLIGHT
BEGIN:STANDARD
TZOFFSETFROM:+0100
TZOFFSETTO:+0000
TZNAME:GMT
DTSTART:20291028T010000
END:STANDARD
BEGIN:DAYLIGHT
TZOFFSETFROM:+0000
TZOFFSETTO:+0100
TZNAME:BST
DTSTART:20300331T010000
END:DAYLIGHT
BEGIN:STANDARD
TZOFFSETFROM:+0100
TZOFFSETTO:+0000
TZNAME:GMT
DTSTART:20301027T010000
END:STANDARD
BEGIN:DAYLIGHT
TZOFFSETFROM:+0000
TZOFFSETTO:+0100
TZNAME:BST
DTSTART:20310330T010000
END:DAYLIGHT
BEGIN:STANDARD
TZOFFSETFROM:+0100
TZOFFSETTO:+0000
TZNAME:GMT
DTSTART:20311026T010000
END:STANDARD
END:VTIMEZONE
BEGIN:VEVENT
DTSTART;TZID=Europe/London:20300505T103000
DTEND;TZID=Europe/London:20300505T113000
DTSTAMP:20260422T081233
CREATED:20231020T073557Z
LAST-MODIFIED:20260107T110911Z
UID:10011085-1904207400-1904211000@garthma.wales
SUMMARY:All Age Service - St Mary's Church
DESCRIPTION:Please join us for our All Age Service. We look forward to welcoming everyone at this service: the young\, and young at heart. Please do join us.
URL:https://garthma.wales/events/all-age-service-st-marys-church/2030-05-05/
LOCATION:St Mary’s Church\, St Fagans\, Crofft-y-Genau Road\, St Fagans\, CF5 6EL\, United Kingdom
ATTACH;FMTTYPE=image/png:https://garthma.wales/wp-content/uploads/2023/07/All-Age-Service-Logo_final-1.png
END:VEVENT
BEGIN:VEVENT
DTSTART;TZID=Europe/London:20300505T103000
DTEND;TZID=Europe/London:20300505T113000
DTSTAMP:20260422T081233
CREATED:20250127T124930Z
LAST-MODIFIED:20260107T105554Z
UID:10011221-1904207400-1904211000@garthma.wales
SUMMARY:Holy Eucharist - St Mary's Church
DESCRIPTION:A warm welcome awaits you\, so please join us for our Holy Eucharist Service at St. Mary’s Church\, St. Fagans. There will also be Junior Church during the service.
URL:https://garthma.wales/events/sunday-eucharist-8/2030-05-05/
LOCATION:St Mary’s Church\, St Fagans\, Crofft-y-Genau Road\, St Fagans\, CF5 6EL\, United Kingdom
CATEGORIES:Sunday Worship
ATTACH;FMTTYPE=image/webp:https://garthma.wales/wp-content/uploads/2023/01/Tower-Glass-Door-image-St-Marys.webp
END:VEVENT
BEGIN:VEVENT
DTSTART;TZID=Europe/London:20300512T103000
DTEND;TZID=Europe/London:20300512T113000
DTSTAMP:20260422T081233
CREATED:20250127T124930Z
LAST-MODIFIED:20260107T105554Z
UID:10011222-1904812200-1904815800@garthma.wales
SUMMARY:Holy Eucharist - St Mary's Church
DESCRIPTION:A warm welcome awaits you\, so please join us for our Holy Eucharist Service at St. Mary’s Church\, St. Fagans. There will also be Junior Church during the service.
URL:https://garthma.wales/events/sunday-eucharist-8/2030-05-12/
LOCATION:St Mary’s Church\, St Fagans\, Crofft-y-Genau Road\, St Fagans\, CF5 6EL\, United Kingdom
CATEGORIES:Sunday Worship
ATTACH;FMTTYPE=image/webp:https://garthma.wales/wp-content/uploads/2023/01/Tower-Glass-Door-image-St-Marys.webp
END:VEVENT
BEGIN:VEVENT
DTSTART;TZID=Europe/London:20300519T103000
DTEND;TZID=Europe/London:20300519T113000
DTSTAMP:20260422T081234
CREATED:20250127T124930Z
LAST-MODIFIED:20260107T105554Z
UID:10011223-1905417000-1905420600@garthma.wales
SUMMARY:Holy Eucharist - St Mary's Church
DESCRIPTION:A warm welcome awaits you\, so please join us for our Holy Eucharist Service at St. Mary’s Church\, St. Fagans. There will also be Junior Church during the service.
URL:https://garthma.wales/events/sunday-eucharist-8/2030-05-19/
LOCATION:St Mary’s Church\, St Fagans\, Crofft-y-Genau Road\, St Fagans\, CF5 6EL\, United Kingdom
CATEGORIES:Sunday Worship
ATTACH;FMTTYPE=image/webp:https://garthma.wales/wp-content/uploads/2023/01/Tower-Glass-Door-image-St-Marys.webp
END:VEVENT
BEGIN:VEVENT
DTSTART;TZID=Europe/London:20300526T103000
DTEND;TZID=Europe/London:20300526T113000
DTSTAMP:20260422T081234
CREATED:20250127T124930Z
LAST-MODIFIED:20260107T105554Z
UID:10011224-1906021800-1906025400@garthma.wales
SUMMARY:Holy Eucharist - St Mary's Church
DESCRIPTION:A warm welcome awaits you\, so please join us for our Holy Eucharist Service at St. Mary’s Church\, St. Fagans. There will also be Junior Church during the service.
URL:https://garthma.wales/events/sunday-eucharist-8/2030-05-26/
LOCATION:St Mary’s Church\, St Fagans\, Crofft-y-Genau Road\, St Fagans\, CF5 6EL\, United Kingdom
CATEGORIES:Sunday Worship
ATTACH;FMTTYPE=image/webp:https://garthma.wales/wp-content/uploads/2023/01/Tower-Glass-Door-image-St-Marys.webp
END:VEVENT
BEGIN:VEVENT
DTSTART;TZID=Europe/London:20300602T080000
DTEND;TZID=Europe/London:20300602T090000
DTSTAMP:20260422T081234
CREATED:20231020T072852Z
LAST-MODIFIED:20260107T105400Z
UID:10011366-1906617600-1906621200@garthma.wales
SUMMARY:Holy Eucharist - St Mary's Church
DESCRIPTION:Holy Eucharist Service held at St. Mary’s Church\, St. Fagans on the first Sunday of the month.
URL:https://garthma.wales/events/holy-eucharist-st-marys-church/2030-06-02/
LOCATION:St Mary’s Church\, St Fagans\, Crofft-y-Genau Road\, St Fagans\, CF5 6EL\, United Kingdom
CATEGORIES:Sunday Worship
ATTACH;FMTTYPE=image/webp:https://garthma.wales/wp-content/uploads/2023/01/Tower-Glass-Door-image-St-Marys.webp
END:VEVENT
BEGIN:VEVENT
DTSTART;TZID=Europe/London:20300602T103000
DTEND;TZID=Europe/London:20300602T113000
DTSTAMP:20260422T081234
CREATED:20231020T073557Z
LAST-MODIFIED:20260107T110911Z
UID:10011086-1906626600-1906630200@garthma.wales
SUMMARY:All Age Service - St Mary's Church
DESCRIPTION:Please join us for our All Age Service. We look forward to welcoming everyone at this service: the young\, and young at heart. Please do join us.
URL:https://garthma.wales/events/all-age-service-st-marys-church/2030-06-02/
LOCATION:St Mary’s Church\, St Fagans\, Crofft-y-Genau Road\, St Fagans\, CF5 6EL\, United Kingdom
ATTACH;FMTTYPE=image/png:https://garthma.wales/wp-content/uploads/2023/07/All-Age-Service-Logo_final-1.png
END:VEVENT
BEGIN:VEVENT
DTSTART;TZID=Europe/London:20300602T103000
DTEND;TZID=Europe/London:20300602T113000
DTSTAMP:20260422T081234
CREATED:20250127T124930Z
LAST-MODIFIED:20260107T105554Z
UID:10011225-1906626600-1906630200@garthma.wales
SUMMARY:Holy Eucharist - St Mary's Church
DESCRIPTION:A warm welcome awaits you\, so please join us for our Holy Eucharist Service at St. Mary’s Church\, St. Fagans. There will also be Junior Church during the service.
URL:https://garthma.wales/events/sunday-eucharist-8/2030-06-02/
LOCATION:St Mary’s Church\, St Fagans\, Crofft-y-Genau Road\, St Fagans\, CF5 6EL\, United Kingdom
CATEGORIES:Sunday Worship
ATTACH;FMTTYPE=image/webp:https://garthma.wales/wp-content/uploads/2023/01/Tower-Glass-Door-image-St-Marys.webp
END:VEVENT
BEGIN:VEVENT
DTSTART;TZID=Europe/London:20300606T140000
DTEND;TZID=Europe/London:20300606T150000
DTSTAMP:20260422T081234
CREATED:20250501T105805Z
LAST-MODIFIED:20251106T203906Z
UID:10011359-1906984800-1906988400@garthma.wales
SUMMARY:Mothers' Union
DESCRIPTION:Join the Mothers’ Union at St Mary’s Church\, St Fagans on the first Thursday of each month.
URL:https://garthma.wales/events/mothers-union-2/2030-06-06/
LOCATION:St Mary’s Church\, St Fagans\, Crofft-y-Genau Road\, St Fagans\, CF5 6EL\, United Kingdom
ATTACH;FMTTYPE=image/jpeg:https://garthma.wales/wp-content/uploads/2022/10/mothers-union.jpg
END:VEVENT
BEGIN:VEVENT
DTSTART;TZID=Europe/London:20300609T103000
DTEND;TZID=Europe/London:20300609T113000
DTSTAMP:20260422T081234
CREATED:20250127T124930Z
LAST-MODIFIED:20260107T105554Z
UID:10011226-1907231400-1907235000@garthma.wales
SUMMARY:Holy Eucharist - St Mary's Church
DESCRIPTION:A warm welcome awaits you\, so please join us for our Holy Eucharist Service at St. Mary’s Church\, St. Fagans. There will also be Junior Church during the service.
URL:https://garthma.wales/events/sunday-eucharist-8/2030-06-09/
LOCATION:St Mary’s Church\, St Fagans\, Crofft-y-Genau Road\, St Fagans\, CF5 6EL\, United Kingdom
CATEGORIES:Sunday Worship
ATTACH;FMTTYPE=image/webp:https://garthma.wales/wp-content/uploads/2023/01/Tower-Glass-Door-image-St-Marys.webp
END:VEVENT
BEGIN:VEVENT
DTSTART;TZID=Europe/London:20300616T103000
DTEND;TZID=Europe/London:20300616T113000
DTSTAMP:20260422T081234
CREATED:20250127T124930Z
LAST-MODIFIED:20260107T105554Z
UID:10011227-1907836200-1907839800@garthma.wales
SUMMARY:Holy Eucharist - St Mary's Church
DESCRIPTION:A warm welcome awaits you\, so please join us for our Holy Eucharist Service at St. Mary’s Church\, St. Fagans. There will also be Junior Church during the service.
URL:https://garthma.wales/events/sunday-eucharist-8/2030-06-16/
LOCATION:St Mary’s Church\, St Fagans\, Crofft-y-Genau Road\, St Fagans\, CF5 6EL\, United Kingdom
CATEGORIES:Sunday Worship
ATTACH;FMTTYPE=image/webp:https://garthma.wales/wp-content/uploads/2023/01/Tower-Glass-Door-image-St-Marys.webp
END:VEVENT
BEGIN:VEVENT
DTSTART;TZID=Europe/London:20300623T103000
DTEND;TZID=Europe/London:20300623T113000
DTSTAMP:20260422T081234
CREATED:20250127T124930Z
LAST-MODIFIED:20260107T105554Z
UID:10011228-1908441000-1908444600@garthma.wales
SUMMARY:Holy Eucharist - St Mary's Church
DESCRIPTION:A warm welcome awaits you\, so please join us for our Holy Eucharist Service at St. Mary’s Church\, St. Fagans. There will also be Junior Church during the service.
URL:https://garthma.wales/events/sunday-eucharist-8/2030-06-23/
LOCATION:St Mary’s Church\, St Fagans\, Crofft-y-Genau Road\, St Fagans\, CF5 6EL\, United Kingdom
CATEGORIES:Sunday Worship
ATTACH;FMTTYPE=image/webp:https://garthma.wales/wp-content/uploads/2023/01/Tower-Glass-Door-image-St-Marys.webp
END:VEVENT
BEGIN:VEVENT
DTSTART;TZID=Europe/London:20300630T103000
DTEND;TZID=Europe/London:20300630T113000
DTSTAMP:20260422T081234
CREATED:20250127T124930Z
LAST-MODIFIED:20260107T105554Z
UID:10011229-1909045800-1909049400@garthma.wales
SUMMARY:Holy Eucharist - St Mary's Church
DESCRIPTION:A warm welcome awaits you\, so please join us for our Holy Eucharist Service at St. Mary’s Church\, St. Fagans. There will also be Junior Church during the service.
URL:https://garthma.wales/events/sunday-eucharist-8/2030-06-30/
LOCATION:St Mary’s Church\, St Fagans\, Crofft-y-Genau Road\, St Fagans\, CF5 6EL\, United Kingdom
CATEGORIES:Sunday Worship
ATTACH;FMTTYPE=image/webp:https://garthma.wales/wp-content/uploads/2023/01/Tower-Glass-Door-image-St-Marys.webp
END:VEVENT
BEGIN:VEVENT
DTSTART;TZID=Europe/London:20300704T140000
DTEND;TZID=Europe/London:20300704T150000
DTSTAMP:20260422T081234
CREATED:20250501T105805Z
LAST-MODIFIED:20251106T203906Z
UID:10011360-1909404000-1909407600@garthma.wales
SUMMARY:Mothers' Union
DESCRIPTION:Join the Mothers’ Union at St Mary’s Church\, St Fagans on the first Thursday of each month.
URL:https://garthma.wales/events/mothers-union-2/2030-07-04/
LOCATION:St Mary’s Church\, St Fagans\, Crofft-y-Genau Road\, St Fagans\, CF5 6EL\, United Kingdom
ATTACH;FMTTYPE=image/jpeg:https://garthma.wales/wp-content/uploads/2022/10/mothers-union.jpg
END:VEVENT
BEGIN:VEVENT
DTSTART;TZID=Europe/London:20300707T080000
DTEND;TZID=Europe/London:20300707T090000
DTSTAMP:20260422T081234
CREATED:20231020T072852Z
LAST-MODIFIED:20260107T105400Z
UID:10011367-1909641600-1909645200@garthma.wales
SUMMARY:Holy Eucharist - St Mary's Church
DESCRIPTION:Holy Eucharist Service held at St. Mary’s Church\, St. Fagans on the first Sunday of the month.
URL:https://garthma.wales/events/holy-eucharist-st-marys-church/2030-07-07/
LOCATION:St Mary’s Church\, St Fagans\, Crofft-y-Genau Road\, St Fagans\, CF5 6EL\, United Kingdom
CATEGORIES:Sunday Worship
ATTACH;FMTTYPE=image/webp:https://garthma.wales/wp-content/uploads/2023/01/Tower-Glass-Door-image-St-Marys.webp
END:VEVENT
BEGIN:VEVENT
DTSTART;TZID=Europe/London:20300707T103000
DTEND;TZID=Europe/London:20300707T113000
DTSTAMP:20260422T081234
CREATED:20231020T073557Z
LAST-MODIFIED:20260107T110911Z
UID:10011087-1909650600-1909654200@garthma.wales
SUMMARY:All Age Service - St Mary's Church
DESCRIPTION:Please join us for our All Age Service. We look forward to welcoming everyone at this service: the young\, and young at heart. Please do join us.
URL:https://garthma.wales/events/all-age-service-st-marys-church/2030-07-07/
LOCATION:St Mary’s Church\, St Fagans\, Crofft-y-Genau Road\, St Fagans\, CF5 6EL\, United Kingdom
ATTACH;FMTTYPE=image/png:https://garthma.wales/wp-content/uploads/2023/07/All-Age-Service-Logo_final-1.png
END:VEVENT
BEGIN:VEVENT
DTSTART;TZID=Europe/London:20300707T103000
DTEND;TZID=Europe/London:20300707T113000
DTSTAMP:20260422T081234
CREATED:20250127T124930Z
LAST-MODIFIED:20260107T105554Z
UID:10011230-1909650600-1909654200@garthma.wales
SUMMARY:Holy Eucharist - St Mary's Church
DESCRIPTION:A warm welcome awaits you\, so please join us for our Holy Eucharist Service at St. Mary’s Church\, St. Fagans. There will also be Junior Church during the service.
URL:https://garthma.wales/events/sunday-eucharist-8/2030-07-07/
LOCATION:St Mary’s Church\, St Fagans\, Crofft-y-Genau Road\, St Fagans\, CF5 6EL\, United Kingdom
CATEGORIES:Sunday Worship
ATTACH;FMTTYPE=image/webp:https://garthma.wales/wp-content/uploads/2023/01/Tower-Glass-Door-image-St-Marys.webp
END:VEVENT
BEGIN:VEVENT
DTSTART;TZID=Europe/London:20300714T103000
DTEND;TZID=Europe/London:20300714T113000
DTSTAMP:20260422T081234
CREATED:20250127T124930Z
LAST-MODIFIED:20260107T105554Z
UID:10011231-1910255400-1910259000@garthma.wales
SUMMARY:Holy Eucharist - St Mary's Church
DESCRIPTION:A warm welcome awaits you\, so please join us for our Holy Eucharist Service at St. Mary’s Church\, St. Fagans. There will also be Junior Church during the service.
URL:https://garthma.wales/events/sunday-eucharist-8/2030-07-14/
LOCATION:St Mary’s Church\, St Fagans\, Crofft-y-Genau Road\, St Fagans\, CF5 6EL\, United Kingdom
CATEGORIES:Sunday Worship
ATTACH;FMTTYPE=image/webp:https://garthma.wales/wp-content/uploads/2023/01/Tower-Glass-Door-image-St-Marys.webp
END:VEVENT
BEGIN:VEVENT
DTSTART;TZID=Europe/London:20300721T103000
DTEND;TZID=Europe/London:20300721T113000
DTSTAMP:20260422T081234
CREATED:20250127T124930Z
LAST-MODIFIED:20260107T105554Z
UID:10011232-1910860200-1910863800@garthma.wales
SUMMARY:Holy Eucharist - St Mary's Church
DESCRIPTION:A warm welcome awaits you\, so please join us for our Holy Eucharist Service at St. Mary’s Church\, St. Fagans. There will also be Junior Church during the service.
URL:https://garthma.wales/events/sunday-eucharist-8/2030-07-21/
LOCATION:St Mary’s Church\, St Fagans\, Crofft-y-Genau Road\, St Fagans\, CF5 6EL\, United Kingdom
CATEGORIES:Sunday Worship
ATTACH;FMTTYPE=image/webp:https://garthma.wales/wp-content/uploads/2023/01/Tower-Glass-Door-image-St-Marys.webp
END:VEVENT
BEGIN:VEVENT
DTSTART;TZID=Europe/London:20300728T103000
DTEND;TZID=Europe/London:20300728T113000
DTSTAMP:20260422T081234
CREATED:20250127T124930Z
LAST-MODIFIED:20260107T105554Z
UID:10011233-1911465000-1911468600@garthma.wales
SUMMARY:Holy Eucharist - St Mary's Church
DESCRIPTION:A warm welcome awaits you\, so please join us for our Holy Eucharist Service at St. Mary’s Church\, St. Fagans. There will also be Junior Church during the service.
URL:https://garthma.wales/events/sunday-eucharist-8/2030-07-28/
LOCATION:St Mary’s Church\, St Fagans\, Crofft-y-Genau Road\, St Fagans\, CF5 6EL\, United Kingdom
CATEGORIES:Sunday Worship
ATTACH;FMTTYPE=image/webp:https://garthma.wales/wp-content/uploads/2023/01/Tower-Glass-Door-image-St-Marys.webp
END:VEVENT
BEGIN:VEVENT
DTSTART;TZID=Europe/London:20300801T140000
DTEND;TZID=Europe/London:20300801T150000
DTSTAMP:20260422T081234
CREATED:20250501T105805Z
LAST-MODIFIED:20251106T203906Z
UID:10011361-1911823200-1911826800@garthma.wales
SUMMARY:Mothers' Union
DESCRIPTION:Join the Mothers’ Union at St Mary’s Church\, St Fagans on the first Thursday of each month.
URL:https://garthma.wales/events/mothers-union-2/2030-08-01/
LOCATION:St Mary’s Church\, St Fagans\, Crofft-y-Genau Road\, St Fagans\, CF5 6EL\, United Kingdom
ATTACH;FMTTYPE=image/jpeg:https://garthma.wales/wp-content/uploads/2022/10/mothers-union.jpg
END:VEVENT
BEGIN:VEVENT
DTSTART;TZID=Europe/London:20300804T080000
DTEND;TZID=Europe/London:20300804T090000
DTSTAMP:20260422T081234
CREATED:20231020T072852Z
LAST-MODIFIED:20260107T105400Z
UID:10011368-1912060800-1912064400@garthma.wales
SUMMARY:Holy Eucharist - St Mary's Church
DESCRIPTION:Holy Eucharist Service held at St. Mary’s Church\, St. Fagans on the first Sunday of the month.
URL:https://garthma.wales/events/holy-eucharist-st-marys-church/2030-08-04/
LOCATION:St Mary’s Church\, St Fagans\, Crofft-y-Genau Road\, St Fagans\, CF5 6EL\, United Kingdom
CATEGORIES:Sunday Worship
ATTACH;FMTTYPE=image/webp:https://garthma.wales/wp-content/uploads/2023/01/Tower-Glass-Door-image-St-Marys.webp
END:VEVENT
BEGIN:VEVENT
DTSTART;TZID=Europe/London:20300804T103000
DTEND;TZID=Europe/London:20300804T113000
DTSTAMP:20260422T081234
CREATED:20231020T073557Z
LAST-MODIFIED:20260107T110911Z
UID:10011730-1912069800-1912073400@garthma.wales
SUMMARY:All Age Service - St Mary's Church
DESCRIPTION:Please join us for our All Age Service. We look forward to welcoming everyone at this service: the young\, and young at heart. Please do join us.
URL:https://garthma.wales/events/all-age-service-st-marys-church/2030-08-04/
LOCATION:St Mary’s Church\, St Fagans\, Crofft-y-Genau Road\, St Fagans\, CF5 6EL\, United Kingdom
ATTACH;FMTTYPE=image/png:https://garthma.wales/wp-content/uploads/2023/07/All-Age-Service-Logo_final-1.png
END:VEVENT
BEGIN:VEVENT
DTSTART;TZID=Europe/London:20300804T103000
DTEND;TZID=Europe/London:20300804T113000
DTSTAMP:20260422T081234
CREATED:20250127T124930Z
LAST-MODIFIED:20260107T105554Z
UID:10011234-1912069800-1912073400@garthma.wales
SUMMARY:Holy Eucharist - St Mary's Church
DESCRIPTION:A warm welcome awaits you\, so please join us for our Holy Eucharist Service at St. Mary’s Church\, St. Fagans. There will also be Junior Church during the service.
URL:https://garthma.wales/events/sunday-eucharist-8/2030-08-04/
LOCATION:St Mary’s Church\, St Fagans\, Crofft-y-Genau Road\, St Fagans\, CF5 6EL\, United Kingdom
CATEGORIES:Sunday Worship
ATTACH;FMTTYPE=image/webp:https://garthma.wales/wp-content/uploads/2023/01/Tower-Glass-Door-image-St-Marys.webp
END:VEVENT
BEGIN:VEVENT
DTSTART;TZID=Europe/London:20300811T103000
DTEND;TZID=Europe/London:20300811T113000
DTSTAMP:20260422T081234
CREATED:20250127T124930Z
LAST-MODIFIED:20260107T105554Z
UID:10011235-1912674600-1912678200@garthma.wales
SUMMARY:Holy Eucharist - St Mary's Church
DESCRIPTION:A warm welcome awaits you\, so please join us for our Holy Eucharist Service at St. Mary’s Church\, St. Fagans. There will also be Junior Church during the service.
URL:https://garthma.wales/events/sunday-eucharist-8/2030-08-11/
LOCATION:St Mary’s Church\, St Fagans\, Crofft-y-Genau Road\, St Fagans\, CF5 6EL\, United Kingdom
CATEGORIES:Sunday Worship
ATTACH;FMTTYPE=image/webp:https://garthma.wales/wp-content/uploads/2023/01/Tower-Glass-Door-image-St-Marys.webp
END:VEVENT
BEGIN:VEVENT
DTSTART;TZID=Europe/London:20300818T103000
DTEND;TZID=Europe/London:20300818T113000
DTSTAMP:20260422T081234
CREATED:20250127T124930Z
LAST-MODIFIED:20260107T105554Z
UID:10011236-1913279400-1913283000@garthma.wales
SUMMARY:Holy Eucharist - St Mary's Church
DESCRIPTION:A warm welcome awaits you\, so please join us for our Holy Eucharist Service at St. Mary’s Church\, St. Fagans. There will also be Junior Church during the service.
URL:https://garthma.wales/events/sunday-eucharist-8/2030-08-18/
LOCATION:St Mary’s Church\, St Fagans\, Crofft-y-Genau Road\, St Fagans\, CF5 6EL\, United Kingdom
CATEGORIES:Sunday Worship
ATTACH;FMTTYPE=image/webp:https://garthma.wales/wp-content/uploads/2023/01/Tower-Glass-Door-image-St-Marys.webp
END:VEVENT
BEGIN:VEVENT
DTSTART;TZID=Europe/London:20300825T103000
DTEND;TZID=Europe/London:20300825T113000
DTSTAMP:20260422T081234
CREATED:20250127T124930Z
LAST-MODIFIED:20260107T105554Z
UID:10011237-1913884200-1913887800@garthma.wales
SUMMARY:Holy Eucharist - St Mary's Church
DESCRIPTION:A warm welcome awaits you\, so please join us for our Holy Eucharist Service at St. Mary’s Church\, St. Fagans. There will also be Junior Church during the service.
URL:https://garthma.wales/events/sunday-eucharist-8/2030-08-25/
LOCATION:St Mary’s Church\, St Fagans\, Crofft-y-Genau Road\, St Fagans\, CF5 6EL\, United Kingdom
CATEGORIES:Sunday Worship
ATTACH;FMTTYPE=image/webp:https://garthma.wales/wp-content/uploads/2023/01/Tower-Glass-Door-image-St-Marys.webp
END:VEVENT
BEGIN:VEVENT
DTSTART;TZID=Europe/London:20300901T080000
DTEND;TZID=Europe/London:20300901T090000
DTSTAMP:20260422T081234
CREATED:20231020T072852Z
LAST-MODIFIED:20260107T105400Z
UID:10011369-1914480000-1914483600@garthma.wales
SUMMARY:Holy Eucharist - St Mary's Church
DESCRIPTION:Holy Eucharist Service held at St. Mary’s Church\, St. Fagans on the first Sunday of the month.
URL:https://garthma.wales/events/holy-eucharist-st-marys-church/2030-09-01/
LOCATION:St Mary’s Church\, St Fagans\, Crofft-y-Genau Road\, St Fagans\, CF5 6EL\, United Kingdom
CATEGORIES:Sunday Worship
ATTACH;FMTTYPE=image/webp:https://garthma.wales/wp-content/uploads/2023/01/Tower-Glass-Door-image-St-Marys.webp
END:VEVENT
BEGIN:VEVENT
DTSTART;TZID=Europe/London:20300901T103000
DTEND;TZID=Europe/London:20300901T113000
DTSTAMP:20260422T081234
CREATED:20231020T073557Z
LAST-MODIFIED:20260107T110911Z
UID:10011731-1914489000-1914492600@garthma.wales
SUMMARY:All Age Service - St Mary's Church
DESCRIPTION:Please join us for our All Age Service. We look forward to welcoming everyone at this service: the young\, and young at heart. Please do join us.
URL:https://garthma.wales/events/all-age-service-st-marys-church/2030-09-01/
LOCATION:St Mary’s Church\, St Fagans\, Crofft-y-Genau Road\, St Fagans\, CF5 6EL\, United Kingdom
ATTACH;FMTTYPE=image/png:https://garthma.wales/wp-content/uploads/2023/07/All-Age-Service-Logo_final-1.png
END:VEVENT
BEGIN:VEVENT
DTSTART;TZID=Europe/London:20300901T103000
DTEND;TZID=Europe/London:20300901T113000
DTSTAMP:20260422T081234
CREATED:20250127T124930Z
LAST-MODIFIED:20260107T105554Z
UID:10011238-1914489000-1914492600@garthma.wales
SUMMARY:Holy Eucharist - St Mary's Church
DESCRIPTION:A warm welcome awaits you\, so please join us for our Holy Eucharist Service at St. Mary’s Church\, St. Fagans. There will also be Junior Church during the service.
URL:https://garthma.wales/events/sunday-eucharist-8/2030-09-01/
LOCATION:St Mary’s Church\, St Fagans\, Crofft-y-Genau Road\, St Fagans\, CF5 6EL\, United Kingdom
CATEGORIES:Sunday Worship
ATTACH;FMTTYPE=image/webp:https://garthma.wales/wp-content/uploads/2023/01/Tower-Glass-Door-image-St-Marys.webp
END:VEVENT
END:VCALENDAR