BEGIN:VCALENDAR
VERSION:2.0
PRODID:-//The Garth Ministry Area - ECPv6.15.20//NONSGML v1.0//EN
CALSCALE:GREGORIAN
METHOD:PUBLISH
X-ORIGINAL-URL:https://garthma.wales
X-WR-CALDESC:Events for The Garth Ministry Area
REFRESH-INTERVAL;VALUE=DURATION:PT1H
X-Robots-Tag:noindex
X-PUBLISHED-TTL:PT1H
BEGIN:VTIMEZONE
TZID:Europe/London
BEGIN:DAYLIGHT
TZOFFSETFROM:+0000
TZOFFSETTO:+0100
TZNAME:BST
DTSTART:20280326T010000
END:DAYLIGHT
BEGIN:STANDARD
TZOFFSETFROM:+0100
TZOFFSETTO:+0000
TZNAME:GMT
DTSTART:20281029T010000
END:STANDARD
BEGIN:DAYLIGHT
TZOFFSETFROM:+0000
TZOFFSETTO:+0100
TZNAME:BST
DTSTART:20290325T010000
END:DAYLIGHT
BEGIN:STANDARD
TZOFFSETFROM:+0100
TZOFFSETTO:+0000
TZNAME:GMT
DTSTART:20291028T010000
END:STANDARD
BEGIN:DAYLIGHT
TZOFFSETFROM:+0000
TZOFFSETTO:+0100
TZNAME:BST
DTSTART:20300331T010000
END:DAYLIGHT
BEGIN:STANDARD
TZOFFSETFROM:+0100
TZOFFSETTO:+0000
TZNAME:GMT
DTSTART:20301027T010000
END:STANDARD
END:VTIMEZONE
BEGIN:VEVENT
DTSTART;TZID=Europe/London:20290401T103000
DTEND;TZID=Europe/London:20290401T113000
DTSTAMP:20260420T193212
CREATED:20250127T124930Z
LAST-MODIFIED:20260107T105554Z
UID:10009678-1869733800-1869737400@garthma.wales
SUMMARY:Holy Eucharist - St Mary's Church
DESCRIPTION:A warm welcome awaits you\, so please join us for our Holy Eucharist Service at St. Mary’s Church\, St. Fagans. There will also be Junior Church during the service.
URL:https://garthma.wales/events/sunday-eucharist-8/2029-04-01/
LOCATION:St Mary’s Church\, St Fagans\, Crofft-y-Genau Road\, St Fagans\, CF5 6EL\, United Kingdom
CATEGORIES:Sunday Worship
ATTACH;FMTTYPE=image/webp:https://garthma.wales/wp-content/uploads/2023/01/Tower-Glass-Door-image-St-Marys.webp
END:VEVENT
BEGIN:VEVENT
DTSTART;TZID=Europe/London:20290405T140000
DTEND;TZID=Europe/London:20290405T150000
DTSTAMP:20260420T193212
CREATED:20250501T105805Z
LAST-MODIFIED:20251106T203906Z
UID:10010909-1870092000-1870095600@garthma.wales
SUMMARY:Mothers' Union
DESCRIPTION:Join the Mothers’ Union at St Mary’s Church\, St Fagans on the first Thursday of each month.
URL:https://garthma.wales/events/mothers-union-2/2029-04-05/
LOCATION:St Mary’s Church\, St Fagans\, Crofft-y-Genau Road\, St Fagans\, CF5 6EL\, United Kingdom
ATTACH;FMTTYPE=image/jpeg:https://garthma.wales/wp-content/uploads/2022/10/mothers-union.jpg
END:VEVENT
BEGIN:VEVENT
DTSTART;TZID=Europe/London:20290408T103000
DTEND;TZID=Europe/London:20290408T113000
DTSTAMP:20260420T193212
CREATED:20250127T124930Z
LAST-MODIFIED:20260107T105554Z
UID:10009679-1870338600-1870342200@garthma.wales
SUMMARY:Holy Eucharist - St Mary's Church
DESCRIPTION:A warm welcome awaits you\, so please join us for our Holy Eucharist Service at St. Mary’s Church\, St. Fagans. There will also be Junior Church during the service.
URL:https://garthma.wales/events/sunday-eucharist-8/2029-04-08/
LOCATION:St Mary’s Church\, St Fagans\, Crofft-y-Genau Road\, St Fagans\, CF5 6EL\, United Kingdom
CATEGORIES:Sunday Worship
ATTACH;FMTTYPE=image/webp:https://garthma.wales/wp-content/uploads/2023/01/Tower-Glass-Door-image-St-Marys.webp
END:VEVENT
BEGIN:VEVENT
DTSTART;TZID=Europe/London:20290415T103000
DTEND;TZID=Europe/London:20290415T113000
DTSTAMP:20260420T193212
CREATED:20250127T124930Z
LAST-MODIFIED:20260107T105554Z
UID:10009680-1870943400-1870947000@garthma.wales
SUMMARY:Holy Eucharist - St Mary's Church
DESCRIPTION:A warm welcome awaits you\, so please join us for our Holy Eucharist Service at St. Mary’s Church\, St. Fagans. There will also be Junior Church during the service.
URL:https://garthma.wales/events/sunday-eucharist-8/2029-04-15/
LOCATION:St Mary’s Church\, St Fagans\, Crofft-y-Genau Road\, St Fagans\, CF5 6EL\, United Kingdom
CATEGORIES:Sunday Worship
ATTACH;FMTTYPE=image/webp:https://garthma.wales/wp-content/uploads/2023/01/Tower-Glass-Door-image-St-Marys.webp
END:VEVENT
BEGIN:VEVENT
DTSTART;TZID=Europe/London:20290422T103000
DTEND;TZID=Europe/London:20290422T113000
DTSTAMP:20260420T193212
CREATED:20250127T124930Z
LAST-MODIFIED:20260107T105554Z
UID:10009681-1871548200-1871551800@garthma.wales
SUMMARY:Holy Eucharist - St Mary's Church
DESCRIPTION:A warm welcome awaits you\, so please join us for our Holy Eucharist Service at St. Mary’s Church\, St. Fagans. There will also be Junior Church during the service.
URL:https://garthma.wales/events/sunday-eucharist-8/2029-04-22/
LOCATION:St Mary’s Church\, St Fagans\, Crofft-y-Genau Road\, St Fagans\, CF5 6EL\, United Kingdom
CATEGORIES:Sunday Worship
ATTACH;FMTTYPE=image/webp:https://garthma.wales/wp-content/uploads/2023/01/Tower-Glass-Door-image-St-Marys.webp
END:VEVENT
BEGIN:VEVENT
DTSTART;TZID=Europe/London:20290429T103000
DTEND;TZID=Europe/London:20290429T113000
DTSTAMP:20260420T193212
CREATED:20250127T124930Z
LAST-MODIFIED:20260107T105554Z
UID:10009682-1872153000-1872156600@garthma.wales
SUMMARY:Holy Eucharist - St Mary's Church
DESCRIPTION:A warm welcome awaits you\, so please join us for our Holy Eucharist Service at St. Mary’s Church\, St. Fagans. There will also be Junior Church during the service.
URL:https://garthma.wales/events/sunday-eucharist-8/2029-04-29/
LOCATION:St Mary’s Church\, St Fagans\, Crofft-y-Genau Road\, St Fagans\, CF5 6EL\, United Kingdom
CATEGORIES:Sunday Worship
ATTACH;FMTTYPE=image/webp:https://garthma.wales/wp-content/uploads/2023/01/Tower-Glass-Door-image-St-Marys.webp
END:VEVENT
BEGIN:VEVENT
DTSTART;TZID=Europe/London:20290503T140000
DTEND;TZID=Europe/London:20290503T150000
DTSTAMP:20260420T193212
CREATED:20250501T105805Z
LAST-MODIFIED:20251106T203906Z
UID:10010910-1872511200-1872514800@garthma.wales
SUMMARY:Mothers' Union
DESCRIPTION:Join the Mothers’ Union at St Mary’s Church\, St Fagans on the first Thursday of each month.
URL:https://garthma.wales/events/mothers-union-2/2029-05-03/
LOCATION:St Mary’s Church\, St Fagans\, Crofft-y-Genau Road\, St Fagans\, CF5 6EL\, United Kingdom
ATTACH;FMTTYPE=image/jpeg:https://garthma.wales/wp-content/uploads/2022/10/mothers-union.jpg
END:VEVENT
BEGIN:VEVENT
DTSTART;TZID=Europe/London:20290506T080000
DTEND;TZID=Europe/London:20290506T090000
DTSTAMP:20260420T193212
CREATED:20231020T072852Z
LAST-MODIFIED:20260107T105400Z
UID:10010094-1872748800-1872752400@garthma.wales
SUMMARY:Holy Eucharist - St Mary's Church
DESCRIPTION:Holy Eucharist Service held at St. Mary’s Church\, St. Fagans on the first Sunday of the month.
URL:https://garthma.wales/events/holy-eucharist-st-marys-church/2029-05-06/
LOCATION:St Mary’s Church\, St Fagans\, Crofft-y-Genau Road\, St Fagans\, CF5 6EL\, United Kingdom
CATEGORIES:Sunday Worship
ATTACH;FMTTYPE=image/webp:https://garthma.wales/wp-content/uploads/2023/01/Tower-Glass-Door-image-St-Marys.webp
END:VEVENT
BEGIN:VEVENT
DTSTART;TZID=Europe/London:20290506T103000
DTEND;TZID=Europe/London:20290506T113000
DTSTAMP:20260420T193212
CREATED:20231020T073557Z
LAST-MODIFIED:20260107T110911Z
UID:10005786-1872757800-1872761400@garthma.wales
SUMMARY:All Age Service - St Mary's Church
DESCRIPTION:Please join us for our All Age Service. We look forward to welcoming everyone at this service: the young\, and young at heart. Please do join us.
URL:https://garthma.wales/events/all-age-service-st-marys-church/2029-05-06/
LOCATION:St Mary’s Church\, St Fagans\, Crofft-y-Genau Road\, St Fagans\, CF5 6EL\, United Kingdom
ATTACH;FMTTYPE=image/png:https://garthma.wales/wp-content/uploads/2023/07/All-Age-Service-Logo_final-1.png
END:VEVENT
BEGIN:VEVENT
DTSTART;TZID=Europe/London:20290506T103000
DTEND;TZID=Europe/London:20290506T113000
DTSTAMP:20260420T193212
CREATED:20250127T124930Z
LAST-MODIFIED:20260107T105554Z
UID:10009683-1872757800-1872761400@garthma.wales
SUMMARY:Holy Eucharist - St Mary's Church
DESCRIPTION:A warm welcome awaits you\, so please join us for our Holy Eucharist Service at St. Mary’s Church\, St. Fagans. There will also be Junior Church during the service.
URL:https://garthma.wales/events/sunday-eucharist-8/2029-05-06/
LOCATION:St Mary’s Church\, St Fagans\, Crofft-y-Genau Road\, St Fagans\, CF5 6EL\, United Kingdom
CATEGORIES:Sunday Worship
ATTACH;FMTTYPE=image/webp:https://garthma.wales/wp-content/uploads/2023/01/Tower-Glass-Door-image-St-Marys.webp
END:VEVENT
BEGIN:VEVENT
DTSTART;TZID=Europe/London:20290513T103000
DTEND;TZID=Europe/London:20290513T113000
DTSTAMP:20260420T193212
CREATED:20250127T124930Z
LAST-MODIFIED:20260107T105554Z
UID:10009684-1873362600-1873366200@garthma.wales
SUMMARY:Holy Eucharist - St Mary's Church
DESCRIPTION:A warm welcome awaits you\, so please join us for our Holy Eucharist Service at St. Mary’s Church\, St. Fagans. There will also be Junior Church during the service.
URL:https://garthma.wales/events/sunday-eucharist-8/2029-05-13/
LOCATION:St Mary’s Church\, St Fagans\, Crofft-y-Genau Road\, St Fagans\, CF5 6EL\, United Kingdom
CATEGORIES:Sunday Worship
ATTACH;FMTTYPE=image/webp:https://garthma.wales/wp-content/uploads/2023/01/Tower-Glass-Door-image-St-Marys.webp
END:VEVENT
BEGIN:VEVENT
DTSTART;TZID=Europe/London:20290520T103000
DTEND;TZID=Europe/London:20290520T113000
DTSTAMP:20260420T193212
CREATED:20250127T124930Z
LAST-MODIFIED:20260107T105554Z
UID:10009685-1873967400-1873971000@garthma.wales
SUMMARY:Holy Eucharist - St Mary's Church
DESCRIPTION:A warm welcome awaits you\, so please join us for our Holy Eucharist Service at St. Mary’s Church\, St. Fagans. There will also be Junior Church during the service.
URL:https://garthma.wales/events/sunday-eucharist-8/2029-05-20/
LOCATION:St Mary’s Church\, St Fagans\, Crofft-y-Genau Road\, St Fagans\, CF5 6EL\, United Kingdom
CATEGORIES:Sunday Worship
ATTACH;FMTTYPE=image/webp:https://garthma.wales/wp-content/uploads/2023/01/Tower-Glass-Door-image-St-Marys.webp
END:VEVENT
BEGIN:VEVENT
DTSTART;TZID=Europe/London:20290527T103000
DTEND;TZID=Europe/London:20290527T113000
DTSTAMP:20260420T193212
CREATED:20250127T124930Z
LAST-MODIFIED:20260107T105554Z
UID:10009686-1874572200-1874575800@garthma.wales
SUMMARY:Holy Eucharist - St Mary's Church
DESCRIPTION:A warm welcome awaits you\, so please join us for our Holy Eucharist Service at St. Mary’s Church\, St. Fagans. There will also be Junior Church during the service.
URL:https://garthma.wales/events/sunday-eucharist-8/2029-05-27/
LOCATION:St Mary’s Church\, St Fagans\, Crofft-y-Genau Road\, St Fagans\, CF5 6EL\, United Kingdom
CATEGORIES:Sunday Worship
ATTACH;FMTTYPE=image/webp:https://garthma.wales/wp-content/uploads/2023/01/Tower-Glass-Door-image-St-Marys.webp
END:VEVENT
BEGIN:VEVENT
DTSTART;TZID=Europe/London:20290603T080000
DTEND;TZID=Europe/London:20290603T090000
DTSTAMP:20260420T193212
CREATED:20231020T072852Z
LAST-MODIFIED:20260107T105400Z
UID:10010095-1875168000-1875171600@garthma.wales
SUMMARY:Holy Eucharist - St Mary's Church
DESCRIPTION:Holy Eucharist Service held at St. Mary’s Church\, St. Fagans on the first Sunday of the month.
URL:https://garthma.wales/events/holy-eucharist-st-marys-church/2029-06-03/
LOCATION:St Mary’s Church\, St Fagans\, Crofft-y-Genau Road\, St Fagans\, CF5 6EL\, United Kingdom
CATEGORIES:Sunday Worship
ATTACH;FMTTYPE=image/webp:https://garthma.wales/wp-content/uploads/2023/01/Tower-Glass-Door-image-St-Marys.webp
END:VEVENT
BEGIN:VEVENT
DTSTART;TZID=Europe/London:20290603T103000
DTEND;TZID=Europe/London:20290603T113000
DTSTAMP:20260420T193212
CREATED:20231020T073557Z
LAST-MODIFIED:20260107T110911Z
UID:10005787-1875177000-1875180600@garthma.wales
SUMMARY:All Age Service - St Mary's Church
DESCRIPTION:Please join us for our All Age Service. We look forward to welcoming everyone at this service: the young\, and young at heart. Please do join us.
URL:https://garthma.wales/events/all-age-service-st-marys-church/2029-06-03/
LOCATION:St Mary’s Church\, St Fagans\, Crofft-y-Genau Road\, St Fagans\, CF5 6EL\, United Kingdom
ATTACH;FMTTYPE=image/png:https://garthma.wales/wp-content/uploads/2023/07/All-Age-Service-Logo_final-1.png
END:VEVENT
BEGIN:VEVENT
DTSTART;TZID=Europe/London:20290603T103000
DTEND;TZID=Europe/London:20290603T113000
DTSTAMP:20260420T193212
CREATED:20250127T124930Z
LAST-MODIFIED:20260107T105554Z
UID:10009687-1875177000-1875180600@garthma.wales
SUMMARY:Holy Eucharist - St Mary's Church
DESCRIPTION:A warm welcome awaits you\, so please join us for our Holy Eucharist Service at St. Mary’s Church\, St. Fagans. There will also be Junior Church during the service.
URL:https://garthma.wales/events/sunday-eucharist-8/2029-06-03/
LOCATION:St Mary’s Church\, St Fagans\, Crofft-y-Genau Road\, St Fagans\, CF5 6EL\, United Kingdom
CATEGORIES:Sunday Worship
ATTACH;FMTTYPE=image/webp:https://garthma.wales/wp-content/uploads/2023/01/Tower-Glass-Door-image-St-Marys.webp
END:VEVENT
BEGIN:VEVENT
DTSTART;TZID=Europe/London:20290607T140000
DTEND;TZID=Europe/London:20290607T150000
DTSTAMP:20260420T193212
CREATED:20250501T105805Z
LAST-MODIFIED:20251106T203906Z
UID:10010911-1875535200-1875538800@garthma.wales
SUMMARY:Mothers' Union
DESCRIPTION:Join the Mothers’ Union at St Mary’s Church\, St Fagans on the first Thursday of each month.
URL:https://garthma.wales/events/mothers-union-2/2029-06-07/
LOCATION:St Mary’s Church\, St Fagans\, Crofft-y-Genau Road\, St Fagans\, CF5 6EL\, United Kingdom
ATTACH;FMTTYPE=image/jpeg:https://garthma.wales/wp-content/uploads/2022/10/mothers-union.jpg
END:VEVENT
BEGIN:VEVENT
DTSTART;TZID=Europe/London:20290610T103000
DTEND;TZID=Europe/London:20290610T113000
DTSTAMP:20260420T193212
CREATED:20250127T124930Z
LAST-MODIFIED:20260107T105554Z
UID:10009688-1875781800-1875785400@garthma.wales
SUMMARY:Holy Eucharist - St Mary's Church
DESCRIPTION:A warm welcome awaits you\, so please join us for our Holy Eucharist Service at St. Mary’s Church\, St. Fagans. There will also be Junior Church during the service.
URL:https://garthma.wales/events/sunday-eucharist-8/2029-06-10/
LOCATION:St Mary’s Church\, St Fagans\, Crofft-y-Genau Road\, St Fagans\, CF5 6EL\, United Kingdom
CATEGORIES:Sunday Worship
ATTACH;FMTTYPE=image/webp:https://garthma.wales/wp-content/uploads/2023/01/Tower-Glass-Door-image-St-Marys.webp
END:VEVENT
BEGIN:VEVENT
DTSTART;TZID=Europe/London:20290617T103000
DTEND;TZID=Europe/London:20290617T113000
DTSTAMP:20260420T193212
CREATED:20250127T124930Z
LAST-MODIFIED:20260107T105554Z
UID:10009689-1876386600-1876390200@garthma.wales
SUMMARY:Holy Eucharist - St Mary's Church
DESCRIPTION:A warm welcome awaits you\, so please join us for our Holy Eucharist Service at St. Mary’s Church\, St. Fagans. There will also be Junior Church during the service.
URL:https://garthma.wales/events/sunday-eucharist-8/2029-06-17/
LOCATION:St Mary’s Church\, St Fagans\, Crofft-y-Genau Road\, St Fagans\, CF5 6EL\, United Kingdom
CATEGORIES:Sunday Worship
ATTACH;FMTTYPE=image/webp:https://garthma.wales/wp-content/uploads/2023/01/Tower-Glass-Door-image-St-Marys.webp
END:VEVENT
BEGIN:VEVENT
DTSTART;TZID=Europe/London:20290624T103000
DTEND;TZID=Europe/London:20290624T113000
DTSTAMP:20260420T193212
CREATED:20250127T124930Z
LAST-MODIFIED:20260107T105554Z
UID:10009690-1876991400-1876995000@garthma.wales
SUMMARY:Holy Eucharist - St Mary's Church
DESCRIPTION:A warm welcome awaits you\, so please join us for our Holy Eucharist Service at St. Mary’s Church\, St. Fagans. There will also be Junior Church during the service.
URL:https://garthma.wales/events/sunday-eucharist-8/2029-06-24/
LOCATION:St Mary’s Church\, St Fagans\, Crofft-y-Genau Road\, St Fagans\, CF5 6EL\, United Kingdom
CATEGORIES:Sunday Worship
ATTACH;FMTTYPE=image/webp:https://garthma.wales/wp-content/uploads/2023/01/Tower-Glass-Door-image-St-Marys.webp
END:VEVENT
BEGIN:VEVENT
DTSTART;TZID=Europe/London:20290701T080000
DTEND;TZID=Europe/London:20290701T090000
DTSTAMP:20260420T193212
CREATED:20231020T072852Z
LAST-MODIFIED:20260107T105400Z
UID:10010096-1877587200-1877590800@garthma.wales
SUMMARY:Holy Eucharist - St Mary's Church
DESCRIPTION:Holy Eucharist Service held at St. Mary’s Church\, St. Fagans on the first Sunday of the month.
URL:https://garthma.wales/events/holy-eucharist-st-marys-church/2029-07-01/
LOCATION:St Mary’s Church\, St Fagans\, Crofft-y-Genau Road\, St Fagans\, CF5 6EL\, United Kingdom
CATEGORIES:Sunday Worship
ATTACH;FMTTYPE=image/webp:https://garthma.wales/wp-content/uploads/2023/01/Tower-Glass-Door-image-St-Marys.webp
END:VEVENT
BEGIN:VEVENT
DTSTART;TZID=Europe/London:20290701T103000
DTEND;TZID=Europe/London:20290701T113000
DTSTAMP:20260420T193212
CREATED:20231020T073557Z
LAST-MODIFIED:20260107T110911Z
UID:10005788-1877596200-1877599800@garthma.wales
SUMMARY:All Age Service - St Mary's Church
DESCRIPTION:Please join us for our All Age Service. We look forward to welcoming everyone at this service: the young\, and young at heart. Please do join us.
URL:https://garthma.wales/events/all-age-service-st-marys-church/2029-07-01/
LOCATION:St Mary’s Church\, St Fagans\, Crofft-y-Genau Road\, St Fagans\, CF5 6EL\, United Kingdom
ATTACH;FMTTYPE=image/png:https://garthma.wales/wp-content/uploads/2023/07/All-Age-Service-Logo_final-1.png
END:VEVENT
BEGIN:VEVENT
DTSTART;TZID=Europe/London:20290701T103000
DTEND;TZID=Europe/London:20290701T113000
DTSTAMP:20260420T193212
CREATED:20250127T124930Z
LAST-MODIFIED:20260107T105554Z
UID:10009691-1877596200-1877599800@garthma.wales
SUMMARY:Holy Eucharist - St Mary's Church
DESCRIPTION:A warm welcome awaits you\, so please join us for our Holy Eucharist Service at St. Mary’s Church\, St. Fagans. There will also be Junior Church during the service.
URL:https://garthma.wales/events/sunday-eucharist-8/2029-07-01/
LOCATION:St Mary’s Church\, St Fagans\, Crofft-y-Genau Road\, St Fagans\, CF5 6EL\, United Kingdom
CATEGORIES:Sunday Worship
ATTACH;FMTTYPE=image/webp:https://garthma.wales/wp-content/uploads/2023/01/Tower-Glass-Door-image-St-Marys.webp
END:VEVENT
BEGIN:VEVENT
DTSTART;TZID=Europe/London:20290705T140000
DTEND;TZID=Europe/London:20290705T150000
DTSTAMP:20260420T193212
CREATED:20250501T105805Z
LAST-MODIFIED:20251106T203906Z
UID:10010912-1877954400-1877958000@garthma.wales
SUMMARY:Mothers' Union
DESCRIPTION:Join the Mothers’ Union at St Mary’s Church\, St Fagans on the first Thursday of each month.
URL:https://garthma.wales/events/mothers-union-2/2029-07-05/
LOCATION:St Mary’s Church\, St Fagans\, Crofft-y-Genau Road\, St Fagans\, CF5 6EL\, United Kingdom
ATTACH;FMTTYPE=image/jpeg:https://garthma.wales/wp-content/uploads/2022/10/mothers-union.jpg
END:VEVENT
BEGIN:VEVENT
DTSTART;TZID=Europe/London:20290708T103000
DTEND;TZID=Europe/London:20290708T113000
DTSTAMP:20260420T193212
CREATED:20250127T124930Z
LAST-MODIFIED:20260107T105554Z
UID:10009692-1878201000-1878204600@garthma.wales
SUMMARY:Holy Eucharist - St Mary's Church
DESCRIPTION:A warm welcome awaits you\, so please join us for our Holy Eucharist Service at St. Mary’s Church\, St. Fagans. There will also be Junior Church during the service.
URL:https://garthma.wales/events/sunday-eucharist-8/2029-07-08/
LOCATION:St Mary’s Church\, St Fagans\, Crofft-y-Genau Road\, St Fagans\, CF5 6EL\, United Kingdom
CATEGORIES:Sunday Worship
ATTACH;FMTTYPE=image/webp:https://garthma.wales/wp-content/uploads/2023/01/Tower-Glass-Door-image-St-Marys.webp
END:VEVENT
BEGIN:VEVENT
DTSTART;TZID=Europe/London:20290715T103000
DTEND;TZID=Europe/London:20290715T113000
DTSTAMP:20260420T193212
CREATED:20250127T124930Z
LAST-MODIFIED:20260107T105554Z
UID:10009693-1878805800-1878809400@garthma.wales
SUMMARY:Holy Eucharist - St Mary's Church
DESCRIPTION:A warm welcome awaits you\, so please join us for our Holy Eucharist Service at St. Mary’s Church\, St. Fagans. There will also be Junior Church during the service.
URL:https://garthma.wales/events/sunday-eucharist-8/2029-07-15/
LOCATION:St Mary’s Church\, St Fagans\, Crofft-y-Genau Road\, St Fagans\, CF5 6EL\, United Kingdom
CATEGORIES:Sunday Worship
ATTACH;FMTTYPE=image/webp:https://garthma.wales/wp-content/uploads/2023/01/Tower-Glass-Door-image-St-Marys.webp
END:VEVENT
BEGIN:VEVENT
DTSTART;TZID=Europe/London:20290722T103000
DTEND;TZID=Europe/London:20290722T113000
DTSTAMP:20260420T193212
CREATED:20250127T124930Z
LAST-MODIFIED:20260107T105554Z
UID:10009694-1879410600-1879414200@garthma.wales
SUMMARY:Holy Eucharist - St Mary's Church
DESCRIPTION:A warm welcome awaits you\, so please join us for our Holy Eucharist Service at St. Mary’s Church\, St. Fagans. There will also be Junior Church during the service.
URL:https://garthma.wales/events/sunday-eucharist-8/2029-07-22/
LOCATION:St Mary’s Church\, St Fagans\, Crofft-y-Genau Road\, St Fagans\, CF5 6EL\, United Kingdom
CATEGORIES:Sunday Worship
ATTACH;FMTTYPE=image/webp:https://garthma.wales/wp-content/uploads/2023/01/Tower-Glass-Door-image-St-Marys.webp
END:VEVENT
BEGIN:VEVENT
DTSTART;TZID=Europe/London:20290729T103000
DTEND;TZID=Europe/London:20290729T113000
DTSTAMP:20260420T193212
CREATED:20250127T124930Z
LAST-MODIFIED:20260107T105554Z
UID:10009695-1880015400-1880019000@garthma.wales
SUMMARY:Holy Eucharist - St Mary's Church
DESCRIPTION:A warm welcome awaits you\, so please join us for our Holy Eucharist Service at St. Mary’s Church\, St. Fagans. There will also be Junior Church during the service.
URL:https://garthma.wales/events/sunday-eucharist-8/2029-07-29/
LOCATION:St Mary’s Church\, St Fagans\, Crofft-y-Genau Road\, St Fagans\, CF5 6EL\, United Kingdom
CATEGORIES:Sunday Worship
ATTACH;FMTTYPE=image/webp:https://garthma.wales/wp-content/uploads/2023/01/Tower-Glass-Door-image-St-Marys.webp
END:VEVENT
BEGIN:VEVENT
DTSTART;TZID=Europe/London:20290802T140000
DTEND;TZID=Europe/London:20290802T150000
DTSTAMP:20260420T193212
CREATED:20250501T105805Z
LAST-MODIFIED:20251106T203906Z
UID:10010913-1880373600-1880377200@garthma.wales
SUMMARY:Mothers' Union
DESCRIPTION:Join the Mothers’ Union at St Mary’s Church\, St Fagans on the first Thursday of each month.
URL:https://garthma.wales/events/mothers-union-2/2029-08-02/
LOCATION:St Mary’s Church\, St Fagans\, Crofft-y-Genau Road\, St Fagans\, CF5 6EL\, United Kingdom
ATTACH;FMTTYPE=image/jpeg:https://garthma.wales/wp-content/uploads/2022/10/mothers-union.jpg
END:VEVENT
BEGIN:VEVENT
DTSTART;TZID=Europe/London:20290805T080000
DTEND;TZID=Europe/London:20290805T090000
DTSTAMP:20260420T193212
CREATED:20231020T072852Z
LAST-MODIFIED:20260107T105400Z
UID:10010097-1880611200-1880614800@garthma.wales
SUMMARY:Holy Eucharist - St Mary's Church
DESCRIPTION:Holy Eucharist Service held at St. Mary’s Church\, St. Fagans on the first Sunday of the month.
URL:https://garthma.wales/events/holy-eucharist-st-marys-church/2029-08-05/
LOCATION:St Mary’s Church\, St Fagans\, Crofft-y-Genau Road\, St Fagans\, CF5 6EL\, United Kingdom
CATEGORIES:Sunday Worship
ATTACH;FMTTYPE=image/webp:https://garthma.wales/wp-content/uploads/2023/01/Tower-Glass-Door-image-St-Marys.webp
END:VEVENT
END:VCALENDAR