BEGIN:VCALENDAR
VERSION:2.0
PRODID:-//The Garth Ministry Area - ECPv6.15.20//NONSGML v1.0//EN
CALSCALE:GREGORIAN
METHOD:PUBLISH
X-WR-CALNAME:The Garth Ministry Area
X-ORIGINAL-URL:https://garthma.wales
X-WR-CALDESC:Events for The Garth Ministry Area
REFRESH-INTERVAL;VALUE=DURATION:PT1H
X-Robots-Tag:noindex
X-PUBLISHED-TTL:PT1H
BEGIN:VTIMEZONE
TZID:Europe/London
BEGIN:DAYLIGHT
TZOFFSETFROM:+0000
TZOFFSETTO:+0100
TZNAME:BST
DTSTART:20270328T010000
END:DAYLIGHT
BEGIN:STANDARD
TZOFFSETFROM:+0100
TZOFFSETTO:+0000
TZNAME:GMT
DTSTART:20271031T010000
END:STANDARD
BEGIN:DAYLIGHT
TZOFFSETFROM:+0000
TZOFFSETTO:+0100
TZNAME:BST
DTSTART:20280326T010000
END:DAYLIGHT
BEGIN:STANDARD
TZOFFSETFROM:+0100
TZOFFSETTO:+0000
TZNAME:GMT
DTSTART:20281029T010000
END:STANDARD
BEGIN:DAYLIGHT
TZOFFSETFROM:+0000
TZOFFSETTO:+0100
TZNAME:BST
DTSTART:20290325T010000
END:DAYLIGHT
BEGIN:STANDARD
TZOFFSETFROM:+0100
TZOFFSETTO:+0000
TZNAME:GMT
DTSTART:20291028T010000
END:STANDARD
BEGIN:DAYLIGHT
TZOFFSETFROM:+0000
TZOFFSETTO:+0100
TZNAME:BST
DTSTART:20300331T010000
END:DAYLIGHT
BEGIN:STANDARD
TZOFFSETFROM:+0100
TZOFFSETTO:+0000
TZNAME:GMT
DTSTART:20301027T010000
END:STANDARD
END:VTIMEZONE
BEGIN:VEVENT
DTSTART;TZID=Europe/London:20281231T103000
DTEND;TZID=Europe/London:20281231T113000
DTSTAMP:20260420T072256
CREATED:20250127T124930Z
LAST-MODIFIED:20260107T105554Z
UID:10009665-1861871400-1861875000@garthma.wales
SUMMARY:Holy Eucharist - St Mary's Church
DESCRIPTION:A warm welcome awaits you\, so please join us for our Holy Eucharist Service at St. Mary’s Church\, St. Fagans. There will also be Junior Church during the service.
URL:https://garthma.wales/events/sunday-eucharist-8/2028-12-31/
LOCATION:St Mary’s Church\, St Fagans\, Crofft-y-Genau Road\, St Fagans\, CF5 6EL\, United Kingdom
CATEGORIES:Sunday Worship
ATTACH;FMTTYPE=image/webp:https://garthma.wales/wp-content/uploads/2023/01/Tower-Glass-Door-image-St-Marys.webp
END:VEVENT
BEGIN:VEVENT
DTSTART;TZID=Europe/London:20290104T140000
DTEND;TZID=Europe/London:20290104T150000
DTSTAMP:20260420T072256
CREATED:20250501T105805Z
LAST-MODIFIED:20251106T203906Z
UID:10010906-1862229600-1862233200@garthma.wales
SUMMARY:Mothers' Union
DESCRIPTION:Join the Mothers’ Union at St Mary’s Church\, St Fagans on the first Thursday of each month.
URL:https://garthma.wales/events/mothers-union-2/2029-01-04/
LOCATION:St Mary’s Church\, St Fagans\, Crofft-y-Genau Road\, St Fagans\, CF5 6EL\, United Kingdom
ATTACH;FMTTYPE=image/jpeg:https://garthma.wales/wp-content/uploads/2022/10/mothers-union.jpg
END:VEVENT
BEGIN:VEVENT
DTSTART;TZID=Europe/London:20290107T080000
DTEND;TZID=Europe/London:20290107T090000
DTSTAMP:20260420T072256
CREATED:20231020T072852Z
LAST-MODIFIED:20260107T105400Z
UID:10010090-1862467200-1862470800@garthma.wales
SUMMARY:Holy Eucharist - St Mary's Church
DESCRIPTION:Holy Eucharist Service held at St. Mary’s Church\, St. Fagans on the first Sunday of the month.
URL:https://garthma.wales/events/holy-eucharist-st-marys-church/2029-01-07/
LOCATION:St Mary’s Church\, St Fagans\, Crofft-y-Genau Road\, St Fagans\, CF5 6EL\, United Kingdom
CATEGORIES:Sunday Worship
ATTACH;FMTTYPE=image/webp:https://garthma.wales/wp-content/uploads/2023/01/Tower-Glass-Door-image-St-Marys.webp
END:VEVENT
BEGIN:VEVENT
DTSTART;TZID=Europe/London:20290107T103000
DTEND;TZID=Europe/London:20290107T113000
DTSTAMP:20260420T072256
CREATED:20231020T073557Z
LAST-MODIFIED:20260107T110911Z
UID:10005782-1862476200-1862479800@garthma.wales
SUMMARY:All Age Service - St Mary's Church
DESCRIPTION:Please join us for our All Age Service. We look forward to welcoming everyone at this service: the young\, and young at heart. Please do join us.
URL:https://garthma.wales/events/all-age-service-st-marys-church/2029-01-07/
LOCATION:St Mary’s Church\, St Fagans\, Crofft-y-Genau Road\, St Fagans\, CF5 6EL\, United Kingdom
ATTACH;FMTTYPE=image/png:https://garthma.wales/wp-content/uploads/2023/07/All-Age-Service-Logo_final-1.png
END:VEVENT
BEGIN:VEVENT
DTSTART;TZID=Europe/London:20290107T103000
DTEND;TZID=Europe/London:20290107T113000
DTSTAMP:20260420T072256
CREATED:20250127T124930Z
LAST-MODIFIED:20260107T105554Z
UID:10009666-1862476200-1862479800@garthma.wales
SUMMARY:Holy Eucharist - St Mary's Church
DESCRIPTION:A warm welcome awaits you\, so please join us for our Holy Eucharist Service at St. Mary’s Church\, St. Fagans. There will also be Junior Church during the service.
URL:https://garthma.wales/events/sunday-eucharist-8/2029-01-07/
LOCATION:St Mary’s Church\, St Fagans\, Crofft-y-Genau Road\, St Fagans\, CF5 6EL\, United Kingdom
CATEGORIES:Sunday Worship
ATTACH;FMTTYPE=image/webp:https://garthma.wales/wp-content/uploads/2023/01/Tower-Glass-Door-image-St-Marys.webp
END:VEVENT
BEGIN:VEVENT
DTSTART;TZID=Europe/London:20290114T103000
DTEND;TZID=Europe/London:20290114T113000
DTSTAMP:20260420T072256
CREATED:20250127T124930Z
LAST-MODIFIED:20260107T105554Z
UID:10009667-1863081000-1863084600@garthma.wales
SUMMARY:Holy Eucharist - St Mary's Church
DESCRIPTION:A warm welcome awaits you\, so please join us for our Holy Eucharist Service at St. Mary’s Church\, St. Fagans. There will also be Junior Church during the service.
URL:https://garthma.wales/events/sunday-eucharist-8/2029-01-14/
LOCATION:St Mary’s Church\, St Fagans\, Crofft-y-Genau Road\, St Fagans\, CF5 6EL\, United Kingdom
CATEGORIES:Sunday Worship
ATTACH;FMTTYPE=image/webp:https://garthma.wales/wp-content/uploads/2023/01/Tower-Glass-Door-image-St-Marys.webp
END:VEVENT
BEGIN:VEVENT
DTSTART;TZID=Europe/London:20290121T103000
DTEND;TZID=Europe/London:20290121T113000
DTSTAMP:20260420T072256
CREATED:20250127T124930Z
LAST-MODIFIED:20260107T105554Z
UID:10009668-1863685800-1863689400@garthma.wales
SUMMARY:Holy Eucharist - St Mary's Church
DESCRIPTION:A warm welcome awaits you\, so please join us for our Holy Eucharist Service at St. Mary’s Church\, St. Fagans. There will also be Junior Church during the service.
URL:https://garthma.wales/events/sunday-eucharist-8/2029-01-21/
LOCATION:St Mary’s Church\, St Fagans\, Crofft-y-Genau Road\, St Fagans\, CF5 6EL\, United Kingdom
CATEGORIES:Sunday Worship
ATTACH;FMTTYPE=image/webp:https://garthma.wales/wp-content/uploads/2023/01/Tower-Glass-Door-image-St-Marys.webp
END:VEVENT
BEGIN:VEVENT
DTSTART;TZID=Europe/London:20290128T103000
DTEND;TZID=Europe/London:20290128T113000
DTSTAMP:20260420T072256
CREATED:20250127T124930Z
LAST-MODIFIED:20260107T105554Z
UID:10009669-1864290600-1864294200@garthma.wales
SUMMARY:Holy Eucharist - St Mary's Church
DESCRIPTION:A warm welcome awaits you\, so please join us for our Holy Eucharist Service at St. Mary’s Church\, St. Fagans. There will also be Junior Church during the service.
URL:https://garthma.wales/events/sunday-eucharist-8/2029-01-28/
LOCATION:St Mary’s Church\, St Fagans\, Crofft-y-Genau Road\, St Fagans\, CF5 6EL\, United Kingdom
CATEGORIES:Sunday Worship
ATTACH;FMTTYPE=image/webp:https://garthma.wales/wp-content/uploads/2023/01/Tower-Glass-Door-image-St-Marys.webp
END:VEVENT
BEGIN:VEVENT
DTSTART;TZID=Europe/London:20290201T140000
DTEND;TZID=Europe/London:20290201T150000
DTSTAMP:20260420T072256
CREATED:20250501T105805Z
LAST-MODIFIED:20251106T203906Z
UID:10010907-1864648800-1864652400@garthma.wales
SUMMARY:Mothers' Union
DESCRIPTION:Join the Mothers’ Union at St Mary’s Church\, St Fagans on the first Thursday of each month.
URL:https://garthma.wales/events/mothers-union-2/2029-02-01/
LOCATION:St Mary’s Church\, St Fagans\, Crofft-y-Genau Road\, St Fagans\, CF5 6EL\, United Kingdom
ATTACH;FMTTYPE=image/jpeg:https://garthma.wales/wp-content/uploads/2022/10/mothers-union.jpg
END:VEVENT
BEGIN:VEVENT
DTSTART;TZID=Europe/London:20290204T080000
DTEND;TZID=Europe/London:20290204T090000
DTSTAMP:20260420T072256
CREATED:20231020T072852Z
LAST-MODIFIED:20260107T105400Z
UID:10010091-1864886400-1864890000@garthma.wales
SUMMARY:Holy Eucharist - St Mary's Church
DESCRIPTION:Holy Eucharist Service held at St. Mary’s Church\, St. Fagans on the first Sunday of the month.
URL:https://garthma.wales/events/holy-eucharist-st-marys-church/2029-02-04/
LOCATION:St Mary’s Church\, St Fagans\, Crofft-y-Genau Road\, St Fagans\, CF5 6EL\, United Kingdom
CATEGORIES:Sunday Worship
ATTACH;FMTTYPE=image/webp:https://garthma.wales/wp-content/uploads/2023/01/Tower-Glass-Door-image-St-Marys.webp
END:VEVENT
BEGIN:VEVENT
DTSTART;TZID=Europe/London:20290204T103000
DTEND;TZID=Europe/London:20290204T113000
DTSTAMP:20260420T072256
CREATED:20231020T073557Z
LAST-MODIFIED:20260107T110911Z
UID:10005783-1864895400-1864899000@garthma.wales
SUMMARY:All Age Service - St Mary's Church
DESCRIPTION:Please join us for our All Age Service. We look forward to welcoming everyone at this service: the young\, and young at heart. Please do join us.
URL:https://garthma.wales/events/all-age-service-st-marys-church/2029-02-04/
LOCATION:St Mary’s Church\, St Fagans\, Crofft-y-Genau Road\, St Fagans\, CF5 6EL\, United Kingdom
ATTACH;FMTTYPE=image/png:https://garthma.wales/wp-content/uploads/2023/07/All-Age-Service-Logo_final-1.png
END:VEVENT
BEGIN:VEVENT
DTSTART;TZID=Europe/London:20290204T103000
DTEND;TZID=Europe/London:20290204T113000
DTSTAMP:20260420T072256
CREATED:20250127T124930Z
LAST-MODIFIED:20260107T105554Z
UID:10009670-1864895400-1864899000@garthma.wales
SUMMARY:Holy Eucharist - St Mary's Church
DESCRIPTION:A warm welcome awaits you\, so please join us for our Holy Eucharist Service at St. Mary’s Church\, St. Fagans. There will also be Junior Church during the service.
URL:https://garthma.wales/events/sunday-eucharist-8/2029-02-04/
LOCATION:St Mary’s Church\, St Fagans\, Crofft-y-Genau Road\, St Fagans\, CF5 6EL\, United Kingdom
CATEGORIES:Sunday Worship
ATTACH;FMTTYPE=image/webp:https://garthma.wales/wp-content/uploads/2023/01/Tower-Glass-Door-image-St-Marys.webp
END:VEVENT
BEGIN:VEVENT
DTSTART;TZID=Europe/London:20290211T103000
DTEND;TZID=Europe/London:20290211T113000
DTSTAMP:20260420T072256
CREATED:20250127T124930Z
LAST-MODIFIED:20260107T105554Z
UID:10009671-1865500200-1865503800@garthma.wales
SUMMARY:Holy Eucharist - St Mary's Church
DESCRIPTION:A warm welcome awaits you\, so please join us for our Holy Eucharist Service at St. Mary’s Church\, St. Fagans. There will also be Junior Church during the service.
URL:https://garthma.wales/events/sunday-eucharist-8/2029-02-11/
LOCATION:St Mary’s Church\, St Fagans\, Crofft-y-Genau Road\, St Fagans\, CF5 6EL\, United Kingdom
CATEGORIES:Sunday Worship
ATTACH;FMTTYPE=image/webp:https://garthma.wales/wp-content/uploads/2023/01/Tower-Glass-Door-image-St-Marys.webp
END:VEVENT
BEGIN:VEVENT
DTSTART;TZID=Europe/London:20290218T103000
DTEND;TZID=Europe/London:20290218T113000
DTSTAMP:20260420T072256
CREATED:20250127T124930Z
LAST-MODIFIED:20260107T105554Z
UID:10009672-1866105000-1866108600@garthma.wales
SUMMARY:Holy Eucharist - St Mary's Church
DESCRIPTION:A warm welcome awaits you\, so please join us for our Holy Eucharist Service at St. Mary’s Church\, St. Fagans. There will also be Junior Church during the service.
URL:https://garthma.wales/events/sunday-eucharist-8/2029-02-18/
LOCATION:St Mary’s Church\, St Fagans\, Crofft-y-Genau Road\, St Fagans\, CF5 6EL\, United Kingdom
CATEGORIES:Sunday Worship
ATTACH;FMTTYPE=image/webp:https://garthma.wales/wp-content/uploads/2023/01/Tower-Glass-Door-image-St-Marys.webp
END:VEVENT
BEGIN:VEVENT
DTSTART;TZID=Europe/London:20290225T103000
DTEND;TZID=Europe/London:20290225T113000
DTSTAMP:20260420T072256
CREATED:20250127T124930Z
LAST-MODIFIED:20260107T105554Z
UID:10009673-1866709800-1866713400@garthma.wales
SUMMARY:Holy Eucharist - St Mary's Church
DESCRIPTION:A warm welcome awaits you\, so please join us for our Holy Eucharist Service at St. Mary’s Church\, St. Fagans. There will also be Junior Church during the service.
URL:https://garthma.wales/events/sunday-eucharist-8/2029-02-25/
LOCATION:St Mary’s Church\, St Fagans\, Crofft-y-Genau Road\, St Fagans\, CF5 6EL\, United Kingdom
CATEGORIES:Sunday Worship
ATTACH;FMTTYPE=image/webp:https://garthma.wales/wp-content/uploads/2023/01/Tower-Glass-Door-image-St-Marys.webp
END:VEVENT
BEGIN:VEVENT
DTSTART;TZID=Europe/London:20290301T140000
DTEND;TZID=Europe/London:20290301T150000
DTSTAMP:20260420T072256
CREATED:20250501T105805Z
LAST-MODIFIED:20251106T203906Z
UID:10010908-1867068000-1867071600@garthma.wales
SUMMARY:Mothers' Union
DESCRIPTION:Join the Mothers’ Union at St Mary’s Church\, St Fagans on the first Thursday of each month.
URL:https://garthma.wales/events/mothers-union-2/2029-03-01/
LOCATION:St Mary’s Church\, St Fagans\, Crofft-y-Genau Road\, St Fagans\, CF5 6EL\, United Kingdom
ATTACH;FMTTYPE=image/jpeg:https://garthma.wales/wp-content/uploads/2022/10/mothers-union.jpg
END:VEVENT
BEGIN:VEVENT
DTSTART;TZID=Europe/London:20290304T080000
DTEND;TZID=Europe/London:20290304T090000
DTSTAMP:20260420T072256
CREATED:20231020T072852Z
LAST-MODIFIED:20260107T105400Z
UID:10010092-1867305600-1867309200@garthma.wales
SUMMARY:Holy Eucharist - St Mary's Church
DESCRIPTION:Holy Eucharist Service held at St. Mary’s Church\, St. Fagans on the first Sunday of the month.
URL:https://garthma.wales/events/holy-eucharist-st-marys-church/2029-03-04/
LOCATION:St Mary’s Church\, St Fagans\, Crofft-y-Genau Road\, St Fagans\, CF5 6EL\, United Kingdom
CATEGORIES:Sunday Worship
ATTACH;FMTTYPE=image/webp:https://garthma.wales/wp-content/uploads/2023/01/Tower-Glass-Door-image-St-Marys.webp
END:VEVENT
BEGIN:VEVENT
DTSTART;TZID=Europe/London:20290304T103000
DTEND;TZID=Europe/London:20290304T113000
DTSTAMP:20260420T072256
CREATED:20231020T073557Z
LAST-MODIFIED:20260107T110911Z
UID:10005784-1867314600-1867318200@garthma.wales
SUMMARY:All Age Service - St Mary's Church
DESCRIPTION:Please join us for our All Age Service. We look forward to welcoming everyone at this service: the young\, and young at heart. Please do join us.
URL:https://garthma.wales/events/all-age-service-st-marys-church/2029-03-04/
LOCATION:St Mary’s Church\, St Fagans\, Crofft-y-Genau Road\, St Fagans\, CF5 6EL\, United Kingdom
ATTACH;FMTTYPE=image/png:https://garthma.wales/wp-content/uploads/2023/07/All-Age-Service-Logo_final-1.png
END:VEVENT
BEGIN:VEVENT
DTSTART;TZID=Europe/London:20290304T103000
DTEND;TZID=Europe/London:20290304T113000
DTSTAMP:20260420T072256
CREATED:20250127T124930Z
LAST-MODIFIED:20260107T105554Z
UID:10009674-1867314600-1867318200@garthma.wales
SUMMARY:Holy Eucharist - St Mary's Church
DESCRIPTION:A warm welcome awaits you\, so please join us for our Holy Eucharist Service at St. Mary’s Church\, St. Fagans. There will also be Junior Church during the service.
URL:https://garthma.wales/events/sunday-eucharist-8/2029-03-04/
LOCATION:St Mary’s Church\, St Fagans\, Crofft-y-Genau Road\, St Fagans\, CF5 6EL\, United Kingdom
CATEGORIES:Sunday Worship
ATTACH;FMTTYPE=image/webp:https://garthma.wales/wp-content/uploads/2023/01/Tower-Glass-Door-image-St-Marys.webp
END:VEVENT
BEGIN:VEVENT
DTSTART;TZID=Europe/London:20290311T103000
DTEND;TZID=Europe/London:20290311T113000
DTSTAMP:20260420T072256
CREATED:20250127T124930Z
LAST-MODIFIED:20260107T105554Z
UID:10009675-1867919400-1867923000@garthma.wales
SUMMARY:Holy Eucharist - St Mary's Church
DESCRIPTION:A warm welcome awaits you\, so please join us for our Holy Eucharist Service at St. Mary’s Church\, St. Fagans. There will also be Junior Church during the service.
URL:https://garthma.wales/events/sunday-eucharist-8/2029-03-11/
LOCATION:St Mary’s Church\, St Fagans\, Crofft-y-Genau Road\, St Fagans\, CF5 6EL\, United Kingdom
CATEGORIES:Sunday Worship
ATTACH;FMTTYPE=image/webp:https://garthma.wales/wp-content/uploads/2023/01/Tower-Glass-Door-image-St-Marys.webp
END:VEVENT
BEGIN:VEVENT
DTSTART;TZID=Europe/London:20290318T103000
DTEND;TZID=Europe/London:20290318T113000
DTSTAMP:20260420T072256
CREATED:20250127T124930Z
LAST-MODIFIED:20260107T105554Z
UID:10009676-1868524200-1868527800@garthma.wales
SUMMARY:Holy Eucharist - St Mary's Church
DESCRIPTION:A warm welcome awaits you\, so please join us for our Holy Eucharist Service at St. Mary’s Church\, St. Fagans. There will also be Junior Church during the service.
URL:https://garthma.wales/events/sunday-eucharist-8/2029-03-18/
LOCATION:St Mary’s Church\, St Fagans\, Crofft-y-Genau Road\, St Fagans\, CF5 6EL\, United Kingdom
CATEGORIES:Sunday Worship
ATTACH;FMTTYPE=image/webp:https://garthma.wales/wp-content/uploads/2023/01/Tower-Glass-Door-image-St-Marys.webp
END:VEVENT
BEGIN:VEVENT
DTSTART;TZID=Europe/London:20290325T103000
DTEND;TZID=Europe/London:20290325T113000
DTSTAMP:20260420T072256
CREATED:20250127T124930Z
LAST-MODIFIED:20260107T105554Z
UID:10009677-1869129000-1869132600@garthma.wales
SUMMARY:Holy Eucharist - St Mary's Church
DESCRIPTION:A warm welcome awaits you\, so please join us for our Holy Eucharist Service at St. Mary’s Church\, St. Fagans. There will also be Junior Church during the service.
URL:https://garthma.wales/events/sunday-eucharist-8/2029-03-25/
LOCATION:St Mary’s Church\, St Fagans\, Crofft-y-Genau Road\, St Fagans\, CF5 6EL\, United Kingdom
CATEGORIES:Sunday Worship
ATTACH;FMTTYPE=image/webp:https://garthma.wales/wp-content/uploads/2023/01/Tower-Glass-Door-image-St-Marys.webp
END:VEVENT
BEGIN:VEVENT
DTSTART;TZID=Europe/London:20290401T080000
DTEND;TZID=Europe/London:20290401T090000
DTSTAMP:20260420T072256
CREATED:20231020T072852Z
LAST-MODIFIED:20260107T105400Z
UID:10010093-1869724800-1869728400@garthma.wales
SUMMARY:Holy Eucharist - St Mary's Church
DESCRIPTION:Holy Eucharist Service held at St. Mary’s Church\, St. Fagans on the first Sunday of the month.
URL:https://garthma.wales/events/holy-eucharist-st-marys-church/2029-04-01/
LOCATION:St Mary’s Church\, St Fagans\, Crofft-y-Genau Road\, St Fagans\, CF5 6EL\, United Kingdom
CATEGORIES:Sunday Worship
ATTACH;FMTTYPE=image/webp:https://garthma.wales/wp-content/uploads/2023/01/Tower-Glass-Door-image-St-Marys.webp
END:VEVENT
BEGIN:VEVENT
DTSTART;TZID=Europe/London:20290401T103000
DTEND;TZID=Europe/London:20290401T113000
DTSTAMP:20260420T072256
CREATED:20231020T073557Z
LAST-MODIFIED:20260107T110911Z
UID:10005785-1869733800-1869737400@garthma.wales
SUMMARY:All Age Service - St Mary's Church
DESCRIPTION:Please join us for our All Age Service. We look forward to welcoming everyone at this service: the young\, and young at heart. Please do join us.
URL:https://garthma.wales/events/all-age-service-st-marys-church/2029-04-01/
LOCATION:St Mary’s Church\, St Fagans\, Crofft-y-Genau Road\, St Fagans\, CF5 6EL\, United Kingdom
ATTACH;FMTTYPE=image/png:https://garthma.wales/wp-content/uploads/2023/07/All-Age-Service-Logo_final-1.png
END:VEVENT
BEGIN:VEVENT
DTSTART;TZID=Europe/London:20290401T103000
DTEND;TZID=Europe/London:20290401T113000
DTSTAMP:20260420T072256
CREATED:20250127T124930Z
LAST-MODIFIED:20260107T105554Z
UID:10009678-1869733800-1869737400@garthma.wales
SUMMARY:Holy Eucharist - St Mary's Church
DESCRIPTION:A warm welcome awaits you\, so please join us for our Holy Eucharist Service at St. Mary’s Church\, St. Fagans. There will also be Junior Church during the service.
URL:https://garthma.wales/events/sunday-eucharist-8/2029-04-01/
LOCATION:St Mary’s Church\, St Fagans\, Crofft-y-Genau Road\, St Fagans\, CF5 6EL\, United Kingdom
CATEGORIES:Sunday Worship
ATTACH;FMTTYPE=image/webp:https://garthma.wales/wp-content/uploads/2023/01/Tower-Glass-Door-image-St-Marys.webp
END:VEVENT
BEGIN:VEVENT
DTSTART;TZID=Europe/London:20290405T140000
DTEND;TZID=Europe/London:20290405T150000
DTSTAMP:20260420T072256
CREATED:20250501T105805Z
LAST-MODIFIED:20251106T203906Z
UID:10010909-1870092000-1870095600@garthma.wales
SUMMARY:Mothers' Union
DESCRIPTION:Join the Mothers’ Union at St Mary’s Church\, St Fagans on the first Thursday of each month.
URL:https://garthma.wales/events/mothers-union-2/2029-04-05/
LOCATION:St Mary’s Church\, St Fagans\, Crofft-y-Genau Road\, St Fagans\, CF5 6EL\, United Kingdom
ATTACH;FMTTYPE=image/jpeg:https://garthma.wales/wp-content/uploads/2022/10/mothers-union.jpg
END:VEVENT
BEGIN:VEVENT
DTSTART;TZID=Europe/London:20290408T103000
DTEND;TZID=Europe/London:20290408T113000
DTSTAMP:20260420T072256
CREATED:20250127T124930Z
LAST-MODIFIED:20260107T105554Z
UID:10009679-1870338600-1870342200@garthma.wales
SUMMARY:Holy Eucharist - St Mary's Church
DESCRIPTION:A warm welcome awaits you\, so please join us for our Holy Eucharist Service at St. Mary’s Church\, St. Fagans. There will also be Junior Church during the service.
URL:https://garthma.wales/events/sunday-eucharist-8/2029-04-08/
LOCATION:St Mary’s Church\, St Fagans\, Crofft-y-Genau Road\, St Fagans\, CF5 6EL\, United Kingdom
CATEGORIES:Sunday Worship
ATTACH;FMTTYPE=image/webp:https://garthma.wales/wp-content/uploads/2023/01/Tower-Glass-Door-image-St-Marys.webp
END:VEVENT
BEGIN:VEVENT
DTSTART;TZID=Europe/London:20290415T103000
DTEND;TZID=Europe/London:20290415T113000
DTSTAMP:20260420T072256
CREATED:20250127T124930Z
LAST-MODIFIED:20260107T105554Z
UID:10009680-1870943400-1870947000@garthma.wales
SUMMARY:Holy Eucharist - St Mary's Church
DESCRIPTION:A warm welcome awaits you\, so please join us for our Holy Eucharist Service at St. Mary’s Church\, St. Fagans. There will also be Junior Church during the service.
URL:https://garthma.wales/events/sunday-eucharist-8/2029-04-15/
LOCATION:St Mary’s Church\, St Fagans\, Crofft-y-Genau Road\, St Fagans\, CF5 6EL\, United Kingdom
CATEGORIES:Sunday Worship
ATTACH;FMTTYPE=image/webp:https://garthma.wales/wp-content/uploads/2023/01/Tower-Glass-Door-image-St-Marys.webp
END:VEVENT
BEGIN:VEVENT
DTSTART;TZID=Europe/London:20290422T103000
DTEND;TZID=Europe/London:20290422T113000
DTSTAMP:20260420T072256
CREATED:20250127T124930Z
LAST-MODIFIED:20260107T105554Z
UID:10009681-1871548200-1871551800@garthma.wales
SUMMARY:Holy Eucharist - St Mary's Church
DESCRIPTION:A warm welcome awaits you\, so please join us for our Holy Eucharist Service at St. Mary’s Church\, St. Fagans. There will also be Junior Church during the service.
URL:https://garthma.wales/events/sunday-eucharist-8/2029-04-22/
LOCATION:St Mary’s Church\, St Fagans\, Crofft-y-Genau Road\, St Fagans\, CF5 6EL\, United Kingdom
CATEGORIES:Sunday Worship
ATTACH;FMTTYPE=image/webp:https://garthma.wales/wp-content/uploads/2023/01/Tower-Glass-Door-image-St-Marys.webp
END:VEVENT
BEGIN:VEVENT
DTSTART;TZID=Europe/London:20290429T103000
DTEND;TZID=Europe/London:20290429T113000
DTSTAMP:20260420T072256
CREATED:20250127T124930Z
LAST-MODIFIED:20260107T105554Z
UID:10009682-1872153000-1872156600@garthma.wales
SUMMARY:Holy Eucharist - St Mary's Church
DESCRIPTION:A warm welcome awaits you\, so please join us for our Holy Eucharist Service at St. Mary’s Church\, St. Fagans. There will also be Junior Church during the service.
URL:https://garthma.wales/events/sunday-eucharist-8/2029-04-29/
LOCATION:St Mary’s Church\, St Fagans\, Crofft-y-Genau Road\, St Fagans\, CF5 6EL\, United Kingdom
CATEGORIES:Sunday Worship
ATTACH;FMTTYPE=image/webp:https://garthma.wales/wp-content/uploads/2023/01/Tower-Glass-Door-image-St-Marys.webp
END:VEVENT
END:VCALENDAR