BEGIN:VCALENDAR
VERSION:2.0
PRODID:-//The Garth Ministry Area - ECPv6.15.20//NONSGML v1.0//EN
CALSCALE:GREGORIAN
METHOD:PUBLISH
X-WR-CALNAME:The Garth Ministry Area
X-ORIGINAL-URL:https://garthma.wales
X-WR-CALDESC:Events for The Garth Ministry Area
REFRESH-INTERVAL;VALUE=DURATION:PT1H
X-Robots-Tag:noindex
X-PUBLISHED-TTL:PT1H
BEGIN:VTIMEZONE
TZID:Europe/London
BEGIN:DAYLIGHT
TZOFFSETFROM:+0000
TZOFFSETTO:+0100
TZNAME:BST
DTSTART:20220327T010000
END:DAYLIGHT
BEGIN:STANDARD
TZOFFSETFROM:+0100
TZOFFSETTO:+0000
TZNAME:GMT
DTSTART:20221030T010000
END:STANDARD
BEGIN:DAYLIGHT
TZOFFSETFROM:+0000
TZOFFSETTO:+0100
TZNAME:BST
DTSTART:20230326T010000
END:DAYLIGHT
BEGIN:STANDARD
TZOFFSETFROM:+0100
TZOFFSETTO:+0000
TZNAME:GMT
DTSTART:20231029T010000
END:STANDARD
BEGIN:DAYLIGHT
TZOFFSETFROM:+0000
TZOFFSETTO:+0100
TZNAME:BST
DTSTART:20240331T010000
END:DAYLIGHT
BEGIN:STANDARD
TZOFFSETFROM:+0100
TZOFFSETTO:+0000
TZNAME:GMT
DTSTART:20241027T010000
END:STANDARD
END:VTIMEZONE
BEGIN:VEVENT
DTSTART;TZID=Europe/London:20230326T180000
DTEND;TZID=Europe/London:20230326T180000
DTSTAMP:20260421T195710
CREATED:20230130T182147Z
LAST-MODIFIED:20231112T180140Z
UID:10001015-1679853600-1679853600@garthma.wales
SUMMARY:Evening Prayer - St John's Church
DESCRIPTION:A quiet reflective service following the traditional pattern for Evening Prayer.\nFourth Sunday of the month\, Holy Eucharist.
URL:https://garthma.wales/events/evening-prayer/2023-03-26/
LOCATION:St John’s Church\, Danescourt\, Rachel Close\, Danescourt\, Cardiff\, CF5 2SH\, United Kingdom
ATTACH;FMTTYPE=image/jpeg:https://garthma.wales/wp-content/uploads/2023/07/St-Johns-Church-Danescourt.jpg
END:VEVENT
BEGIN:VEVENT
DTSTART;TZID=Europe/London:20230326T091500
DTEND;TZID=Europe/London:20230326T101500
DTSTAMP:20260421T195710
CREATED:20230130T180805Z
LAST-MODIFIED:20230807T192714Z
UID:10000415-1679822100-1679825700@garthma.wales
SUMMARY:Sung Eucharist with Sunday Club - St John's Church
DESCRIPTION:Please join us for our Sung Eucharist Service at St. John’s Church in Danescourt\, along with our Sunday Club.
URL:https://garthma.wales/events/sung-eucharist-with-sunday-club-2/2023-03-26/
LOCATION:St John’s Church\, Danescourt\, Rachel Close\, Danescourt\, Cardiff\, CF5 2SH\, United Kingdom
ATTACH;FMTTYPE=image/jpeg:https://garthma.wales/wp-content/uploads/2023/07/St-Johns-Church-Danescourt.jpg
END:VEVENT
BEGIN:VEVENT
DTSTART;TZID=Europe/London:20230323T110000
DTEND;TZID=Europe/London:20230323T120000
DTSTAMP:20260421T195710
CREATED:20230724T170054Z
LAST-MODIFIED:20251106T203608Z
UID:10001876-1679569200-1679572800@garthma.wales
SUMMARY:Holy Eucharist - St. John's Church
DESCRIPTION:Holy Eucharist followed by coffee.
URL:https://garthma.wales/events/midweek-eucharist-4/2023-03-23/
LOCATION:St John’s Church\, Danescourt\, Rachel Close\, Danescourt\, Cardiff\, CF5 2SH\, United Kingdom
CATEGORIES:Mid Week Worship
ATTACH;FMTTYPE=image/jpeg:https://garthma.wales/wp-content/uploads/2023/07/St-Johns-Church-Danescourt.jpg
END:VEVENT
BEGIN:VEVENT
DTSTART;TZID=Europe/London:20230319T180000
DTEND;TZID=Europe/London:20230319T180000
DTSTAMP:20260421T195710
CREATED:20230130T182147Z
LAST-MODIFIED:20231112T180140Z
UID:10001014-1679248800-1679248800@garthma.wales
SUMMARY:Evening Prayer - St John's Church
DESCRIPTION:A quiet reflective service following the traditional pattern for Evening Prayer.\nFourth Sunday of the month\, Holy Eucharist.
URL:https://garthma.wales/events/evening-prayer/2023-03-19/
LOCATION:St John’s Church\, Danescourt\, Rachel Close\, Danescourt\, Cardiff\, CF5 2SH\, United Kingdom
ATTACH;FMTTYPE=image/jpeg:https://garthma.wales/wp-content/uploads/2023/07/St-Johns-Church-Danescourt.jpg
END:VEVENT
BEGIN:VEVENT
DTSTART;TZID=Europe/London:20230319T091500
DTEND;TZID=Europe/London:20230319T101500
DTSTAMP:20260421T195710
CREATED:20230130T180805Z
LAST-MODIFIED:20230807T192714Z
UID:10000414-1679217300-1679220900@garthma.wales
SUMMARY:Sung Eucharist with Sunday Club - St John's Church
DESCRIPTION:Please join us for our Sung Eucharist Service at St. John’s Church in Danescourt\, along with our Sunday Club.
URL:https://garthma.wales/events/sung-eucharist-with-sunday-club-2/2023-03-19/
LOCATION:St John’s Church\, Danescourt\, Rachel Close\, Danescourt\, Cardiff\, CF5 2SH\, United Kingdom
ATTACH;FMTTYPE=image/jpeg:https://garthma.wales/wp-content/uploads/2023/07/St-Johns-Church-Danescourt.jpg
END:VEVENT
BEGIN:VEVENT
DTSTART;TZID=Europe/London:20230316T110000
DTEND;TZID=Europe/London:20230316T120000
DTSTAMP:20260421T195710
CREATED:20230724T170054Z
LAST-MODIFIED:20251106T203608Z
UID:10001875-1678964400-1678968000@garthma.wales
SUMMARY:Holy Eucharist - St. John's Church
DESCRIPTION:Holy Eucharist followed by coffee.
URL:https://garthma.wales/events/midweek-eucharist-4/2023-03-16/
LOCATION:St John’s Church\, Danescourt\, Rachel Close\, Danescourt\, Cardiff\, CF5 2SH\, United Kingdom
CATEGORIES:Mid Week Worship
ATTACH;FMTTYPE=image/jpeg:https://garthma.wales/wp-content/uploads/2023/07/St-Johns-Church-Danescourt.jpg
END:VEVENT
BEGIN:VEVENT
DTSTART;TZID=Europe/London:20230312T180000
DTEND;TZID=Europe/London:20230312T180000
DTSTAMP:20260421T195710
CREATED:20230130T182147Z
LAST-MODIFIED:20231112T180140Z
UID:10001013-1678644000-1678644000@garthma.wales
SUMMARY:Evening Prayer - St John's Church
DESCRIPTION:A quiet reflective service following the traditional pattern for Evening Prayer.\nFourth Sunday of the month\, Holy Eucharist.
URL:https://garthma.wales/events/evening-prayer/2023-03-12/
LOCATION:St John’s Church\, Danescourt\, Rachel Close\, Danescourt\, Cardiff\, CF5 2SH\, United Kingdom
ATTACH;FMTTYPE=image/jpeg:https://garthma.wales/wp-content/uploads/2023/07/St-Johns-Church-Danescourt.jpg
END:VEVENT
BEGIN:VEVENT
DTSTART;TZID=Europe/London:20230312T091500
DTEND;TZID=Europe/London:20230312T101500
DTSTAMP:20260421T195710
CREATED:20230130T180805Z
LAST-MODIFIED:20230807T192714Z
UID:10000413-1678612500-1678616100@garthma.wales
SUMMARY:Sung Eucharist with Sunday Club - St John's Church
DESCRIPTION:Please join us for our Sung Eucharist Service at St. John’s Church in Danescourt\, along with our Sunday Club.
URL:https://garthma.wales/events/sung-eucharist-with-sunday-club-2/2023-03-12/
LOCATION:St John’s Church\, Danescourt\, Rachel Close\, Danescourt\, Cardiff\, CF5 2SH\, United Kingdom
ATTACH;FMTTYPE=image/jpeg:https://garthma.wales/wp-content/uploads/2023/07/St-Johns-Church-Danescourt.jpg
END:VEVENT
BEGIN:VEVENT
DTSTART;TZID=Europe/London:20230309T110000
DTEND;TZID=Europe/London:20230309T120000
DTSTAMP:20260421T195710
CREATED:20230724T170054Z
LAST-MODIFIED:20251106T203608Z
UID:10001874-1678359600-1678363200@garthma.wales
SUMMARY:Holy Eucharist - St. John's Church
DESCRIPTION:Holy Eucharist followed by coffee.
URL:https://garthma.wales/events/midweek-eucharist-4/2023-03-09/
LOCATION:St John’s Church\, Danescourt\, Rachel Close\, Danescourt\, Cardiff\, CF5 2SH\, United Kingdom
CATEGORIES:Mid Week Worship
ATTACH;FMTTYPE=image/jpeg:https://garthma.wales/wp-content/uploads/2023/07/St-Johns-Church-Danescourt.jpg
END:VEVENT
BEGIN:VEVENT
DTSTART;TZID=Europe/London:20230305T180000
DTEND;TZID=Europe/London:20230305T180000
DTSTAMP:20260421T195710
CREATED:20230130T182147Z
LAST-MODIFIED:20231112T180140Z
UID:10001012-1678039200-1678039200@garthma.wales
SUMMARY:Evening Prayer - St John's Church
DESCRIPTION:A quiet reflective service following the traditional pattern for Evening Prayer.\nFourth Sunday of the month\, Holy Eucharist.
URL:https://garthma.wales/events/evening-prayer/2023-03-05/
LOCATION:St John’s Church\, Danescourt\, Rachel Close\, Danescourt\, Cardiff\, CF5 2SH\, United Kingdom
ATTACH;FMTTYPE=image/jpeg:https://garthma.wales/wp-content/uploads/2023/07/St-Johns-Church-Danescourt.jpg
END:VEVENT
BEGIN:VEVENT
DTSTART;TZID=Europe/London:20230305T091500
DTEND;TZID=Europe/London:20230305T101500
DTSTAMP:20260421T195710
CREATED:20230130T180805Z
LAST-MODIFIED:20230807T192714Z
UID:10000412-1678007700-1678011300@garthma.wales
SUMMARY:Sung Eucharist with Sunday Club - St John's Church
DESCRIPTION:Please join us for our Sung Eucharist Service at St. John’s Church in Danescourt\, along with our Sunday Club.
URL:https://garthma.wales/events/sung-eucharist-with-sunday-club-2/2023-03-05/
LOCATION:St John’s Church\, Danescourt\, Rachel Close\, Danescourt\, Cardiff\, CF5 2SH\, United Kingdom
ATTACH;FMTTYPE=image/jpeg:https://garthma.wales/wp-content/uploads/2023/07/St-Johns-Church-Danescourt.jpg
END:VEVENT
BEGIN:VEVENT
DTSTART;TZID=Europe/London:20230302T110000
DTEND;TZID=Europe/London:20230302T120000
DTSTAMP:20260421T195710
CREATED:20230724T170054Z
LAST-MODIFIED:20251106T203608Z
UID:10001873-1677754800-1677758400@garthma.wales
SUMMARY:Holy Eucharist - St. John's Church
DESCRIPTION:Holy Eucharist followed by coffee.
URL:https://garthma.wales/events/midweek-eucharist-4/2023-03-02/
LOCATION:St John’s Church\, Danescourt\, Rachel Close\, Danescourt\, Cardiff\, CF5 2SH\, United Kingdom
CATEGORIES:Mid Week Worship
ATTACH;FMTTYPE=image/jpeg:https://garthma.wales/wp-content/uploads/2023/07/St-Johns-Church-Danescourt.jpg
END:VEVENT
BEGIN:VEVENT
DTSTART;TZID=Europe/London:20230226T180000
DTEND;TZID=Europe/London:20230226T180000
DTSTAMP:20260421T195710
CREATED:20230130T182147Z
LAST-MODIFIED:20231112T180140Z
UID:10001011-1677434400-1677434400@garthma.wales
SUMMARY:Evening Prayer - St John's Church
DESCRIPTION:A quiet reflective service following the traditional pattern for Evening Prayer.\nFourth Sunday of the month\, Holy Eucharist.
URL:https://garthma.wales/events/evening-prayer/2023-02-26/
LOCATION:St John’s Church\, Danescourt\, Rachel Close\, Danescourt\, Cardiff\, CF5 2SH\, United Kingdom
ATTACH;FMTTYPE=image/jpeg:https://garthma.wales/wp-content/uploads/2023/07/St-Johns-Church-Danescourt.jpg
END:VEVENT
BEGIN:VEVENT
DTSTART;TZID=Europe/London:20230226T091500
DTEND;TZID=Europe/London:20230226T101500
DTSTAMP:20260421T195710
CREATED:20230130T180805Z
LAST-MODIFIED:20230807T192714Z
UID:10000411-1677402900-1677406500@garthma.wales
SUMMARY:Sung Eucharist with Sunday Club - St John's Church
DESCRIPTION:Please join us for our Sung Eucharist Service at St. John’s Church in Danescourt\, along with our Sunday Club.
URL:https://garthma.wales/events/sung-eucharist-with-sunday-club-2/2023-02-26/
LOCATION:St John’s Church\, Danescourt\, Rachel Close\, Danescourt\, Cardiff\, CF5 2SH\, United Kingdom
ATTACH;FMTTYPE=image/jpeg:https://garthma.wales/wp-content/uploads/2023/07/St-Johns-Church-Danescourt.jpg
END:VEVENT
BEGIN:VEVENT
DTSTART;TZID=Europe/London:20230223T110000
DTEND;TZID=Europe/London:20230223T120000
DTSTAMP:20260421T195710
CREATED:20230724T170054Z
LAST-MODIFIED:20251106T203608Z
UID:10001872-1677150000-1677153600@garthma.wales
SUMMARY:Holy Eucharist - St. John's Church
DESCRIPTION:Holy Eucharist followed by coffee.
URL:https://garthma.wales/events/midweek-eucharist-4/2023-02-23/
LOCATION:St John’s Church\, Danescourt\, Rachel Close\, Danescourt\, Cardiff\, CF5 2SH\, United Kingdom
CATEGORIES:Mid Week Worship
ATTACH;FMTTYPE=image/jpeg:https://garthma.wales/wp-content/uploads/2023/07/St-Johns-Church-Danescourt.jpg
END:VEVENT
BEGIN:VEVENT
DTSTART;TZID=Europe/London:20230219T180000
DTEND;TZID=Europe/London:20230219T180000
DTSTAMP:20260421T195710
CREATED:20230130T182147Z
LAST-MODIFIED:20231112T180140Z
UID:10001010-1676829600-1676829600@garthma.wales
SUMMARY:Evening Prayer - St John's Church
DESCRIPTION:A quiet reflective service following the traditional pattern for Evening Prayer.\nFourth Sunday of the month\, Holy Eucharist.
URL:https://garthma.wales/events/evening-prayer/2023-02-19/
LOCATION:St John’s Church\, Danescourt\, Rachel Close\, Danescourt\, Cardiff\, CF5 2SH\, United Kingdom
ATTACH;FMTTYPE=image/jpeg:https://garthma.wales/wp-content/uploads/2023/07/St-Johns-Church-Danescourt.jpg
END:VEVENT
BEGIN:VEVENT
DTSTART;TZID=Europe/London:20230219T091500
DTEND;TZID=Europe/London:20230219T101500
DTSTAMP:20260421T195710
CREATED:20230130T180805Z
LAST-MODIFIED:20230807T192714Z
UID:10000410-1676798100-1676801700@garthma.wales
SUMMARY:Sung Eucharist with Sunday Club - St John's Church
DESCRIPTION:Please join us for our Sung Eucharist Service at St. John’s Church in Danescourt\, along with our Sunday Club.
URL:https://garthma.wales/events/sung-eucharist-with-sunday-club-2/2023-02-19/
LOCATION:St John’s Church\, Danescourt\, Rachel Close\, Danescourt\, Cardiff\, CF5 2SH\, United Kingdom
ATTACH;FMTTYPE=image/jpeg:https://garthma.wales/wp-content/uploads/2023/07/St-Johns-Church-Danescourt.jpg
END:VEVENT
BEGIN:VEVENT
DTSTART;TZID=Europe/London:20230216T110000
DTEND;TZID=Europe/London:20230216T120000
DTSTAMP:20260421T195710
CREATED:20230724T170054Z
LAST-MODIFIED:20251106T203608Z
UID:10001871-1676545200-1676548800@garthma.wales
SUMMARY:Holy Eucharist - St. John's Church
DESCRIPTION:Holy Eucharist followed by coffee.
URL:https://garthma.wales/events/midweek-eucharist-4/2023-02-16/
LOCATION:St John’s Church\, Danescourt\, Rachel Close\, Danescourt\, Cardiff\, CF5 2SH\, United Kingdom
CATEGORIES:Mid Week Worship
ATTACH;FMTTYPE=image/jpeg:https://garthma.wales/wp-content/uploads/2023/07/St-Johns-Church-Danescourt.jpg
END:VEVENT
BEGIN:VEVENT
DTSTART;TZID=Europe/London:20230212T180000
DTEND;TZID=Europe/London:20230212T180000
DTSTAMP:20260421T195710
CREATED:20230130T182147Z
LAST-MODIFIED:20231112T180140Z
UID:10001009-1676224800-1676224800@garthma.wales
SUMMARY:Evening Prayer - St John's Church
DESCRIPTION:A quiet reflective service following the traditional pattern for Evening Prayer.\nFourth Sunday of the month\, Holy Eucharist.
URL:https://garthma.wales/events/evening-prayer/2023-02-12/
LOCATION:St John’s Church\, Danescourt\, Rachel Close\, Danescourt\, Cardiff\, CF5 2SH\, United Kingdom
ATTACH;FMTTYPE=image/jpeg:https://garthma.wales/wp-content/uploads/2023/07/St-Johns-Church-Danescourt.jpg
END:VEVENT
BEGIN:VEVENT
DTSTART;TZID=Europe/London:20230212T091500
DTEND;TZID=Europe/London:20230212T101500
DTSTAMP:20260421T195710
CREATED:20230130T180805Z
LAST-MODIFIED:20230807T192714Z
UID:10000409-1676193300-1676196900@garthma.wales
SUMMARY:Sung Eucharist with Sunday Club - St John's Church
DESCRIPTION:Please join us for our Sung Eucharist Service at St. John’s Church in Danescourt\, along with our Sunday Club.
URL:https://garthma.wales/events/sung-eucharist-with-sunday-club-2/2023-02-12/
LOCATION:St John’s Church\, Danescourt\, Rachel Close\, Danescourt\, Cardiff\, CF5 2SH\, United Kingdom
ATTACH;FMTTYPE=image/jpeg:https://garthma.wales/wp-content/uploads/2023/07/St-Johns-Church-Danescourt.jpg
END:VEVENT
BEGIN:VEVENT
DTSTART;TZID=Europe/London:20230209T110000
DTEND;TZID=Europe/London:20230209T120000
DTSTAMP:20260421T195710
CREATED:20230724T170054Z
LAST-MODIFIED:20251106T203608Z
UID:10001870-1675940400-1675944000@garthma.wales
SUMMARY:Holy Eucharist - St. John's Church
DESCRIPTION:Holy Eucharist followed by coffee.
URL:https://garthma.wales/events/midweek-eucharist-4/2023-02-09/
LOCATION:St John’s Church\, Danescourt\, Rachel Close\, Danescourt\, Cardiff\, CF5 2SH\, United Kingdom
CATEGORIES:Mid Week Worship
ATTACH;FMTTYPE=image/jpeg:https://garthma.wales/wp-content/uploads/2023/07/St-Johns-Church-Danescourt.jpg
END:VEVENT
BEGIN:VEVENT
DTSTART;TZID=Europe/London:20230205T180000
DTEND;TZID=Europe/London:20230205T180000
DTSTAMP:20260421T195710
CREATED:20230130T182147Z
LAST-MODIFIED:20231112T180140Z
UID:10001008-1675620000-1675620000@garthma.wales
SUMMARY:Evening Prayer - St John's Church
DESCRIPTION:A quiet reflective service following the traditional pattern for Evening Prayer.\nFourth Sunday of the month\, Holy Eucharist.
URL:https://garthma.wales/events/evening-prayer/2023-02-05/
LOCATION:St John’s Church\, Danescourt\, Rachel Close\, Danescourt\, Cardiff\, CF5 2SH\, United Kingdom
ATTACH;FMTTYPE=image/jpeg:https://garthma.wales/wp-content/uploads/2023/07/St-Johns-Church-Danescourt.jpg
END:VEVENT
BEGIN:VEVENT
DTSTART;TZID=Europe/London:20230205T091500
DTEND;TZID=Europe/London:20230205T101500
DTSTAMP:20260421T195710
CREATED:20230130T180805Z
LAST-MODIFIED:20230807T192714Z
UID:10000408-1675588500-1675592100@garthma.wales
SUMMARY:Sung Eucharist with Sunday Club - St John's Church
DESCRIPTION:Please join us for our Sung Eucharist Service at St. John’s Church in Danescourt\, along with our Sunday Club.
URL:https://garthma.wales/events/sung-eucharist-with-sunday-club-2/2023-02-05/
LOCATION:St John’s Church\, Danescourt\, Rachel Close\, Danescourt\, Cardiff\, CF5 2SH\, United Kingdom
ATTACH;FMTTYPE=image/jpeg:https://garthma.wales/wp-content/uploads/2023/07/St-Johns-Church-Danescourt.jpg
END:VEVENT
BEGIN:VEVENT
DTSTART;TZID=Europe/London:20230202T110000
DTEND;TZID=Europe/London:20230202T120000
DTSTAMP:20260421T195710
CREATED:20230724T170054Z
LAST-MODIFIED:20251106T203608Z
UID:10001869-1675335600-1675339200@garthma.wales
SUMMARY:Holy Eucharist - St. John's Church
DESCRIPTION:Holy Eucharist followed by coffee.
URL:https://garthma.wales/events/midweek-eucharist-4/2023-02-02/
LOCATION:St John’s Church\, Danescourt\, Rachel Close\, Danescourt\, Cardiff\, CF5 2SH\, United Kingdom
CATEGORIES:Mid Week Worship
ATTACH;FMTTYPE=image/jpeg:https://garthma.wales/wp-content/uploads/2023/07/St-Johns-Church-Danescourt.jpg
END:VEVENT
BEGIN:VEVENT
DTSTART;TZID=Europe/London:20230129T180000
DTEND;TZID=Europe/London:20230129T180000
DTSTAMP:20260421T195710
CREATED:20230130T182147Z
LAST-MODIFIED:20231112T180140Z
UID:10001007-1675015200-1675015200@garthma.wales
SUMMARY:Evening Prayer - St John's Church
DESCRIPTION:A quiet reflective service following the traditional pattern for Evening Prayer.\nFourth Sunday of the month\, Holy Eucharist.
URL:https://garthma.wales/events/evening-prayer/2023-01-29/
LOCATION:St John’s Church\, Danescourt\, Rachel Close\, Danescourt\, Cardiff\, CF5 2SH\, United Kingdom
ATTACH;FMTTYPE=image/jpeg:https://garthma.wales/wp-content/uploads/2023/07/St-Johns-Church-Danescourt.jpg
END:VEVENT
BEGIN:VEVENT
DTSTART;TZID=Europe/London:20230129T091500
DTEND;TZID=Europe/London:20230129T101500
DTSTAMP:20260421T195711
CREATED:20230130T180805Z
LAST-MODIFIED:20230807T192714Z
UID:10000407-1674983700-1674987300@garthma.wales
SUMMARY:Sung Eucharist with Sunday Club - St John's Church
DESCRIPTION:Please join us for our Sung Eucharist Service at St. John’s Church in Danescourt\, along with our Sunday Club.
URL:https://garthma.wales/events/sung-eucharist-with-sunday-club-2/2023-01-29/
LOCATION:St John’s Church\, Danescourt\, Rachel Close\, Danescourt\, Cardiff\, CF5 2SH\, United Kingdom
ATTACH;FMTTYPE=image/jpeg:https://garthma.wales/wp-content/uploads/2023/07/St-Johns-Church-Danescourt.jpg
END:VEVENT
BEGIN:VEVENT
DTSTART;TZID=Europe/London:20230126T110000
DTEND;TZID=Europe/London:20230126T120000
DTSTAMP:20260421T195711
CREATED:20230724T170054Z
LAST-MODIFIED:20251106T203608Z
UID:10001868-1674730800-1674734400@garthma.wales
SUMMARY:Holy Eucharist - St. John's Church
DESCRIPTION:Holy Eucharist followed by coffee.
URL:https://garthma.wales/events/midweek-eucharist-4/2023-01-26/
LOCATION:St John’s Church\, Danescourt\, Rachel Close\, Danescourt\, Cardiff\, CF5 2SH\, United Kingdom
CATEGORIES:Mid Week Worship
ATTACH;FMTTYPE=image/jpeg:https://garthma.wales/wp-content/uploads/2023/07/St-Johns-Church-Danescourt.jpg
END:VEVENT
BEGIN:VEVENT
DTSTART;TZID=Europe/London:20230122T180000
DTEND;TZID=Europe/London:20230122T180000
DTSTAMP:20260421T195711
CREATED:20230130T182147Z
LAST-MODIFIED:20231112T180140Z
UID:10001006-1674410400-1674410400@garthma.wales
SUMMARY:Evening Prayer - St John's Church
DESCRIPTION:A quiet reflective service following the traditional pattern for Evening Prayer.\nFourth Sunday of the month\, Holy Eucharist.
URL:https://garthma.wales/events/evening-prayer/2023-01-22/
LOCATION:St John’s Church\, Danescourt\, Rachel Close\, Danescourt\, Cardiff\, CF5 2SH\, United Kingdom
ATTACH;FMTTYPE=image/jpeg:https://garthma.wales/wp-content/uploads/2023/07/St-Johns-Church-Danescourt.jpg
END:VEVENT
BEGIN:VEVENT
DTSTART;TZID=Europe/London:20230122T091500
DTEND;TZID=Europe/London:20230122T101500
DTSTAMP:20260421T195711
CREATED:20230130T180805Z
LAST-MODIFIED:20230807T192714Z
UID:10000406-1674378900-1674382500@garthma.wales
SUMMARY:Sung Eucharist with Sunday Club - St John's Church
DESCRIPTION:Please join us for our Sung Eucharist Service at St. John’s Church in Danescourt\, along with our Sunday Club.
URL:https://garthma.wales/events/sung-eucharist-with-sunday-club-2/2023-01-22/
LOCATION:St John’s Church\, Danescourt\, Rachel Close\, Danescourt\, Cardiff\, CF5 2SH\, United Kingdom
ATTACH;FMTTYPE=image/jpeg:https://garthma.wales/wp-content/uploads/2023/07/St-Johns-Church-Danescourt.jpg
END:VEVENT
BEGIN:VEVENT
DTSTART;TZID=Europe/London:20230119T110000
DTEND;TZID=Europe/London:20230119T120000
DTSTAMP:20260421T195711
CREATED:20230724T170054Z
LAST-MODIFIED:20251106T203608Z
UID:10001867-1674126000-1674129600@garthma.wales
SUMMARY:Holy Eucharist - St. John's Church
DESCRIPTION:Holy Eucharist followed by coffee.
URL:https://garthma.wales/events/midweek-eucharist-4/2023-01-19/
LOCATION:St John’s Church\, Danescourt\, Rachel Close\, Danescourt\, Cardiff\, CF5 2SH\, United Kingdom
CATEGORIES:Mid Week Worship
ATTACH;FMTTYPE=image/jpeg:https://garthma.wales/wp-content/uploads/2023/07/St-Johns-Church-Danescourt.jpg
END:VEVENT
END:VCALENDAR