BEGIN:VCALENDAR
VERSION:2.0
PRODID:-//The Garth Ministry Area - ECPv6.15.20//NONSGML v1.0//EN
CALSCALE:GREGORIAN
METHOD:PUBLISH
X-WR-CALNAME:The Garth Ministry Area
X-ORIGINAL-URL:https://garthma.wales
X-WR-CALDESC:Events for The Garth Ministry Area
REFRESH-INTERVAL;VALUE=DURATION:PT1H
X-Robots-Tag:noindex
X-PUBLISHED-TTL:PT1H
BEGIN:VTIMEZONE
TZID:Europe/London
BEGIN:DAYLIGHT
TZOFFSETFROM:+0000
TZOFFSETTO:+0100
TZNAME:BST
DTSTART:20220327T010000
END:DAYLIGHT
BEGIN:STANDARD
TZOFFSETFROM:+0100
TZOFFSETTO:+0000
TZNAME:GMT
DTSTART:20221030T010000
END:STANDARD
BEGIN:DAYLIGHT
TZOFFSETFROM:+0000
TZOFFSETTO:+0100
TZNAME:BST
DTSTART:20230326T010000
END:DAYLIGHT
BEGIN:STANDARD
TZOFFSETFROM:+0100
TZOFFSETTO:+0000
TZNAME:GMT
DTSTART:20231029T010000
END:STANDARD
BEGIN:DAYLIGHT
TZOFFSETFROM:+0000
TZOFFSETTO:+0100
TZNAME:BST
DTSTART:20240331T010000
END:DAYLIGHT
BEGIN:STANDARD
TZOFFSETFROM:+0100
TZOFFSETTO:+0000
TZNAME:GMT
DTSTART:20241027T010000
END:STANDARD
END:VTIMEZONE
BEGIN:VEVENT
DTSTART;TZID=Europe/London:20230521T180000
DTEND;TZID=Europe/London:20230521T180000
DTSTAMP:20260420T194626
CREATED:20230130T182147Z
LAST-MODIFIED:20231112T180140Z
UID:10001023-1684692000-1684692000@garthma.wales
SUMMARY:Evening Prayer - St John's Church
DESCRIPTION:A quiet reflective service following the traditional pattern for Evening Prayer.\nFourth Sunday of the month\, Holy Eucharist.
URL:https://garthma.wales/events/evening-prayer/2023-05-21/
LOCATION:St John’s Church\, Danescourt\, Rachel Close\, Danescourt\, Cardiff\, CF5 2SH\, United Kingdom
ATTACH;FMTTYPE=image/jpeg:https://garthma.wales/wp-content/uploads/2023/07/St-Johns-Church-Danescourt.jpg
END:VEVENT
BEGIN:VEVENT
DTSTART;TZID=Europe/London:20230521T091500
DTEND;TZID=Europe/London:20230521T101500
DTSTAMP:20260420T194626
CREATED:20230130T180805Z
LAST-MODIFIED:20230807T192714Z
UID:10000423-1684660500-1684664100@garthma.wales
SUMMARY:Sung Eucharist with Sunday Club - St John's Church
DESCRIPTION:Please join us for our Sung Eucharist Service at St. John’s Church in Danescourt\, along with our Sunday Club.
URL:https://garthma.wales/events/sung-eucharist-with-sunday-club-2/2023-05-21/
LOCATION:St John’s Church\, Danescourt\, Rachel Close\, Danescourt\, Cardiff\, CF5 2SH\, United Kingdom
ATTACH;FMTTYPE=image/jpeg:https://garthma.wales/wp-content/uploads/2023/07/St-Johns-Church-Danescourt.jpg
END:VEVENT
BEGIN:VEVENT
DTSTART;TZID=Europe/London:20230518T110000
DTEND;TZID=Europe/London:20230518T120000
DTSTAMP:20260420T194626
CREATED:20230724T170054Z
LAST-MODIFIED:20251106T203608Z
UID:10001884-1684407600-1684411200@garthma.wales
SUMMARY:Holy Eucharist - St. John's Church
DESCRIPTION:Holy Eucharist followed by coffee.
URL:https://garthma.wales/events/midweek-eucharist-4/2023-05-18/
LOCATION:St John’s Church\, Danescourt\, Rachel Close\, Danescourt\, Cardiff\, CF5 2SH\, United Kingdom
CATEGORIES:Mid Week Worship
ATTACH;FMTTYPE=image/jpeg:https://garthma.wales/wp-content/uploads/2023/07/St-Johns-Church-Danescourt.jpg
END:VEVENT
BEGIN:VEVENT
DTSTART;TZID=Europe/London:20230514T180000
DTEND;TZID=Europe/London:20230514T180000
DTSTAMP:20260420T194626
CREATED:20230130T182147Z
LAST-MODIFIED:20231112T180140Z
UID:10001022-1684087200-1684087200@garthma.wales
SUMMARY:Evening Prayer - St John's Church
DESCRIPTION:A quiet reflective service following the traditional pattern for Evening Prayer.\nFourth Sunday of the month\, Holy Eucharist.
URL:https://garthma.wales/events/evening-prayer/2023-05-14/
LOCATION:St John’s Church\, Danescourt\, Rachel Close\, Danescourt\, Cardiff\, CF5 2SH\, United Kingdom
ATTACH;FMTTYPE=image/jpeg:https://garthma.wales/wp-content/uploads/2023/07/St-Johns-Church-Danescourt.jpg
END:VEVENT
BEGIN:VEVENT
DTSTART;TZID=Europe/London:20230514T091500
DTEND;TZID=Europe/London:20230514T101500
DTSTAMP:20260420T194626
CREATED:20230130T180805Z
LAST-MODIFIED:20230807T192714Z
UID:10000422-1684055700-1684059300@garthma.wales
SUMMARY:Sung Eucharist with Sunday Club - St John's Church
DESCRIPTION:Please join us for our Sung Eucharist Service at St. John’s Church in Danescourt\, along with our Sunday Club.
URL:https://garthma.wales/events/sung-eucharist-with-sunday-club-2/2023-05-14/
LOCATION:St John’s Church\, Danescourt\, Rachel Close\, Danescourt\, Cardiff\, CF5 2SH\, United Kingdom
ATTACH;FMTTYPE=image/jpeg:https://garthma.wales/wp-content/uploads/2023/07/St-Johns-Church-Danescourt.jpg
END:VEVENT
BEGIN:VEVENT
DTSTART;TZID=Europe/London:20230511T110000
DTEND;TZID=Europe/London:20230511T120000
DTSTAMP:20260420T194626
CREATED:20230724T170054Z
LAST-MODIFIED:20251106T203608Z
UID:10001883-1683802800-1683806400@garthma.wales
SUMMARY:Holy Eucharist - St. John's Church
DESCRIPTION:Holy Eucharist followed by coffee.
URL:https://garthma.wales/events/midweek-eucharist-4/2023-05-11/
LOCATION:St John’s Church\, Danescourt\, Rachel Close\, Danescourt\, Cardiff\, CF5 2SH\, United Kingdom
CATEGORIES:Mid Week Worship
ATTACH;FMTTYPE=image/jpeg:https://garthma.wales/wp-content/uploads/2023/07/St-Johns-Church-Danescourt.jpg
END:VEVENT
BEGIN:VEVENT
DTSTART;TZID=Europe/London:20230507T180000
DTEND;TZID=Europe/London:20230507T180000
DTSTAMP:20260420T194626
CREATED:20230130T182147Z
LAST-MODIFIED:20231112T180140Z
UID:10001021-1683482400-1683482400@garthma.wales
SUMMARY:Evening Prayer - St John's Church
DESCRIPTION:A quiet reflective service following the traditional pattern for Evening Prayer.\nFourth Sunday of the month\, Holy Eucharist.
URL:https://garthma.wales/events/evening-prayer/2023-05-07/
LOCATION:St John’s Church\, Danescourt\, Rachel Close\, Danescourt\, Cardiff\, CF5 2SH\, United Kingdom
ATTACH;FMTTYPE=image/jpeg:https://garthma.wales/wp-content/uploads/2023/07/St-Johns-Church-Danescourt.jpg
END:VEVENT
BEGIN:VEVENT
DTSTART;TZID=Europe/London:20230507T091500
DTEND;TZID=Europe/London:20230507T101500
DTSTAMP:20260420T194626
CREATED:20230130T180805Z
LAST-MODIFIED:20230807T192714Z
UID:10000421-1683450900-1683454500@garthma.wales
SUMMARY:Sung Eucharist with Sunday Club - St John's Church
DESCRIPTION:Please join us for our Sung Eucharist Service at St. John’s Church in Danescourt\, along with our Sunday Club.
URL:https://garthma.wales/events/sung-eucharist-with-sunday-club-2/2023-05-07/
LOCATION:St John’s Church\, Danescourt\, Rachel Close\, Danescourt\, Cardiff\, CF5 2SH\, United Kingdom
ATTACH;FMTTYPE=image/jpeg:https://garthma.wales/wp-content/uploads/2023/07/St-Johns-Church-Danescourt.jpg
END:VEVENT
BEGIN:VEVENT
DTSTART;TZID=Europe/London:20230504T110000
DTEND;TZID=Europe/London:20230504T120000
DTSTAMP:20260420T194626
CREATED:20230724T170054Z
LAST-MODIFIED:20251106T203608Z
UID:10001882-1683198000-1683201600@garthma.wales
SUMMARY:Holy Eucharist - St. John's Church
DESCRIPTION:Holy Eucharist followed by coffee.
URL:https://garthma.wales/events/midweek-eucharist-4/2023-05-04/
LOCATION:St John’s Church\, Danescourt\, Rachel Close\, Danescourt\, Cardiff\, CF5 2SH\, United Kingdom
CATEGORIES:Mid Week Worship
ATTACH;FMTTYPE=image/jpeg:https://garthma.wales/wp-content/uploads/2023/07/St-Johns-Church-Danescourt.jpg
END:VEVENT
BEGIN:VEVENT
DTSTART;TZID=Europe/London:20230430T180000
DTEND;TZID=Europe/London:20230430T180000
DTSTAMP:20260420T194626
CREATED:20230130T182147Z
LAST-MODIFIED:20231112T180140Z
UID:10001020-1682877600-1682877600@garthma.wales
SUMMARY:Evening Prayer - St John's Church
DESCRIPTION:A quiet reflective service following the traditional pattern for Evening Prayer.\nFourth Sunday of the month\, Holy Eucharist.
URL:https://garthma.wales/events/evening-prayer/2023-04-30/
LOCATION:St John’s Church\, Danescourt\, Rachel Close\, Danescourt\, Cardiff\, CF5 2SH\, United Kingdom
ATTACH;FMTTYPE=image/jpeg:https://garthma.wales/wp-content/uploads/2023/07/St-Johns-Church-Danescourt.jpg
END:VEVENT
BEGIN:VEVENT
DTSTART;TZID=Europe/London:20230430T091500
DTEND;TZID=Europe/London:20230430T101500
DTSTAMP:20260420T194626
CREATED:20230130T180805Z
LAST-MODIFIED:20230807T192714Z
UID:10000420-1682846100-1682849700@garthma.wales
SUMMARY:Sung Eucharist with Sunday Club - St John's Church
DESCRIPTION:Please join us for our Sung Eucharist Service at St. John’s Church in Danescourt\, along with our Sunday Club.
URL:https://garthma.wales/events/sung-eucharist-with-sunday-club-2/2023-04-30/
LOCATION:St John’s Church\, Danescourt\, Rachel Close\, Danescourt\, Cardiff\, CF5 2SH\, United Kingdom
ATTACH;FMTTYPE=image/jpeg:https://garthma.wales/wp-content/uploads/2023/07/St-Johns-Church-Danescourt.jpg
END:VEVENT
BEGIN:VEVENT
DTSTART;TZID=Europe/London:20230427T110000
DTEND;TZID=Europe/London:20230427T120000
DTSTAMP:20260420T194626
CREATED:20230724T170054Z
LAST-MODIFIED:20251106T203608Z
UID:10001881-1682593200-1682596800@garthma.wales
SUMMARY:Holy Eucharist - St. John's Church
DESCRIPTION:Holy Eucharist followed by coffee.
URL:https://garthma.wales/events/midweek-eucharist-4/2023-04-27/
LOCATION:St John’s Church\, Danescourt\, Rachel Close\, Danescourt\, Cardiff\, CF5 2SH\, United Kingdom
CATEGORIES:Mid Week Worship
ATTACH;FMTTYPE=image/jpeg:https://garthma.wales/wp-content/uploads/2023/07/St-Johns-Church-Danescourt.jpg
END:VEVENT
BEGIN:VEVENT
DTSTART;TZID=Europe/London:20230423T180000
DTEND;TZID=Europe/London:20230423T180000
DTSTAMP:20260420T194626
CREATED:20230130T182147Z
LAST-MODIFIED:20231112T180140Z
UID:10001019-1682272800-1682272800@garthma.wales
SUMMARY:Evening Prayer - St John's Church
DESCRIPTION:A quiet reflective service following the traditional pattern for Evening Prayer.\nFourth Sunday of the month\, Holy Eucharist.
URL:https://garthma.wales/events/evening-prayer/2023-04-23/
LOCATION:St John’s Church\, Danescourt\, Rachel Close\, Danescourt\, Cardiff\, CF5 2SH\, United Kingdom
ATTACH;FMTTYPE=image/jpeg:https://garthma.wales/wp-content/uploads/2023/07/St-Johns-Church-Danescourt.jpg
END:VEVENT
BEGIN:VEVENT
DTSTART;TZID=Europe/London:20230423T091500
DTEND;TZID=Europe/London:20230423T101500
DTSTAMP:20260420T194626
CREATED:20230130T180805Z
LAST-MODIFIED:20230807T192714Z
UID:10000419-1682241300-1682244900@garthma.wales
SUMMARY:Sung Eucharist with Sunday Club - St John's Church
DESCRIPTION:Please join us for our Sung Eucharist Service at St. John’s Church in Danescourt\, along with our Sunday Club.
URL:https://garthma.wales/events/sung-eucharist-with-sunday-club-2/2023-04-23/
LOCATION:St John’s Church\, Danescourt\, Rachel Close\, Danescourt\, Cardiff\, CF5 2SH\, United Kingdom
ATTACH;FMTTYPE=image/jpeg:https://garthma.wales/wp-content/uploads/2023/07/St-Johns-Church-Danescourt.jpg
END:VEVENT
BEGIN:VEVENT
DTSTART;TZID=Europe/London:20230420T110000
DTEND;TZID=Europe/London:20230420T120000
DTSTAMP:20260420T194626
CREATED:20230724T170054Z
LAST-MODIFIED:20251106T203608Z
UID:10001880-1681988400-1681992000@garthma.wales
SUMMARY:Holy Eucharist - St. John's Church
DESCRIPTION:Holy Eucharist followed by coffee.
URL:https://garthma.wales/events/midweek-eucharist-4/2023-04-20/
LOCATION:St John’s Church\, Danescourt\, Rachel Close\, Danescourt\, Cardiff\, CF5 2SH\, United Kingdom
CATEGORIES:Mid Week Worship
ATTACH;FMTTYPE=image/jpeg:https://garthma.wales/wp-content/uploads/2023/07/St-Johns-Church-Danescourt.jpg
END:VEVENT
BEGIN:VEVENT
DTSTART;TZID=Europe/London:20230416T180000
DTEND;TZID=Europe/London:20230416T180000
DTSTAMP:20260420T194626
CREATED:20230130T182147Z
LAST-MODIFIED:20231112T180140Z
UID:10001018-1681668000-1681668000@garthma.wales
SUMMARY:Evening Prayer - St John's Church
DESCRIPTION:A quiet reflective service following the traditional pattern for Evening Prayer.\nFourth Sunday of the month\, Holy Eucharist.
URL:https://garthma.wales/events/evening-prayer/2023-04-16/
LOCATION:St John’s Church\, Danescourt\, Rachel Close\, Danescourt\, Cardiff\, CF5 2SH\, United Kingdom
ATTACH;FMTTYPE=image/jpeg:https://garthma.wales/wp-content/uploads/2023/07/St-Johns-Church-Danescourt.jpg
END:VEVENT
BEGIN:VEVENT
DTSTART;TZID=Europe/London:20230416T091500
DTEND;TZID=Europe/London:20230416T101500
DTSTAMP:20260420T194626
CREATED:20230130T180805Z
LAST-MODIFIED:20230807T192714Z
UID:10000418-1681636500-1681640100@garthma.wales
SUMMARY:Sung Eucharist with Sunday Club - St John's Church
DESCRIPTION:Please join us for our Sung Eucharist Service at St. John’s Church in Danescourt\, along with our Sunday Club.
URL:https://garthma.wales/events/sung-eucharist-with-sunday-club-2/2023-04-16/
LOCATION:St John’s Church\, Danescourt\, Rachel Close\, Danescourt\, Cardiff\, CF5 2SH\, United Kingdom
ATTACH;FMTTYPE=image/jpeg:https://garthma.wales/wp-content/uploads/2023/07/St-Johns-Church-Danescourt.jpg
END:VEVENT
BEGIN:VEVENT
DTSTART;TZID=Europe/London:20230413T110000
DTEND;TZID=Europe/London:20230413T120000
DTSTAMP:20260420T194626
CREATED:20230724T170054Z
LAST-MODIFIED:20251106T203608Z
UID:10001879-1681383600-1681387200@garthma.wales
SUMMARY:Holy Eucharist - St. John's Church
DESCRIPTION:Holy Eucharist followed by coffee.
URL:https://garthma.wales/events/midweek-eucharist-4/2023-04-13/
LOCATION:St John’s Church\, Danescourt\, Rachel Close\, Danescourt\, Cardiff\, CF5 2SH\, United Kingdom
CATEGORIES:Mid Week Worship
ATTACH;FMTTYPE=image/jpeg:https://garthma.wales/wp-content/uploads/2023/07/St-Johns-Church-Danescourt.jpg
END:VEVENT
BEGIN:VEVENT
DTSTART;TZID=Europe/London:20230409T180000
DTEND;TZID=Europe/London:20230409T180000
DTSTAMP:20260420T194626
CREATED:20230130T182147Z
LAST-MODIFIED:20231112T180140Z
UID:10001017-1681063200-1681063200@garthma.wales
SUMMARY:Evening Prayer - St John's Church
DESCRIPTION:A quiet reflective service following the traditional pattern for Evening Prayer.\nFourth Sunday of the month\, Holy Eucharist.
URL:https://garthma.wales/events/evening-prayer/2023-04-09/
LOCATION:St John’s Church\, Danescourt\, Rachel Close\, Danescourt\, Cardiff\, CF5 2SH\, United Kingdom
ATTACH;FMTTYPE=image/jpeg:https://garthma.wales/wp-content/uploads/2023/07/St-Johns-Church-Danescourt.jpg
END:VEVENT
BEGIN:VEVENT
DTSTART;TZID=Europe/London:20230409T091500
DTEND;TZID=Europe/London:20230409T101500
DTSTAMP:20260420T194626
CREATED:20230130T180805Z
LAST-MODIFIED:20230807T192714Z
UID:10000417-1681031700-1681035300@garthma.wales
SUMMARY:Sung Eucharist with Sunday Club - St John's Church
DESCRIPTION:Please join us for our Sung Eucharist Service at St. John’s Church in Danescourt\, along with our Sunday Club.
URL:https://garthma.wales/events/sung-eucharist-with-sunday-club-2/2023-04-09/
LOCATION:St John’s Church\, Danescourt\, Rachel Close\, Danescourt\, Cardiff\, CF5 2SH\, United Kingdom
ATTACH;FMTTYPE=image/jpeg:https://garthma.wales/wp-content/uploads/2023/07/St-Johns-Church-Danescourt.jpg
END:VEVENT
BEGIN:VEVENT
DTSTART;TZID=Europe/London:20230406T110000
DTEND;TZID=Europe/London:20230406T120000
DTSTAMP:20260420T194626
CREATED:20230724T170054Z
LAST-MODIFIED:20251106T203608Z
UID:10001878-1680778800-1680782400@garthma.wales
SUMMARY:Holy Eucharist - St. John's Church
DESCRIPTION:Holy Eucharist followed by coffee.
URL:https://garthma.wales/events/midweek-eucharist-4/2023-04-06/
LOCATION:St John’s Church\, Danescourt\, Rachel Close\, Danescourt\, Cardiff\, CF5 2SH\, United Kingdom
CATEGORIES:Mid Week Worship
ATTACH;FMTTYPE=image/jpeg:https://garthma.wales/wp-content/uploads/2023/07/St-Johns-Church-Danescourt.jpg
END:VEVENT
BEGIN:VEVENT
DTSTART;TZID=Europe/London:20230402T180000
DTEND;TZID=Europe/London:20230402T180000
DTSTAMP:20260420T194626
CREATED:20230130T182147Z
LAST-MODIFIED:20231112T180140Z
UID:10001016-1680458400-1680458400@garthma.wales
SUMMARY:Evening Prayer - St John's Church
DESCRIPTION:A quiet reflective service following the traditional pattern for Evening Prayer.\nFourth Sunday of the month\, Holy Eucharist.
URL:https://garthma.wales/events/evening-prayer/2023-04-02/
LOCATION:St John’s Church\, Danescourt\, Rachel Close\, Danescourt\, Cardiff\, CF5 2SH\, United Kingdom
ATTACH;FMTTYPE=image/jpeg:https://garthma.wales/wp-content/uploads/2023/07/St-Johns-Church-Danescourt.jpg
END:VEVENT
BEGIN:VEVENT
DTSTART;TZID=Europe/London:20230402T091500
DTEND;TZID=Europe/London:20230402T101500
DTSTAMP:20260420T194626
CREATED:20230130T180805Z
LAST-MODIFIED:20230807T192714Z
UID:10000416-1680426900-1680430500@garthma.wales
SUMMARY:Sung Eucharist with Sunday Club - St John's Church
DESCRIPTION:Please join us for our Sung Eucharist Service at St. John’s Church in Danescourt\, along with our Sunday Club.
URL:https://garthma.wales/events/sung-eucharist-with-sunday-club-2/2023-04-02/
LOCATION:St John’s Church\, Danescourt\, Rachel Close\, Danescourt\, Cardiff\, CF5 2SH\, United Kingdom
ATTACH;FMTTYPE=image/jpeg:https://garthma.wales/wp-content/uploads/2023/07/St-Johns-Church-Danescourt.jpg
END:VEVENT
BEGIN:VEVENT
DTSTART;TZID=Europe/London:20230330T110000
DTEND;TZID=Europe/London:20230330T120000
DTSTAMP:20260420T194626
CREATED:20230724T170054Z
LAST-MODIFIED:20251106T203608Z
UID:10001877-1680174000-1680177600@garthma.wales
SUMMARY:Holy Eucharist - St. John's Church
DESCRIPTION:Holy Eucharist followed by coffee.
URL:https://garthma.wales/events/midweek-eucharist-4/2023-03-30/
LOCATION:St John’s Church\, Danescourt\, Rachel Close\, Danescourt\, Cardiff\, CF5 2SH\, United Kingdom
CATEGORIES:Mid Week Worship
ATTACH;FMTTYPE=image/jpeg:https://garthma.wales/wp-content/uploads/2023/07/St-Johns-Church-Danescourt.jpg
END:VEVENT
BEGIN:VEVENT
DTSTART;TZID=Europe/London:20230326T180000
DTEND;TZID=Europe/London:20230326T180000
DTSTAMP:20260420T194626
CREATED:20230130T182147Z
LAST-MODIFIED:20231112T180140Z
UID:10001015-1679853600-1679853600@garthma.wales
SUMMARY:Evening Prayer - St John's Church
DESCRIPTION:A quiet reflective service following the traditional pattern for Evening Prayer.\nFourth Sunday of the month\, Holy Eucharist.
URL:https://garthma.wales/events/evening-prayer/2023-03-26/
LOCATION:St John’s Church\, Danescourt\, Rachel Close\, Danescourt\, Cardiff\, CF5 2SH\, United Kingdom
ATTACH;FMTTYPE=image/jpeg:https://garthma.wales/wp-content/uploads/2023/07/St-Johns-Church-Danescourt.jpg
END:VEVENT
BEGIN:VEVENT
DTSTART;TZID=Europe/London:20230326T091500
DTEND;TZID=Europe/London:20230326T101500
DTSTAMP:20260420T194626
CREATED:20230130T180805Z
LAST-MODIFIED:20230807T192714Z
UID:10000415-1679822100-1679825700@garthma.wales
SUMMARY:Sung Eucharist with Sunday Club - St John's Church
DESCRIPTION:Please join us for our Sung Eucharist Service at St. John’s Church in Danescourt\, along with our Sunday Club.
URL:https://garthma.wales/events/sung-eucharist-with-sunday-club-2/2023-03-26/
LOCATION:St John’s Church\, Danescourt\, Rachel Close\, Danescourt\, Cardiff\, CF5 2SH\, United Kingdom
ATTACH;FMTTYPE=image/jpeg:https://garthma.wales/wp-content/uploads/2023/07/St-Johns-Church-Danescourt.jpg
END:VEVENT
BEGIN:VEVENT
DTSTART;TZID=Europe/London:20230323T110000
DTEND;TZID=Europe/London:20230323T120000
DTSTAMP:20260420T194626
CREATED:20230724T170054Z
LAST-MODIFIED:20251106T203608Z
UID:10001876-1679569200-1679572800@garthma.wales
SUMMARY:Holy Eucharist - St. John's Church
DESCRIPTION:Holy Eucharist followed by coffee.
URL:https://garthma.wales/events/midweek-eucharist-4/2023-03-23/
LOCATION:St John’s Church\, Danescourt\, Rachel Close\, Danescourt\, Cardiff\, CF5 2SH\, United Kingdom
CATEGORIES:Mid Week Worship
ATTACH;FMTTYPE=image/jpeg:https://garthma.wales/wp-content/uploads/2023/07/St-Johns-Church-Danescourt.jpg
END:VEVENT
BEGIN:VEVENT
DTSTART;TZID=Europe/London:20230319T180000
DTEND;TZID=Europe/London:20230319T180000
DTSTAMP:20260420T194626
CREATED:20230130T182147Z
LAST-MODIFIED:20231112T180140Z
UID:10001014-1679248800-1679248800@garthma.wales
SUMMARY:Evening Prayer - St John's Church
DESCRIPTION:A quiet reflective service following the traditional pattern for Evening Prayer.\nFourth Sunday of the month\, Holy Eucharist.
URL:https://garthma.wales/events/evening-prayer/2023-03-19/
LOCATION:St John’s Church\, Danescourt\, Rachel Close\, Danescourt\, Cardiff\, CF5 2SH\, United Kingdom
ATTACH;FMTTYPE=image/jpeg:https://garthma.wales/wp-content/uploads/2023/07/St-Johns-Church-Danescourt.jpg
END:VEVENT
BEGIN:VEVENT
DTSTART;TZID=Europe/London:20230319T091500
DTEND;TZID=Europe/London:20230319T101500
DTSTAMP:20260420T194626
CREATED:20230130T180805Z
LAST-MODIFIED:20230807T192714Z
UID:10000414-1679217300-1679220900@garthma.wales
SUMMARY:Sung Eucharist with Sunday Club - St John's Church
DESCRIPTION:Please join us for our Sung Eucharist Service at St. John’s Church in Danescourt\, along with our Sunday Club.
URL:https://garthma.wales/events/sung-eucharist-with-sunday-club-2/2023-03-19/
LOCATION:St John’s Church\, Danescourt\, Rachel Close\, Danescourt\, Cardiff\, CF5 2SH\, United Kingdom
ATTACH;FMTTYPE=image/jpeg:https://garthma.wales/wp-content/uploads/2023/07/St-Johns-Church-Danescourt.jpg
END:VEVENT
BEGIN:VEVENT
DTSTART;TZID=Europe/London:20230316T110000
DTEND;TZID=Europe/London:20230316T120000
DTSTAMP:20260420T194626
CREATED:20230724T170054Z
LAST-MODIFIED:20251106T203608Z
UID:10001875-1678964400-1678968000@garthma.wales
SUMMARY:Holy Eucharist - St. John's Church
DESCRIPTION:Holy Eucharist followed by coffee.
URL:https://garthma.wales/events/midweek-eucharist-4/2023-03-16/
LOCATION:St John’s Church\, Danescourt\, Rachel Close\, Danescourt\, Cardiff\, CF5 2SH\, United Kingdom
CATEGORIES:Mid Week Worship
ATTACH;FMTTYPE=image/jpeg:https://garthma.wales/wp-content/uploads/2023/07/St-Johns-Church-Danescourt.jpg
END:VEVENT
END:VCALENDAR