BEGIN:VCALENDAR
VERSION:2.0
PRODID:-//The Garth Ministry Area - ECPv6.15.20//NONSGML v1.0//EN
CALSCALE:GREGORIAN
METHOD:PUBLISH
X-ORIGINAL-URL:https://garthma.wales
X-WR-CALDESC:Events for The Garth Ministry Area
REFRESH-INTERVAL;VALUE=DURATION:PT1H
X-Robots-Tag:noindex
X-PUBLISHED-TTL:PT1H
BEGIN:VTIMEZONE
TZID:Europe/London
BEGIN:DAYLIGHT
TZOFFSETFROM:+0000
TZOFFSETTO:+0100
TZNAME:BST
DTSTART:20220327T010000
END:DAYLIGHT
BEGIN:STANDARD
TZOFFSETFROM:+0100
TZOFFSETTO:+0000
TZNAME:GMT
DTSTART:20221030T010000
END:STANDARD
BEGIN:DAYLIGHT
TZOFFSETFROM:+0000
TZOFFSETTO:+0100
TZNAME:BST
DTSTART:20230326T010000
END:DAYLIGHT
BEGIN:STANDARD
TZOFFSETFROM:+0100
TZOFFSETTO:+0000
TZNAME:GMT
DTSTART:20231029T010000
END:STANDARD
BEGIN:DAYLIGHT
TZOFFSETFROM:+0000
TZOFFSETTO:+0100
TZNAME:BST
DTSTART:20240331T010000
END:DAYLIGHT
BEGIN:STANDARD
TZOFFSETFROM:+0100
TZOFFSETTO:+0000
TZNAME:GMT
DTSTART:20241027T010000
END:STANDARD
END:VTIMEZONE
BEGIN:VEVENT
DTSTART;TZID=Europe/London:20230910T180000
DTEND;TZID=Europe/London:20230910T180000
DTSTAMP:20260420T072249
CREATED:20230130T182147Z
LAST-MODIFIED:20231112T180140Z
UID:10001039-1694368800-1694368800@garthma.wales
SUMMARY:Evening Prayer - St John's Church
DESCRIPTION:A quiet reflective service following the traditional pattern for Evening Prayer.\nFourth Sunday of the month\, Holy Eucharist.
URL:https://garthma.wales/events/evening-prayer/2023-09-10/
LOCATION:St John’s Church\, Danescourt\, Rachel Close\, Danescourt\, Cardiff\, CF5 2SH\, United Kingdom
ATTACH;FMTTYPE=image/jpeg:https://garthma.wales/wp-content/uploads/2023/07/St-Johns-Church-Danescourt.jpg
END:VEVENT
BEGIN:VEVENT
DTSTART;TZID=Europe/London:20230910T091500
DTEND;TZID=Europe/London:20230910T101500
DTSTAMP:20260420T072249
CREATED:20230130T180805Z
LAST-MODIFIED:20230807T192714Z
UID:10000439-1694337300-1694340900@garthma.wales
SUMMARY:Sung Eucharist with Sunday Club - St John's Church
DESCRIPTION:Please join us for our Sung Eucharist Service at St. John’s Church in Danescourt\, along with our Sunday Club.
URL:https://garthma.wales/events/sung-eucharist-with-sunday-club-2/2023-09-10/
LOCATION:St John’s Church\, Danescourt\, Rachel Close\, Danescourt\, Cardiff\, CF5 2SH\, United Kingdom
ATTACH;FMTTYPE=image/jpeg:https://garthma.wales/wp-content/uploads/2023/07/St-Johns-Church-Danescourt.jpg
END:VEVENT
BEGIN:VEVENT
DTSTART;TZID=Europe/London:20230907T110000
DTEND;TZID=Europe/London:20230907T120000
DTSTAMP:20260420T072249
CREATED:20230724T170054Z
LAST-MODIFIED:20251106T203608Z
UID:10001900-1694084400-1694088000@garthma.wales
SUMMARY:Holy Eucharist - St. John's Church
DESCRIPTION:Holy Eucharist followed by coffee.
URL:https://garthma.wales/events/midweek-eucharist-4/2023-09-07/
LOCATION:St John’s Church\, Danescourt\, Rachel Close\, Danescourt\, Cardiff\, CF5 2SH\, United Kingdom
CATEGORIES:Mid Week Worship
ATTACH;FMTTYPE=image/jpeg:https://garthma.wales/wp-content/uploads/2023/07/St-Johns-Church-Danescourt.jpg
END:VEVENT
BEGIN:VEVENT
DTSTART;TZID=Europe/London:20230903T180000
DTEND;TZID=Europe/London:20230903T180000
DTSTAMP:20260420T072249
CREATED:20230130T182147Z
LAST-MODIFIED:20231112T180140Z
UID:10001038-1693764000-1693764000@garthma.wales
SUMMARY:Evening Prayer - St John's Church
DESCRIPTION:A quiet reflective service following the traditional pattern for Evening Prayer.\nFourth Sunday of the month\, Holy Eucharist.
URL:https://garthma.wales/events/evening-prayer/2023-09-03/
LOCATION:St John’s Church\, Danescourt\, Rachel Close\, Danescourt\, Cardiff\, CF5 2SH\, United Kingdom
ATTACH;FMTTYPE=image/jpeg:https://garthma.wales/wp-content/uploads/2023/07/St-Johns-Church-Danescourt.jpg
END:VEVENT
BEGIN:VEVENT
DTSTART;TZID=Europe/London:20230903T091500
DTEND;TZID=Europe/London:20230903T101500
DTSTAMP:20260420T072249
CREATED:20230130T180805Z
LAST-MODIFIED:20230807T192714Z
UID:10000438-1693732500-1693736100@garthma.wales
SUMMARY:Sung Eucharist with Sunday Club - St John's Church
DESCRIPTION:Please join us for our Sung Eucharist Service at St. John’s Church in Danescourt\, along with our Sunday Club.
URL:https://garthma.wales/events/sung-eucharist-with-sunday-club-2/2023-09-03/
LOCATION:St John’s Church\, Danescourt\, Rachel Close\, Danescourt\, Cardiff\, CF5 2SH\, United Kingdom
ATTACH;FMTTYPE=image/jpeg:https://garthma.wales/wp-content/uploads/2023/07/St-Johns-Church-Danescourt.jpg
END:VEVENT
BEGIN:VEVENT
DTSTART;TZID=Europe/London:20230831T110000
DTEND;TZID=Europe/London:20230831T120000
DTSTAMP:20260420T072249
CREATED:20230724T170054Z
LAST-MODIFIED:20251106T203608Z
UID:10001899-1693479600-1693483200@garthma.wales
SUMMARY:Holy Eucharist - St. John's Church
DESCRIPTION:Holy Eucharist followed by coffee.
URL:https://garthma.wales/events/midweek-eucharist-4/2023-08-31/
LOCATION:St John’s Church\, Danescourt\, Rachel Close\, Danescourt\, Cardiff\, CF5 2SH\, United Kingdom
CATEGORIES:Mid Week Worship
ATTACH;FMTTYPE=image/jpeg:https://garthma.wales/wp-content/uploads/2023/07/St-Johns-Church-Danescourt.jpg
END:VEVENT
BEGIN:VEVENT
DTSTART;TZID=Europe/London:20230827T180000
DTEND;TZID=Europe/London:20230827T180000
DTSTAMP:20260420T072249
CREATED:20230130T182147Z
LAST-MODIFIED:20231112T180140Z
UID:10001037-1693159200-1693159200@garthma.wales
SUMMARY:Evening Prayer - St John's Church
DESCRIPTION:A quiet reflective service following the traditional pattern for Evening Prayer.\nFourth Sunday of the month\, Holy Eucharist.
URL:https://garthma.wales/events/evening-prayer/2023-08-27/
LOCATION:St John’s Church\, Danescourt\, Rachel Close\, Danescourt\, Cardiff\, CF5 2SH\, United Kingdom
ATTACH;FMTTYPE=image/jpeg:https://garthma.wales/wp-content/uploads/2023/07/St-Johns-Church-Danescourt.jpg
END:VEVENT
BEGIN:VEVENT
DTSTART;TZID=Europe/London:20230827T091500
DTEND;TZID=Europe/London:20230827T101500
DTSTAMP:20260420T072249
CREATED:20230130T180805Z
LAST-MODIFIED:20230807T192714Z
UID:10000437-1693127700-1693131300@garthma.wales
SUMMARY:Sung Eucharist with Sunday Club - St John's Church
DESCRIPTION:Please join us for our Sung Eucharist Service at St. John’s Church in Danescourt\, along with our Sunday Club.
URL:https://garthma.wales/events/sung-eucharist-with-sunday-club-2/2023-08-27/
LOCATION:St John’s Church\, Danescourt\, Rachel Close\, Danescourt\, Cardiff\, CF5 2SH\, United Kingdom
ATTACH;FMTTYPE=image/jpeg:https://garthma.wales/wp-content/uploads/2023/07/St-Johns-Church-Danescourt.jpg
END:VEVENT
BEGIN:VEVENT
DTSTART;TZID=Europe/London:20230824T110000
DTEND;TZID=Europe/London:20230824T120000
DTSTAMP:20260420T072249
CREATED:20230724T170054Z
LAST-MODIFIED:20251106T203608Z
UID:10001898-1692874800-1692878400@garthma.wales
SUMMARY:Holy Eucharist - St. John's Church
DESCRIPTION:Holy Eucharist followed by coffee.
URL:https://garthma.wales/events/midweek-eucharist-4/2023-08-24/
LOCATION:St John’s Church\, Danescourt\, Rachel Close\, Danescourt\, Cardiff\, CF5 2SH\, United Kingdom
CATEGORIES:Mid Week Worship
ATTACH;FMTTYPE=image/jpeg:https://garthma.wales/wp-content/uploads/2023/07/St-Johns-Church-Danescourt.jpg
END:VEVENT
BEGIN:VEVENT
DTSTART;TZID=Europe/London:20230820T180000
DTEND;TZID=Europe/London:20230820T180000
DTSTAMP:20260420T072249
CREATED:20230130T182147Z
LAST-MODIFIED:20231112T180140Z
UID:10001036-1692554400-1692554400@garthma.wales
SUMMARY:Evening Prayer - St John's Church
DESCRIPTION:A quiet reflective service following the traditional pattern for Evening Prayer.\nFourth Sunday of the month\, Holy Eucharist.
URL:https://garthma.wales/events/evening-prayer/2023-08-20/
LOCATION:St John’s Church\, Danescourt\, Rachel Close\, Danescourt\, Cardiff\, CF5 2SH\, United Kingdom
ATTACH;FMTTYPE=image/jpeg:https://garthma.wales/wp-content/uploads/2023/07/St-Johns-Church-Danescourt.jpg
END:VEVENT
BEGIN:VEVENT
DTSTART;TZID=Europe/London:20230820T091500
DTEND;TZID=Europe/London:20230820T101500
DTSTAMP:20260420T072249
CREATED:20230130T180805Z
LAST-MODIFIED:20230807T192714Z
UID:10000436-1692522900-1692526500@garthma.wales
SUMMARY:Sung Eucharist with Sunday Club - St John's Church
DESCRIPTION:Please join us for our Sung Eucharist Service at St. John’s Church in Danescourt\, along with our Sunday Club.
URL:https://garthma.wales/events/sung-eucharist-with-sunday-club-2/2023-08-20/
LOCATION:St John’s Church\, Danescourt\, Rachel Close\, Danescourt\, Cardiff\, CF5 2SH\, United Kingdom
ATTACH;FMTTYPE=image/jpeg:https://garthma.wales/wp-content/uploads/2023/07/St-Johns-Church-Danescourt.jpg
END:VEVENT
BEGIN:VEVENT
DTSTART;TZID=Europe/London:20230817T110000
DTEND;TZID=Europe/London:20230817T120000
DTSTAMP:20260420T072249
CREATED:20230724T170054Z
LAST-MODIFIED:20251106T203608Z
UID:10001897-1692270000-1692273600@garthma.wales
SUMMARY:Holy Eucharist - St. John's Church
DESCRIPTION:Holy Eucharist followed by coffee.
URL:https://garthma.wales/events/midweek-eucharist-4/2023-08-17/
LOCATION:St John’s Church\, Danescourt\, Rachel Close\, Danescourt\, Cardiff\, CF5 2SH\, United Kingdom
CATEGORIES:Mid Week Worship
ATTACH;FMTTYPE=image/jpeg:https://garthma.wales/wp-content/uploads/2023/07/St-Johns-Church-Danescourt.jpg
END:VEVENT
BEGIN:VEVENT
DTSTART;TZID=Europe/London:20230813T180000
DTEND;TZID=Europe/London:20230813T180000
DTSTAMP:20260420T072249
CREATED:20230130T182147Z
LAST-MODIFIED:20231112T180140Z
UID:10001035-1691949600-1691949600@garthma.wales
SUMMARY:Evening Prayer - St John's Church
DESCRIPTION:A quiet reflective service following the traditional pattern for Evening Prayer.\nFourth Sunday of the month\, Holy Eucharist.
URL:https://garthma.wales/events/evening-prayer/2023-08-13/
LOCATION:St John’s Church\, Danescourt\, Rachel Close\, Danescourt\, Cardiff\, CF5 2SH\, United Kingdom
ATTACH;FMTTYPE=image/jpeg:https://garthma.wales/wp-content/uploads/2023/07/St-Johns-Church-Danescourt.jpg
END:VEVENT
BEGIN:VEVENT
DTSTART;TZID=Europe/London:20230813T091500
DTEND;TZID=Europe/London:20230813T101500
DTSTAMP:20260420T072249
CREATED:20230130T180805Z
LAST-MODIFIED:20230807T192714Z
UID:10000435-1691918100-1691921700@garthma.wales
SUMMARY:Sung Eucharist with Sunday Club - St John's Church
DESCRIPTION:Please join us for our Sung Eucharist Service at St. John’s Church in Danescourt\, along with our Sunday Club.
URL:https://garthma.wales/events/sung-eucharist-with-sunday-club-2/2023-08-13/
LOCATION:St John’s Church\, Danescourt\, Rachel Close\, Danescourt\, Cardiff\, CF5 2SH\, United Kingdom
ATTACH;FMTTYPE=image/jpeg:https://garthma.wales/wp-content/uploads/2023/07/St-Johns-Church-Danescourt.jpg
END:VEVENT
BEGIN:VEVENT
DTSTART;TZID=Europe/London:20230810T110000
DTEND;TZID=Europe/London:20230810T120000
DTSTAMP:20260420T072249
CREATED:20230724T170054Z
LAST-MODIFIED:20251106T203608Z
UID:10001896-1691665200-1691668800@garthma.wales
SUMMARY:Holy Eucharist - St. John's Church
DESCRIPTION:Holy Eucharist followed by coffee.
URL:https://garthma.wales/events/midweek-eucharist-4/2023-08-10/
LOCATION:St John’s Church\, Danescourt\, Rachel Close\, Danescourt\, Cardiff\, CF5 2SH\, United Kingdom
CATEGORIES:Mid Week Worship
ATTACH;FMTTYPE=image/jpeg:https://garthma.wales/wp-content/uploads/2023/07/St-Johns-Church-Danescourt.jpg
END:VEVENT
BEGIN:VEVENT
DTSTART;TZID=Europe/London:20230806T180000
DTEND;TZID=Europe/London:20230806T180000
DTSTAMP:20260420T072249
CREATED:20230130T182147Z
LAST-MODIFIED:20231112T180140Z
UID:10001034-1691344800-1691344800@garthma.wales
SUMMARY:Evening Prayer - St John's Church
DESCRIPTION:A quiet reflective service following the traditional pattern for Evening Prayer.\nFourth Sunday of the month\, Holy Eucharist.
URL:https://garthma.wales/events/evening-prayer/2023-08-06/
LOCATION:St John’s Church\, Danescourt\, Rachel Close\, Danescourt\, Cardiff\, CF5 2SH\, United Kingdom
ATTACH;FMTTYPE=image/jpeg:https://garthma.wales/wp-content/uploads/2023/07/St-Johns-Church-Danescourt.jpg
END:VEVENT
BEGIN:VEVENT
DTSTART;TZID=Europe/London:20230806T091500
DTEND;TZID=Europe/London:20230806T101500
DTSTAMP:20260420T072249
CREATED:20230130T180805Z
LAST-MODIFIED:20230807T192714Z
UID:10000434-1691313300-1691316900@garthma.wales
SUMMARY:Sung Eucharist with Sunday Club - St John's Church
DESCRIPTION:Please join us for our Sung Eucharist Service at St. John’s Church in Danescourt\, along with our Sunday Club.
URL:https://garthma.wales/events/sung-eucharist-with-sunday-club-2/2023-08-06/
LOCATION:St John’s Church\, Danescourt\, Rachel Close\, Danescourt\, Cardiff\, CF5 2SH\, United Kingdom
ATTACH;FMTTYPE=image/jpeg:https://garthma.wales/wp-content/uploads/2023/07/St-Johns-Church-Danescourt.jpg
END:VEVENT
BEGIN:VEVENT
DTSTART;TZID=Europe/London:20230803T110000
DTEND;TZID=Europe/London:20230803T120000
DTSTAMP:20260420T072249
CREATED:20230724T170054Z
LAST-MODIFIED:20251106T203608Z
UID:10001895-1691060400-1691064000@garthma.wales
SUMMARY:Holy Eucharist - St. John's Church
DESCRIPTION:Holy Eucharist followed by coffee.
URL:https://garthma.wales/events/midweek-eucharist-4/2023-08-03/
LOCATION:St John’s Church\, Danescourt\, Rachel Close\, Danescourt\, Cardiff\, CF5 2SH\, United Kingdom
CATEGORIES:Mid Week Worship
ATTACH;FMTTYPE=image/jpeg:https://garthma.wales/wp-content/uploads/2023/07/St-Johns-Church-Danescourt.jpg
END:VEVENT
BEGIN:VEVENT
DTSTART;TZID=Europe/London:20230730T180000
DTEND;TZID=Europe/London:20230730T180000
DTSTAMP:20260420T072249
CREATED:20230130T182147Z
LAST-MODIFIED:20231112T180140Z
UID:10001033-1690740000-1690740000@garthma.wales
SUMMARY:Evening Prayer - St John's Church
DESCRIPTION:A quiet reflective service following the traditional pattern for Evening Prayer.\nFourth Sunday of the month\, Holy Eucharist.
URL:https://garthma.wales/events/evening-prayer/2023-07-30/
LOCATION:St John’s Church\, Danescourt\, Rachel Close\, Danescourt\, Cardiff\, CF5 2SH\, United Kingdom
ATTACH;FMTTYPE=image/jpeg:https://garthma.wales/wp-content/uploads/2023/07/St-Johns-Church-Danescourt.jpg
END:VEVENT
BEGIN:VEVENT
DTSTART;TZID=Europe/London:20230730T091500
DTEND;TZID=Europe/London:20230730T101500
DTSTAMP:20260420T072249
CREATED:20230130T180805Z
LAST-MODIFIED:20230807T192714Z
UID:10000433-1690708500-1690712100@garthma.wales
SUMMARY:Sung Eucharist with Sunday Club - St John's Church
DESCRIPTION:Please join us for our Sung Eucharist Service at St. John’s Church in Danescourt\, along with our Sunday Club.
URL:https://garthma.wales/events/sung-eucharist-with-sunday-club-2/2023-07-30/
LOCATION:St John’s Church\, Danescourt\, Rachel Close\, Danescourt\, Cardiff\, CF5 2SH\, United Kingdom
ATTACH;FMTTYPE=image/jpeg:https://garthma.wales/wp-content/uploads/2023/07/St-Johns-Church-Danescourt.jpg
END:VEVENT
BEGIN:VEVENT
DTSTART;TZID=Europe/London:20230727T110000
DTEND;TZID=Europe/London:20230727T120000
DTSTAMP:20260420T072249
CREATED:20230724T170054Z
LAST-MODIFIED:20251106T203608Z
UID:10001894-1690455600-1690459200@garthma.wales
SUMMARY:Holy Eucharist - St. John's Church
DESCRIPTION:Holy Eucharist followed by coffee.
URL:https://garthma.wales/events/midweek-eucharist-4/2023-07-27/
LOCATION:St John’s Church\, Danescourt\, Rachel Close\, Danescourt\, Cardiff\, CF5 2SH\, United Kingdom
CATEGORIES:Mid Week Worship
ATTACH;FMTTYPE=image/jpeg:https://garthma.wales/wp-content/uploads/2023/07/St-Johns-Church-Danescourt.jpg
END:VEVENT
BEGIN:VEVENT
DTSTART;TZID=Europe/London:20230723T180000
DTEND;TZID=Europe/London:20230723T180000
DTSTAMP:20260420T072250
CREATED:20230130T182147Z
LAST-MODIFIED:20231112T180140Z
UID:10001032-1690135200-1690135200@garthma.wales
SUMMARY:Evening Prayer - St John's Church
DESCRIPTION:A quiet reflective service following the traditional pattern for Evening Prayer.\nFourth Sunday of the month\, Holy Eucharist.
URL:https://garthma.wales/events/evening-prayer/2023-07-23/
LOCATION:St John’s Church\, Danescourt\, Rachel Close\, Danescourt\, Cardiff\, CF5 2SH\, United Kingdom
ATTACH;FMTTYPE=image/jpeg:https://garthma.wales/wp-content/uploads/2023/07/St-Johns-Church-Danescourt.jpg
END:VEVENT
BEGIN:VEVENT
DTSTART;TZID=Europe/London:20230723T091500
DTEND;TZID=Europe/London:20230723T101500
DTSTAMP:20260420T072250
CREATED:20230130T180805Z
LAST-MODIFIED:20230807T192714Z
UID:10000432-1690103700-1690107300@garthma.wales
SUMMARY:Sung Eucharist with Sunday Club - St John's Church
DESCRIPTION:Please join us for our Sung Eucharist Service at St. John’s Church in Danescourt\, along with our Sunday Club.
URL:https://garthma.wales/events/sung-eucharist-with-sunday-club-2/2023-07-23/
LOCATION:St John’s Church\, Danescourt\, Rachel Close\, Danescourt\, Cardiff\, CF5 2SH\, United Kingdom
ATTACH;FMTTYPE=image/jpeg:https://garthma.wales/wp-content/uploads/2023/07/St-Johns-Church-Danescourt.jpg
END:VEVENT
BEGIN:VEVENT
DTSTART;TZID=Europe/London:20230720T110000
DTEND;TZID=Europe/London:20230720T120000
DTSTAMP:20260420T072250
CREATED:20230724T170054Z
LAST-MODIFIED:20251106T203608Z
UID:10001893-1689850800-1689854400@garthma.wales
SUMMARY:Holy Eucharist - St. John's Church
DESCRIPTION:Holy Eucharist followed by coffee.
URL:https://garthma.wales/events/midweek-eucharist-4/2023-07-20/
LOCATION:St John’s Church\, Danescourt\, Rachel Close\, Danescourt\, Cardiff\, CF5 2SH\, United Kingdom
CATEGORIES:Mid Week Worship
ATTACH;FMTTYPE=image/jpeg:https://garthma.wales/wp-content/uploads/2023/07/St-Johns-Church-Danescourt.jpg
END:VEVENT
BEGIN:VEVENT
DTSTART;TZID=Europe/London:20230716T180000
DTEND;TZID=Europe/London:20230716T180000
DTSTAMP:20260420T072250
CREATED:20230130T182147Z
LAST-MODIFIED:20231112T180140Z
UID:10001031-1689530400-1689530400@garthma.wales
SUMMARY:Evening Prayer - St John's Church
DESCRIPTION:A quiet reflective service following the traditional pattern for Evening Prayer.\nFourth Sunday of the month\, Holy Eucharist.
URL:https://garthma.wales/events/evening-prayer/2023-07-16/
LOCATION:St John’s Church\, Danescourt\, Rachel Close\, Danescourt\, Cardiff\, CF5 2SH\, United Kingdom
ATTACH;FMTTYPE=image/jpeg:https://garthma.wales/wp-content/uploads/2023/07/St-Johns-Church-Danescourt.jpg
END:VEVENT
BEGIN:VEVENT
DTSTART;TZID=Europe/London:20230716T091500
DTEND;TZID=Europe/London:20230716T101500
DTSTAMP:20260420T072250
CREATED:20230130T180805Z
LAST-MODIFIED:20230807T192714Z
UID:10000431-1689498900-1689502500@garthma.wales
SUMMARY:Sung Eucharist with Sunday Club - St John's Church
DESCRIPTION:Please join us for our Sung Eucharist Service at St. John’s Church in Danescourt\, along with our Sunday Club.
URL:https://garthma.wales/events/sung-eucharist-with-sunday-club-2/2023-07-16/
LOCATION:St John’s Church\, Danescourt\, Rachel Close\, Danescourt\, Cardiff\, CF5 2SH\, United Kingdom
ATTACH;FMTTYPE=image/jpeg:https://garthma.wales/wp-content/uploads/2023/07/St-Johns-Church-Danescourt.jpg
END:VEVENT
BEGIN:VEVENT
DTSTART;TZID=Europe/London:20230713T110000
DTEND;TZID=Europe/London:20230713T120000
DTSTAMP:20260420T072250
CREATED:20230724T170054Z
LAST-MODIFIED:20251106T203608Z
UID:10001892-1689246000-1689249600@garthma.wales
SUMMARY:Holy Eucharist - St. John's Church
DESCRIPTION:Holy Eucharist followed by coffee.
URL:https://garthma.wales/events/midweek-eucharist-4/2023-07-13/
LOCATION:St John’s Church\, Danescourt\, Rachel Close\, Danescourt\, Cardiff\, CF5 2SH\, United Kingdom
CATEGORIES:Mid Week Worship
ATTACH;FMTTYPE=image/jpeg:https://garthma.wales/wp-content/uploads/2023/07/St-Johns-Church-Danescourt.jpg
END:VEVENT
BEGIN:VEVENT
DTSTART;TZID=Europe/London:20230709T180000
DTEND;TZID=Europe/London:20230709T180000
DTSTAMP:20260420T072250
CREATED:20230130T182147Z
LAST-MODIFIED:20231112T180140Z
UID:10001030-1688925600-1688925600@garthma.wales
SUMMARY:Evening Prayer - St John's Church
DESCRIPTION:A quiet reflective service following the traditional pattern for Evening Prayer.\nFourth Sunday of the month\, Holy Eucharist.
URL:https://garthma.wales/events/evening-prayer/2023-07-09/
LOCATION:St John’s Church\, Danescourt\, Rachel Close\, Danescourt\, Cardiff\, CF5 2SH\, United Kingdom
ATTACH;FMTTYPE=image/jpeg:https://garthma.wales/wp-content/uploads/2023/07/St-Johns-Church-Danescourt.jpg
END:VEVENT
BEGIN:VEVENT
DTSTART;TZID=Europe/London:20230709T091500
DTEND;TZID=Europe/London:20230709T101500
DTSTAMP:20260420T072250
CREATED:20230130T180805Z
LAST-MODIFIED:20230807T192714Z
UID:10000430-1688894100-1688897700@garthma.wales
SUMMARY:Sung Eucharist with Sunday Club - St John's Church
DESCRIPTION:Please join us for our Sung Eucharist Service at St. John’s Church in Danescourt\, along with our Sunday Club.
URL:https://garthma.wales/events/sung-eucharist-with-sunday-club-2/2023-07-09/
LOCATION:St John’s Church\, Danescourt\, Rachel Close\, Danescourt\, Cardiff\, CF5 2SH\, United Kingdom
ATTACH;FMTTYPE=image/jpeg:https://garthma.wales/wp-content/uploads/2023/07/St-Johns-Church-Danescourt.jpg
END:VEVENT
BEGIN:VEVENT
DTSTART;TZID=Europe/London:20230706T110000
DTEND;TZID=Europe/London:20230706T120000
DTSTAMP:20260420T072250
CREATED:20230724T170054Z
LAST-MODIFIED:20251106T203608Z
UID:10001891-1688641200-1688644800@garthma.wales
SUMMARY:Holy Eucharist - St. John's Church
DESCRIPTION:Holy Eucharist followed by coffee.
URL:https://garthma.wales/events/midweek-eucharist-4/2023-07-06/
LOCATION:St John’s Church\, Danescourt\, Rachel Close\, Danescourt\, Cardiff\, CF5 2SH\, United Kingdom
CATEGORIES:Mid Week Worship
ATTACH;FMTTYPE=image/jpeg:https://garthma.wales/wp-content/uploads/2023/07/St-Johns-Church-Danescourt.jpg
END:VEVENT
END:VCALENDAR