BEGIN:VCALENDAR
VERSION:2.0
PRODID:-//The Garth Ministry Area - ECPv6.15.20//NONSGML v1.0//EN
CALSCALE:GREGORIAN
METHOD:PUBLISH
X-ORIGINAL-URL:https://garthma.wales
X-WR-CALDESC:Events for The Garth Ministry Area
REFRESH-INTERVAL;VALUE=DURATION:PT1H
X-Robots-Tag:noindex
X-PUBLISHED-TTL:PT1H
BEGIN:VTIMEZONE
TZID:Europe/London
BEGIN:DAYLIGHT
TZOFFSETFROM:+0000
TZOFFSETTO:+0100
TZNAME:BST
DTSTART:20270328T010000
END:DAYLIGHT
BEGIN:STANDARD
TZOFFSETFROM:+0100
TZOFFSETTO:+0000
TZNAME:GMT
DTSTART:20271031T010000
END:STANDARD
BEGIN:DAYLIGHT
TZOFFSETFROM:+0000
TZOFFSETTO:+0100
TZNAME:BST
DTSTART:20280326T010000
END:DAYLIGHT
BEGIN:STANDARD
TZOFFSETFROM:+0100
TZOFFSETTO:+0000
TZNAME:GMT
DTSTART:20281029T010000
END:STANDARD
BEGIN:DAYLIGHT
TZOFFSETFROM:+0000
TZOFFSETTO:+0100
TZNAME:BST
DTSTART:20290325T010000
END:DAYLIGHT
BEGIN:STANDARD
TZOFFSETFROM:+0100
TZOFFSETTO:+0000
TZNAME:GMT
DTSTART:20291028T010000
END:STANDARD
END:VTIMEZONE
BEGIN:VEVENT
DTSTART;TZID=Europe/London:20280326T170000
DTEND;TZID=Europe/London:20280326T180000
DTSTAMP:20260426T002149
CREATED:20250317T135058Z
LAST-MODIFIED:20260424T071636Z
UID:10004928-1837702800-1837706400@garthma.wales
SUMMARY:Evening Prayer - St John's Church\, Danescourt
DESCRIPTION:Please join us for Evening Prayer in our delightful Church. The service will be followed by refreshments.
URL:https://garthma.wales/events/evening-prayer-st-johns-church-danescourt-2/2028-03-26/
LOCATION:St John’s Church\, Danescourt\, Rachel Close\, Danescourt\, Cardiff\, CF5 2SH\, United Kingdom
ATTACH;FMTTYPE=image/jpeg:https://garthma.wales/wp-content/uploads/2023/07/St-Johns-Church-Danescourt.jpg
END:VEVENT
BEGIN:VEVENT
DTSTART;TZID=Europe/London:20280330T110000
DTEND;TZID=Europe/London:20280330T120000
DTSTAMP:20260426T002149
CREATED:20230724T170054Z
LAST-MODIFIED:20251106T203608Z
UID:10007258-1838026800-1838030400@garthma.wales
SUMMARY:Holy Eucharist - St. John's Church
DESCRIPTION:Holy Eucharist followed by coffee.
URL:https://garthma.wales/events/midweek-eucharist-4/2028-03-30/
LOCATION:St John’s Church\, Danescourt\, Rachel Close\, Danescourt\, Cardiff\, CF5 2SH\, United Kingdom
CATEGORIES:Mid Week Worship
ATTACH;FMTTYPE=image/jpeg:https://garthma.wales/wp-content/uploads/2023/07/St-Johns-Church-Danescourt.jpg
END:VEVENT
BEGIN:VEVENT
DTSTART;TZID=Europe/London:20280402T091500
DTEND;TZID=Europe/London:20280402T101500
DTSTAMP:20260426T002149
CREATED:20260115T154656Z
LAST-MODIFIED:20260115T154657Z
UID:10008846-1838279700-1838283300@garthma.wales
SUMMARY:Holy Eucharist with Sunday Club - St John's Church
DESCRIPTION:Please join us for our Holy Eucharist Service at St. John’s Church in Danescourt\, along with our Sunday Club.
URL:https://garthma.wales/events/sung-eucharist-with-sunday-club-2-2-2/2028-04-02/
LOCATION:St John’s Church\, Danescourt\, Rachel Close\, Danescourt\, Cardiff\, CF5 2SH\, United Kingdom
CATEGORIES:Sunday Worship
ATTACH;FMTTYPE=image/jpeg:https://garthma.wales/wp-content/uploads/2023/07/St-Johns-Church-Danescourt.jpg
END:VEVENT
BEGIN:VEVENT
DTSTART;TZID=Europe/London:20280402T170000
DTEND;TZID=Europe/London:20280402T180000
DTSTAMP:20260426T002149
CREATED:20250317T135058Z
LAST-MODIFIED:20260424T071636Z
UID:10007362-1838307600-1838311200@garthma.wales
SUMMARY:Evening Prayer - St John's Church\, Danescourt
DESCRIPTION:Please join us for Evening Prayer in our delightful Church. The service will be followed by refreshments.
URL:https://garthma.wales/events/evening-prayer-st-johns-church-danescourt-2/2028-04-02/
LOCATION:St John’s Church\, Danescourt\, Rachel Close\, Danescourt\, Cardiff\, CF5 2SH\, United Kingdom
ATTACH;FMTTYPE=image/jpeg:https://garthma.wales/wp-content/uploads/2023/07/St-Johns-Church-Danescourt.jpg
END:VEVENT
BEGIN:VEVENT
DTSTART;TZID=Europe/London:20280406T110000
DTEND;TZID=Europe/London:20280406T120000
DTSTAMP:20260426T002149
CREATED:20230724T170054Z
LAST-MODIFIED:20251106T203608Z
UID:10007259-1838631600-1838635200@garthma.wales
SUMMARY:Holy Eucharist - St. John's Church
DESCRIPTION:Holy Eucharist followed by coffee.
URL:https://garthma.wales/events/midweek-eucharist-4/2028-04-06/
LOCATION:St John’s Church\, Danescourt\, Rachel Close\, Danescourt\, Cardiff\, CF5 2SH\, United Kingdom
CATEGORIES:Mid Week Worship
ATTACH;FMTTYPE=image/jpeg:https://garthma.wales/wp-content/uploads/2023/07/St-Johns-Church-Danescourt.jpg
END:VEVENT
BEGIN:VEVENT
DTSTART;TZID=Europe/London:20280409T091500
DTEND;TZID=Europe/London:20280409T101500
DTSTAMP:20260426T002149
CREATED:20260115T154656Z
LAST-MODIFIED:20260115T154657Z
UID:10008847-1838884500-1838888100@garthma.wales
SUMMARY:Holy Eucharist with Sunday Club - St John's Church
DESCRIPTION:Please join us for our Holy Eucharist Service at St. John’s Church in Danescourt\, along with our Sunday Club.
URL:https://garthma.wales/events/sung-eucharist-with-sunday-club-2-2-2/2028-04-09/
LOCATION:St John’s Church\, Danescourt\, Rachel Close\, Danescourt\, Cardiff\, CF5 2SH\, United Kingdom
CATEGORIES:Sunday Worship
ATTACH;FMTTYPE=image/jpeg:https://garthma.wales/wp-content/uploads/2023/07/St-Johns-Church-Danescourt.jpg
END:VEVENT
BEGIN:VEVENT
DTSTART;TZID=Europe/London:20280409T170000
DTEND;TZID=Europe/London:20280409T180000
DTSTAMP:20260426T002149
CREATED:20250317T135058Z
LAST-MODIFIED:20260424T071636Z
UID:10007363-1838912400-1838916000@garthma.wales
SUMMARY:Evening Prayer - St John's Church\, Danescourt
DESCRIPTION:Please join us for Evening Prayer in our delightful Church. The service will be followed by refreshments.
URL:https://garthma.wales/events/evening-prayer-st-johns-church-danescourt-2/2028-04-09/
LOCATION:St John’s Church\, Danescourt\, Rachel Close\, Danescourt\, Cardiff\, CF5 2SH\, United Kingdom
ATTACH;FMTTYPE=image/jpeg:https://garthma.wales/wp-content/uploads/2023/07/St-Johns-Church-Danescourt.jpg
END:VEVENT
BEGIN:VEVENT
DTSTART;TZID=Europe/London:20280413T110000
DTEND;TZID=Europe/London:20280413T120000
DTSTAMP:20260426T002149
CREATED:20230724T170054Z
LAST-MODIFIED:20251106T203608Z
UID:10007260-1839236400-1839240000@garthma.wales
SUMMARY:Holy Eucharist - St. John's Church
DESCRIPTION:Holy Eucharist followed by coffee.
URL:https://garthma.wales/events/midweek-eucharist-4/2028-04-13/
LOCATION:St John’s Church\, Danescourt\, Rachel Close\, Danescourt\, Cardiff\, CF5 2SH\, United Kingdom
CATEGORIES:Mid Week Worship
ATTACH;FMTTYPE=image/jpeg:https://garthma.wales/wp-content/uploads/2023/07/St-Johns-Church-Danescourt.jpg
END:VEVENT
BEGIN:VEVENT
DTSTART;TZID=Europe/London:20280416T091500
DTEND;TZID=Europe/London:20280416T101500
DTSTAMP:20260426T002149
CREATED:20260115T154656Z
LAST-MODIFIED:20260115T154657Z
UID:10008848-1839489300-1839492900@garthma.wales
SUMMARY:Holy Eucharist with Sunday Club - St John's Church
DESCRIPTION:Please join us for our Holy Eucharist Service at St. John’s Church in Danescourt\, along with our Sunday Club.
URL:https://garthma.wales/events/sung-eucharist-with-sunday-club-2-2-2/2028-04-16/
LOCATION:St John’s Church\, Danescourt\, Rachel Close\, Danescourt\, Cardiff\, CF5 2SH\, United Kingdom
CATEGORIES:Sunday Worship
ATTACH;FMTTYPE=image/jpeg:https://garthma.wales/wp-content/uploads/2023/07/St-Johns-Church-Danescourt.jpg
END:VEVENT
BEGIN:VEVENT
DTSTART;TZID=Europe/London:20280416T170000
DTEND;TZID=Europe/London:20280416T180000
DTSTAMP:20260426T002149
CREATED:20250317T135058Z
LAST-MODIFIED:20260424T071636Z
UID:10007364-1839517200-1839520800@garthma.wales
SUMMARY:Evening Prayer - St John's Church\, Danescourt
DESCRIPTION:Please join us for Evening Prayer in our delightful Church. The service will be followed by refreshments.
URL:https://garthma.wales/events/evening-prayer-st-johns-church-danescourt-2/2028-04-16/
LOCATION:St John’s Church\, Danescourt\, Rachel Close\, Danescourt\, Cardiff\, CF5 2SH\, United Kingdom
ATTACH;FMTTYPE=image/jpeg:https://garthma.wales/wp-content/uploads/2023/07/St-Johns-Church-Danescourt.jpg
END:VEVENT
BEGIN:VEVENT
DTSTART;TZID=Europe/London:20280420T110000
DTEND;TZID=Europe/London:20280420T120000
DTSTAMP:20260426T002149
CREATED:20230724T170054Z
LAST-MODIFIED:20251106T203608Z
UID:10007261-1839841200-1839844800@garthma.wales
SUMMARY:Holy Eucharist - St. John's Church
DESCRIPTION:Holy Eucharist followed by coffee.
URL:https://garthma.wales/events/midweek-eucharist-4/2028-04-20/
LOCATION:St John’s Church\, Danescourt\, Rachel Close\, Danescourt\, Cardiff\, CF5 2SH\, United Kingdom
CATEGORIES:Mid Week Worship
ATTACH;FMTTYPE=image/jpeg:https://garthma.wales/wp-content/uploads/2023/07/St-Johns-Church-Danescourt.jpg
END:VEVENT
BEGIN:VEVENT
DTSTART;TZID=Europe/London:20280423T091500
DTEND;TZID=Europe/London:20280423T101500
DTSTAMP:20260426T002149
CREATED:20260115T154656Z
LAST-MODIFIED:20260115T154657Z
UID:10008849-1840094100-1840097700@garthma.wales
SUMMARY:Holy Eucharist with Sunday Club - St John's Church
DESCRIPTION:Please join us for our Holy Eucharist Service at St. John’s Church in Danescourt\, along with our Sunday Club.
URL:https://garthma.wales/events/sung-eucharist-with-sunday-club-2-2-2/2028-04-23/
LOCATION:St John’s Church\, Danescourt\, Rachel Close\, Danescourt\, Cardiff\, CF5 2SH\, United Kingdom
CATEGORIES:Sunday Worship
ATTACH;FMTTYPE=image/jpeg:https://garthma.wales/wp-content/uploads/2023/07/St-Johns-Church-Danescourt.jpg
END:VEVENT
BEGIN:VEVENT
DTSTART;TZID=Europe/London:20280423T170000
DTEND;TZID=Europe/London:20280423T180000
DTSTAMP:20260426T002149
CREATED:20250317T135058Z
LAST-MODIFIED:20260424T071636Z
UID:10007365-1840122000-1840125600@garthma.wales
SUMMARY:Evening Prayer - St John's Church\, Danescourt
DESCRIPTION:Please join us for Evening Prayer in our delightful Church. The service will be followed by refreshments.
URL:https://garthma.wales/events/evening-prayer-st-johns-church-danescourt-2/2028-04-23/
LOCATION:St John’s Church\, Danescourt\, Rachel Close\, Danescourt\, Cardiff\, CF5 2SH\, United Kingdom
ATTACH;FMTTYPE=image/jpeg:https://garthma.wales/wp-content/uploads/2023/07/St-Johns-Church-Danescourt.jpg
END:VEVENT
BEGIN:VEVENT
DTSTART;TZID=Europe/London:20280427T110000
DTEND;TZID=Europe/London:20280427T120000
DTSTAMP:20260426T002149
CREATED:20230724T170054Z
LAST-MODIFIED:20251106T203608Z
UID:10007262-1840446000-1840449600@garthma.wales
SUMMARY:Holy Eucharist - St. John's Church
DESCRIPTION:Holy Eucharist followed by coffee.
URL:https://garthma.wales/events/midweek-eucharist-4/2028-04-27/
LOCATION:St John’s Church\, Danescourt\, Rachel Close\, Danescourt\, Cardiff\, CF5 2SH\, United Kingdom
CATEGORIES:Mid Week Worship
ATTACH;FMTTYPE=image/jpeg:https://garthma.wales/wp-content/uploads/2023/07/St-Johns-Church-Danescourt.jpg
END:VEVENT
BEGIN:VEVENT
DTSTART;TZID=Europe/London:20280430T091500
DTEND;TZID=Europe/London:20280430T101500
DTSTAMP:20260426T002149
CREATED:20260115T154656Z
LAST-MODIFIED:20260115T154657Z
UID:10008850-1840698900-1840702500@garthma.wales
SUMMARY:Holy Eucharist with Sunday Club - St John's Church
DESCRIPTION:Please join us for our Holy Eucharist Service at St. John’s Church in Danescourt\, along with our Sunday Club.
URL:https://garthma.wales/events/sung-eucharist-with-sunday-club-2-2-2/2028-04-30/
LOCATION:St John’s Church\, Danescourt\, Rachel Close\, Danescourt\, Cardiff\, CF5 2SH\, United Kingdom
CATEGORIES:Sunday Worship
ATTACH;FMTTYPE=image/jpeg:https://garthma.wales/wp-content/uploads/2023/07/St-Johns-Church-Danescourt.jpg
END:VEVENT
BEGIN:VEVENT
DTSTART;TZID=Europe/London:20280430T170000
DTEND;TZID=Europe/London:20280430T180000
DTSTAMP:20260426T002149
CREATED:20250317T135058Z
LAST-MODIFIED:20260424T071636Z
UID:10007366-1840726800-1840730400@garthma.wales
SUMMARY:Evening Prayer - St John's Church\, Danescourt
DESCRIPTION:Please join us for Evening Prayer in our delightful Church. The service will be followed by refreshments.
URL:https://garthma.wales/events/evening-prayer-st-johns-church-danescourt-2/2028-04-30/
LOCATION:St John’s Church\, Danescourt\, Rachel Close\, Danescourt\, Cardiff\, CF5 2SH\, United Kingdom
ATTACH;FMTTYPE=image/jpeg:https://garthma.wales/wp-content/uploads/2023/07/St-Johns-Church-Danescourt.jpg
END:VEVENT
BEGIN:VEVENT
DTSTART;TZID=Europe/London:20280504T110000
DTEND;TZID=Europe/London:20280504T120000
DTSTAMP:20260426T002149
CREATED:20230724T170054Z
LAST-MODIFIED:20251106T203608Z
UID:10007263-1841050800-1841054400@garthma.wales
SUMMARY:Holy Eucharist - St. John's Church
DESCRIPTION:Holy Eucharist followed by coffee.
URL:https://garthma.wales/events/midweek-eucharist-4/2028-05-04/
LOCATION:St John’s Church\, Danescourt\, Rachel Close\, Danescourt\, Cardiff\, CF5 2SH\, United Kingdom
CATEGORIES:Mid Week Worship
ATTACH;FMTTYPE=image/jpeg:https://garthma.wales/wp-content/uploads/2023/07/St-Johns-Church-Danescourt.jpg
END:VEVENT
BEGIN:VEVENT
DTSTART;TZID=Europe/London:20280507T091500
DTEND;TZID=Europe/London:20280507T101500
DTSTAMP:20260426T002149
CREATED:20260115T154656Z
LAST-MODIFIED:20260115T154657Z
UID:10008851-1841303700-1841307300@garthma.wales
SUMMARY:Holy Eucharist with Sunday Club - St John's Church
DESCRIPTION:Please join us for our Holy Eucharist Service at St. John’s Church in Danescourt\, along with our Sunday Club.
URL:https://garthma.wales/events/sung-eucharist-with-sunday-club-2-2-2/2028-05-07/
LOCATION:St John’s Church\, Danescourt\, Rachel Close\, Danescourt\, Cardiff\, CF5 2SH\, United Kingdom
CATEGORIES:Sunday Worship
ATTACH;FMTTYPE=image/jpeg:https://garthma.wales/wp-content/uploads/2023/07/St-Johns-Church-Danescourt.jpg
END:VEVENT
BEGIN:VEVENT
DTSTART;TZID=Europe/London:20280507T170000
DTEND;TZID=Europe/London:20280507T180000
DTSTAMP:20260426T002149
CREATED:20250317T135058Z
LAST-MODIFIED:20260424T071636Z
UID:10007367-1841331600-1841335200@garthma.wales
SUMMARY:Evening Prayer - St John's Church\, Danescourt
DESCRIPTION:Please join us for Evening Prayer in our delightful Church. The service will be followed by refreshments.
URL:https://garthma.wales/events/evening-prayer-st-johns-church-danescourt-2/2028-05-07/
LOCATION:St John’s Church\, Danescourt\, Rachel Close\, Danescourt\, Cardiff\, CF5 2SH\, United Kingdom
ATTACH;FMTTYPE=image/jpeg:https://garthma.wales/wp-content/uploads/2023/07/St-Johns-Church-Danescourt.jpg
END:VEVENT
BEGIN:VEVENT
DTSTART;TZID=Europe/London:20280511T110000
DTEND;TZID=Europe/London:20280511T120000
DTSTAMP:20260426T002149
CREATED:20230724T170054Z
LAST-MODIFIED:20251106T203608Z
UID:10007264-1841655600-1841659200@garthma.wales
SUMMARY:Holy Eucharist - St. John's Church
DESCRIPTION:Holy Eucharist followed by coffee.
URL:https://garthma.wales/events/midweek-eucharist-4/2028-05-11/
LOCATION:St John’s Church\, Danescourt\, Rachel Close\, Danescourt\, Cardiff\, CF5 2SH\, United Kingdom
CATEGORIES:Mid Week Worship
ATTACH;FMTTYPE=image/jpeg:https://garthma.wales/wp-content/uploads/2023/07/St-Johns-Church-Danescourt.jpg
END:VEVENT
BEGIN:VEVENT
DTSTART;TZID=Europe/London:20280514T091500
DTEND;TZID=Europe/London:20280514T101500
DTSTAMP:20260426T002149
CREATED:20260115T154656Z
LAST-MODIFIED:20260115T154657Z
UID:10008852-1841908500-1841912100@garthma.wales
SUMMARY:Holy Eucharist with Sunday Club - St John's Church
DESCRIPTION:Please join us for our Holy Eucharist Service at St. John’s Church in Danescourt\, along with our Sunday Club.
URL:https://garthma.wales/events/sung-eucharist-with-sunday-club-2-2-2/2028-05-14/
LOCATION:St John’s Church\, Danescourt\, Rachel Close\, Danescourt\, Cardiff\, CF5 2SH\, United Kingdom
CATEGORIES:Sunday Worship
ATTACH;FMTTYPE=image/jpeg:https://garthma.wales/wp-content/uploads/2023/07/St-Johns-Church-Danescourt.jpg
END:VEVENT
BEGIN:VEVENT
DTSTART;TZID=Europe/London:20280514T170000
DTEND;TZID=Europe/London:20280514T180000
DTSTAMP:20260426T002149
CREATED:20250317T135058Z
LAST-MODIFIED:20260424T071636Z
UID:10007368-1841936400-1841940000@garthma.wales
SUMMARY:Evening Prayer - St John's Church\, Danescourt
DESCRIPTION:Please join us for Evening Prayer in our delightful Church. The service will be followed by refreshments.
URL:https://garthma.wales/events/evening-prayer-st-johns-church-danescourt-2/2028-05-14/
LOCATION:St John’s Church\, Danescourt\, Rachel Close\, Danescourt\, Cardiff\, CF5 2SH\, United Kingdom
ATTACH;FMTTYPE=image/jpeg:https://garthma.wales/wp-content/uploads/2023/07/St-Johns-Church-Danescourt.jpg
END:VEVENT
BEGIN:VEVENT
DTSTART;TZID=Europe/London:20280518T110000
DTEND;TZID=Europe/London:20280518T120000
DTSTAMP:20260426T002149
CREATED:20230724T170054Z
LAST-MODIFIED:20251106T203608Z
UID:10007265-1842260400-1842264000@garthma.wales
SUMMARY:Holy Eucharist - St. John's Church
DESCRIPTION:Holy Eucharist followed by coffee.
URL:https://garthma.wales/events/midweek-eucharist-4/2028-05-18/
LOCATION:St John’s Church\, Danescourt\, Rachel Close\, Danescourt\, Cardiff\, CF5 2SH\, United Kingdom
CATEGORIES:Mid Week Worship
ATTACH;FMTTYPE=image/jpeg:https://garthma.wales/wp-content/uploads/2023/07/St-Johns-Church-Danescourt.jpg
END:VEVENT
BEGIN:VEVENT
DTSTART;TZID=Europe/London:20280521T091500
DTEND;TZID=Europe/London:20280521T101500
DTSTAMP:20260426T002149
CREATED:20260115T154656Z
LAST-MODIFIED:20260115T154657Z
UID:10008853-1842513300-1842516900@garthma.wales
SUMMARY:Holy Eucharist with Sunday Club - St John's Church
DESCRIPTION:Please join us for our Holy Eucharist Service at St. John’s Church in Danescourt\, along with our Sunday Club.
URL:https://garthma.wales/events/sung-eucharist-with-sunday-club-2-2-2/2028-05-21/
LOCATION:St John’s Church\, Danescourt\, Rachel Close\, Danescourt\, Cardiff\, CF5 2SH\, United Kingdom
CATEGORIES:Sunday Worship
ATTACH;FMTTYPE=image/jpeg:https://garthma.wales/wp-content/uploads/2023/07/St-Johns-Church-Danescourt.jpg
END:VEVENT
BEGIN:VEVENT
DTSTART;TZID=Europe/London:20280521T170000
DTEND;TZID=Europe/London:20280521T180000
DTSTAMP:20260426T002149
CREATED:20250317T135058Z
LAST-MODIFIED:20260424T071636Z
UID:10007369-1842541200-1842544800@garthma.wales
SUMMARY:Evening Prayer - St John's Church\, Danescourt
DESCRIPTION:Please join us for Evening Prayer in our delightful Church. The service will be followed by refreshments.
URL:https://garthma.wales/events/evening-prayer-st-johns-church-danescourt-2/2028-05-21/
LOCATION:St John’s Church\, Danescourt\, Rachel Close\, Danescourt\, Cardiff\, CF5 2SH\, United Kingdom
ATTACH;FMTTYPE=image/jpeg:https://garthma.wales/wp-content/uploads/2023/07/St-Johns-Church-Danescourt.jpg
END:VEVENT
BEGIN:VEVENT
DTSTART;TZID=Europe/London:20280525T110000
DTEND;TZID=Europe/London:20280525T120000
DTSTAMP:20260426T002149
CREATED:20230724T170054Z
LAST-MODIFIED:20251106T203608Z
UID:10007266-1842865200-1842868800@garthma.wales
SUMMARY:Holy Eucharist - St. John's Church
DESCRIPTION:Holy Eucharist followed by coffee.
URL:https://garthma.wales/events/midweek-eucharist-4/2028-05-25/
LOCATION:St John’s Church\, Danescourt\, Rachel Close\, Danescourt\, Cardiff\, CF5 2SH\, United Kingdom
CATEGORIES:Mid Week Worship
ATTACH;FMTTYPE=image/jpeg:https://garthma.wales/wp-content/uploads/2023/07/St-Johns-Church-Danescourt.jpg
END:VEVENT
BEGIN:VEVENT
DTSTART;TZID=Europe/London:20280528T091500
DTEND;TZID=Europe/London:20280528T101500
DTSTAMP:20260426T002149
CREATED:20260115T154656Z
LAST-MODIFIED:20260115T154657Z
UID:10008854-1843118100-1843121700@garthma.wales
SUMMARY:Holy Eucharist with Sunday Club - St John's Church
DESCRIPTION:Please join us for our Holy Eucharist Service at St. John’s Church in Danescourt\, along with our Sunday Club.
URL:https://garthma.wales/events/sung-eucharist-with-sunday-club-2-2-2/2028-05-28/
LOCATION:St John’s Church\, Danescourt\, Rachel Close\, Danescourt\, Cardiff\, CF5 2SH\, United Kingdom
CATEGORIES:Sunday Worship
ATTACH;FMTTYPE=image/jpeg:https://garthma.wales/wp-content/uploads/2023/07/St-Johns-Church-Danescourt.jpg
END:VEVENT
BEGIN:VEVENT
DTSTART;TZID=Europe/London:20280528T170000
DTEND;TZID=Europe/London:20280528T180000
DTSTAMP:20260426T002149
CREATED:20250317T135058Z
LAST-MODIFIED:20260424T071636Z
UID:10007370-1843146000-1843149600@garthma.wales
SUMMARY:Evening Prayer - St John's Church\, Danescourt
DESCRIPTION:Please join us for Evening Prayer in our delightful Church. The service will be followed by refreshments.
URL:https://garthma.wales/events/evening-prayer-st-johns-church-danescourt-2/2028-05-28/
LOCATION:St John’s Church\, Danescourt\, Rachel Close\, Danescourt\, Cardiff\, CF5 2SH\, United Kingdom
ATTACH;FMTTYPE=image/jpeg:https://garthma.wales/wp-content/uploads/2023/07/St-Johns-Church-Danescourt.jpg
END:VEVENT
BEGIN:VEVENT
DTSTART;TZID=Europe/London:20280601T110000
DTEND;TZID=Europe/London:20280601T120000
DTSTAMP:20260426T002149
CREATED:20230724T170054Z
LAST-MODIFIED:20251106T203608Z
UID:10007267-1843470000-1843473600@garthma.wales
SUMMARY:Holy Eucharist - St. John's Church
DESCRIPTION:Holy Eucharist followed by coffee.
URL:https://garthma.wales/events/midweek-eucharist-4/2028-06-01/
LOCATION:St John’s Church\, Danescourt\, Rachel Close\, Danescourt\, Cardiff\, CF5 2SH\, United Kingdom
CATEGORIES:Mid Week Worship
ATTACH;FMTTYPE=image/jpeg:https://garthma.wales/wp-content/uploads/2023/07/St-Johns-Church-Danescourt.jpg
END:VEVENT
BEGIN:VEVENT
DTSTART;TZID=Europe/London:20280604T091500
DTEND;TZID=Europe/London:20280604T101500
DTSTAMP:20260426T002149
CREATED:20260115T154656Z
LAST-MODIFIED:20260115T154657Z
UID:10008855-1843722900-1843726500@garthma.wales
SUMMARY:Holy Eucharist with Sunday Club - St John's Church
DESCRIPTION:Please join us for our Holy Eucharist Service at St. John’s Church in Danescourt\, along with our Sunday Club.
URL:https://garthma.wales/events/sung-eucharist-with-sunday-club-2-2-2/2028-06-04/
LOCATION:St John’s Church\, Danescourt\, Rachel Close\, Danescourt\, Cardiff\, CF5 2SH\, United Kingdom
CATEGORIES:Sunday Worship
ATTACH;FMTTYPE=image/jpeg:https://garthma.wales/wp-content/uploads/2023/07/St-Johns-Church-Danescourt.jpg
END:VEVENT
END:VCALENDAR