BEGIN:VCALENDAR
VERSION:2.0
PRODID:-//The Garth Ministry Area - ECPv6.15.20//NONSGML v1.0//EN
CALSCALE:GREGORIAN
METHOD:PUBLISH
X-ORIGINAL-URL:https://garthma.wales
X-WR-CALDESC:Events for The Garth Ministry Area
REFRESH-INTERVAL;VALUE=DURATION:PT1H
X-Robots-Tag:noindex
X-PUBLISHED-TTL:PT1H
BEGIN:VTIMEZONE
TZID:Europe/London
BEGIN:DAYLIGHT
TZOFFSETFROM:+0000
TZOFFSETTO:+0100
TZNAME:BST
DTSTART:20270328T010000
END:DAYLIGHT
BEGIN:STANDARD
TZOFFSETFROM:+0100
TZOFFSETTO:+0000
TZNAME:GMT
DTSTART:20271031T010000
END:STANDARD
BEGIN:DAYLIGHT
TZOFFSETFROM:+0000
TZOFFSETTO:+0100
TZNAME:BST
DTSTART:20280326T010000
END:DAYLIGHT
BEGIN:STANDARD
TZOFFSETFROM:+0100
TZOFFSETTO:+0000
TZNAME:GMT
DTSTART:20281029T010000
END:STANDARD
BEGIN:DAYLIGHT
TZOFFSETFROM:+0000
TZOFFSETTO:+0100
TZNAME:BST
DTSTART:20290325T010000
END:DAYLIGHT
BEGIN:STANDARD
TZOFFSETFROM:+0100
TZOFFSETTO:+0000
TZNAME:GMT
DTSTART:20291028T010000
END:STANDARD
END:VTIMEZONE
BEGIN:VEVENT
DTSTART;TZID=Europe/London:20280102T170000
DTEND;TZID=Europe/London:20280102T180000
DTSTAMP:20260425T033530
CREATED:20250317T135058Z
LAST-MODIFIED:20260424T071636Z
UID:10004916-1830445200-1830448800@garthma.wales
SUMMARY:Evening Prayer - St John's Church\, Danescourt
DESCRIPTION:Please join us for Evening Prayer in our delightful Church. The service will be followed by refreshments.
URL:https://garthma.wales/events/evening-prayer-st-johns-church-danescourt-2/2028-01-02/
LOCATION:St John’s Church\, Danescourt\, Rachel Close\, Danescourt\, Cardiff\, CF5 2SH\, United Kingdom
ATTACH;FMTTYPE=image/jpeg:https://garthma.wales/wp-content/uploads/2023/07/St-Johns-Church-Danescourt.jpg
END:VEVENT
BEGIN:VEVENT
DTSTART;TZID=Europe/London:20280106T110000
DTEND;TZID=Europe/London:20280106T120000
DTSTAMP:20260425T033530
CREATED:20230724T170054Z
LAST-MODIFIED:20251106T203608Z
UID:10007246-1830769200-1830772800@garthma.wales
SUMMARY:Holy Eucharist - St. John's Church
DESCRIPTION:Holy Eucharist followed by coffee.
URL:https://garthma.wales/events/midweek-eucharist-4/2028-01-06/
LOCATION:St John’s Church\, Danescourt\, Rachel Close\, Danescourt\, Cardiff\, CF5 2SH\, United Kingdom
CATEGORIES:Mid Week Worship
ATTACH;FMTTYPE=image/jpeg:https://garthma.wales/wp-content/uploads/2023/07/St-Johns-Church-Danescourt.jpg
END:VEVENT
BEGIN:VEVENT
DTSTART;TZID=Europe/London:20280109T091500
DTEND;TZID=Europe/London:20280109T101500
DTSTAMP:20260425T033530
CREATED:20260115T154656Z
LAST-MODIFIED:20260115T154657Z
UID:10008834-1831022100-1831025700@garthma.wales
SUMMARY:Holy Eucharist with Sunday Club - St John's Church
DESCRIPTION:Please join us for our Holy Eucharist Service at St. John’s Church in Danescourt\, along with our Sunday Club.
URL:https://garthma.wales/events/sung-eucharist-with-sunday-club-2-2-2/2028-01-09/
LOCATION:St John’s Church\, Danescourt\, Rachel Close\, Danescourt\, Cardiff\, CF5 2SH\, United Kingdom
CATEGORIES:Sunday Worship
ATTACH;FMTTYPE=image/jpeg:https://garthma.wales/wp-content/uploads/2023/07/St-Johns-Church-Danescourt.jpg
END:VEVENT
BEGIN:VEVENT
DTSTART;TZID=Europe/London:20280109T170000
DTEND;TZID=Europe/London:20280109T180000
DTSTAMP:20260425T033530
CREATED:20250317T135058Z
LAST-MODIFIED:20260424T071636Z
UID:10004917-1831050000-1831053600@garthma.wales
SUMMARY:Evening Prayer - St John's Church\, Danescourt
DESCRIPTION:Please join us for Evening Prayer in our delightful Church. The service will be followed by refreshments.
URL:https://garthma.wales/events/evening-prayer-st-johns-church-danescourt-2/2028-01-09/
LOCATION:St John’s Church\, Danescourt\, Rachel Close\, Danescourt\, Cardiff\, CF5 2SH\, United Kingdom
ATTACH;FMTTYPE=image/jpeg:https://garthma.wales/wp-content/uploads/2023/07/St-Johns-Church-Danescourt.jpg
END:VEVENT
BEGIN:VEVENT
DTSTART;TZID=Europe/London:20280113T110000
DTEND;TZID=Europe/London:20280113T120000
DTSTAMP:20260425T033530
CREATED:20230724T170054Z
LAST-MODIFIED:20251106T203608Z
UID:10007247-1831374000-1831377600@garthma.wales
SUMMARY:Holy Eucharist - St. John's Church
DESCRIPTION:Holy Eucharist followed by coffee.
URL:https://garthma.wales/events/midweek-eucharist-4/2028-01-13/
LOCATION:St John’s Church\, Danescourt\, Rachel Close\, Danescourt\, Cardiff\, CF5 2SH\, United Kingdom
CATEGORIES:Mid Week Worship
ATTACH;FMTTYPE=image/jpeg:https://garthma.wales/wp-content/uploads/2023/07/St-Johns-Church-Danescourt.jpg
END:VEVENT
BEGIN:VEVENT
DTSTART;TZID=Europe/London:20280116T091500
DTEND;TZID=Europe/London:20280116T101500
DTSTAMP:20260425T033530
CREATED:20260115T154656Z
LAST-MODIFIED:20260115T154657Z
UID:10008835-1831626900-1831630500@garthma.wales
SUMMARY:Holy Eucharist with Sunday Club - St John's Church
DESCRIPTION:Please join us for our Holy Eucharist Service at St. John’s Church in Danescourt\, along with our Sunday Club.
URL:https://garthma.wales/events/sung-eucharist-with-sunday-club-2-2-2/2028-01-16/
LOCATION:St John’s Church\, Danescourt\, Rachel Close\, Danescourt\, Cardiff\, CF5 2SH\, United Kingdom
CATEGORIES:Sunday Worship
ATTACH;FMTTYPE=image/jpeg:https://garthma.wales/wp-content/uploads/2023/07/St-Johns-Church-Danescourt.jpg
END:VEVENT
BEGIN:VEVENT
DTSTART;TZID=Europe/London:20280116T170000
DTEND;TZID=Europe/London:20280116T180000
DTSTAMP:20260425T033530
CREATED:20250317T135058Z
LAST-MODIFIED:20260424T071636Z
UID:10004918-1831654800-1831658400@garthma.wales
SUMMARY:Evening Prayer - St John's Church\, Danescourt
DESCRIPTION:Please join us for Evening Prayer in our delightful Church. The service will be followed by refreshments.
URL:https://garthma.wales/events/evening-prayer-st-johns-church-danescourt-2/2028-01-16/
LOCATION:St John’s Church\, Danescourt\, Rachel Close\, Danescourt\, Cardiff\, CF5 2SH\, United Kingdom
ATTACH;FMTTYPE=image/jpeg:https://garthma.wales/wp-content/uploads/2023/07/St-Johns-Church-Danescourt.jpg
END:VEVENT
BEGIN:VEVENT
DTSTART;TZID=Europe/London:20280120T110000
DTEND;TZID=Europe/London:20280120T120000
DTSTAMP:20260425T033530
CREATED:20230724T170054Z
LAST-MODIFIED:20251106T203608Z
UID:10007248-1831978800-1831982400@garthma.wales
SUMMARY:Holy Eucharist - St. John's Church
DESCRIPTION:Holy Eucharist followed by coffee.
URL:https://garthma.wales/events/midweek-eucharist-4/2028-01-20/
LOCATION:St John’s Church\, Danescourt\, Rachel Close\, Danescourt\, Cardiff\, CF5 2SH\, United Kingdom
CATEGORIES:Mid Week Worship
ATTACH;FMTTYPE=image/jpeg:https://garthma.wales/wp-content/uploads/2023/07/St-Johns-Church-Danescourt.jpg
END:VEVENT
BEGIN:VEVENT
DTSTART;TZID=Europe/London:20280123T091500
DTEND;TZID=Europe/London:20280123T101500
DTSTAMP:20260425T033530
CREATED:20260115T154656Z
LAST-MODIFIED:20260115T154657Z
UID:10008836-1832231700-1832235300@garthma.wales
SUMMARY:Holy Eucharist with Sunday Club - St John's Church
DESCRIPTION:Please join us for our Holy Eucharist Service at St. John’s Church in Danescourt\, along with our Sunday Club.
URL:https://garthma.wales/events/sung-eucharist-with-sunday-club-2-2-2/2028-01-23/
LOCATION:St John’s Church\, Danescourt\, Rachel Close\, Danescourt\, Cardiff\, CF5 2SH\, United Kingdom
CATEGORIES:Sunday Worship
ATTACH;FMTTYPE=image/jpeg:https://garthma.wales/wp-content/uploads/2023/07/St-Johns-Church-Danescourt.jpg
END:VEVENT
BEGIN:VEVENT
DTSTART;TZID=Europe/London:20280123T170000
DTEND;TZID=Europe/London:20280123T180000
DTSTAMP:20260425T033530
CREATED:20250317T135058Z
LAST-MODIFIED:20260424T071636Z
UID:10004919-1832259600-1832263200@garthma.wales
SUMMARY:Evening Prayer - St John's Church\, Danescourt
DESCRIPTION:Please join us for Evening Prayer in our delightful Church. The service will be followed by refreshments.
URL:https://garthma.wales/events/evening-prayer-st-johns-church-danescourt-2/2028-01-23/
LOCATION:St John’s Church\, Danescourt\, Rachel Close\, Danescourt\, Cardiff\, CF5 2SH\, United Kingdom
ATTACH;FMTTYPE=image/jpeg:https://garthma.wales/wp-content/uploads/2023/07/St-Johns-Church-Danescourt.jpg
END:VEVENT
BEGIN:VEVENT
DTSTART;TZID=Europe/London:20280127T110000
DTEND;TZID=Europe/London:20280127T120000
DTSTAMP:20260425T033530
CREATED:20230724T170054Z
LAST-MODIFIED:20251106T203608Z
UID:10007249-1832583600-1832587200@garthma.wales
SUMMARY:Holy Eucharist - St. John's Church
DESCRIPTION:Holy Eucharist followed by coffee.
URL:https://garthma.wales/events/midweek-eucharist-4/2028-01-27/
LOCATION:St John’s Church\, Danescourt\, Rachel Close\, Danescourt\, Cardiff\, CF5 2SH\, United Kingdom
CATEGORIES:Mid Week Worship
ATTACH;FMTTYPE=image/jpeg:https://garthma.wales/wp-content/uploads/2023/07/St-Johns-Church-Danescourt.jpg
END:VEVENT
BEGIN:VEVENT
DTSTART;TZID=Europe/London:20280130T091500
DTEND;TZID=Europe/London:20280130T101500
DTSTAMP:20260425T033530
CREATED:20260115T154656Z
LAST-MODIFIED:20260115T154657Z
UID:10008837-1832836500-1832840100@garthma.wales
SUMMARY:Holy Eucharist with Sunday Club - St John's Church
DESCRIPTION:Please join us for our Holy Eucharist Service at St. John’s Church in Danescourt\, along with our Sunday Club.
URL:https://garthma.wales/events/sung-eucharist-with-sunday-club-2-2-2/2028-01-30/
LOCATION:St John’s Church\, Danescourt\, Rachel Close\, Danescourt\, Cardiff\, CF5 2SH\, United Kingdom
CATEGORIES:Sunday Worship
ATTACH;FMTTYPE=image/jpeg:https://garthma.wales/wp-content/uploads/2023/07/St-Johns-Church-Danescourt.jpg
END:VEVENT
BEGIN:VEVENT
DTSTART;TZID=Europe/London:20280130T170000
DTEND;TZID=Europe/London:20280130T180000
DTSTAMP:20260425T033530
CREATED:20250317T135058Z
LAST-MODIFIED:20260424T071636Z
UID:10004920-1832864400-1832868000@garthma.wales
SUMMARY:Evening Prayer - St John's Church\, Danescourt
DESCRIPTION:Please join us for Evening Prayer in our delightful Church. The service will be followed by refreshments.
URL:https://garthma.wales/events/evening-prayer-st-johns-church-danescourt-2/2028-01-30/
LOCATION:St John’s Church\, Danescourt\, Rachel Close\, Danescourt\, Cardiff\, CF5 2SH\, United Kingdom
ATTACH;FMTTYPE=image/jpeg:https://garthma.wales/wp-content/uploads/2023/07/St-Johns-Church-Danescourt.jpg
END:VEVENT
BEGIN:VEVENT
DTSTART;TZID=Europe/London:20280203T110000
DTEND;TZID=Europe/London:20280203T120000
DTSTAMP:20260425T033530
CREATED:20230724T170054Z
LAST-MODIFIED:20251106T203608Z
UID:10007250-1833188400-1833192000@garthma.wales
SUMMARY:Holy Eucharist - St. John's Church
DESCRIPTION:Holy Eucharist followed by coffee.
URL:https://garthma.wales/events/midweek-eucharist-4/2028-02-03/
LOCATION:St John’s Church\, Danescourt\, Rachel Close\, Danescourt\, Cardiff\, CF5 2SH\, United Kingdom
CATEGORIES:Mid Week Worship
ATTACH;FMTTYPE=image/jpeg:https://garthma.wales/wp-content/uploads/2023/07/St-Johns-Church-Danescourt.jpg
END:VEVENT
BEGIN:VEVENT
DTSTART;TZID=Europe/London:20280206T091500
DTEND;TZID=Europe/London:20280206T101500
DTSTAMP:20260425T033530
CREATED:20260115T154656Z
LAST-MODIFIED:20260115T154657Z
UID:10008838-1833441300-1833444900@garthma.wales
SUMMARY:Holy Eucharist with Sunday Club - St John's Church
DESCRIPTION:Please join us for our Holy Eucharist Service at St. John’s Church in Danescourt\, along with our Sunday Club.
URL:https://garthma.wales/events/sung-eucharist-with-sunday-club-2-2-2/2028-02-06/
LOCATION:St John’s Church\, Danescourt\, Rachel Close\, Danescourt\, Cardiff\, CF5 2SH\, United Kingdom
CATEGORIES:Sunday Worship
ATTACH;FMTTYPE=image/jpeg:https://garthma.wales/wp-content/uploads/2023/07/St-Johns-Church-Danescourt.jpg
END:VEVENT
BEGIN:VEVENT
DTSTART;TZID=Europe/London:20280206T170000
DTEND;TZID=Europe/London:20280206T180000
DTSTAMP:20260425T033530
CREATED:20250317T135058Z
LAST-MODIFIED:20260424T071636Z
UID:10004921-1833469200-1833472800@garthma.wales
SUMMARY:Evening Prayer - St John's Church\, Danescourt
DESCRIPTION:Please join us for Evening Prayer in our delightful Church. The service will be followed by refreshments.
URL:https://garthma.wales/events/evening-prayer-st-johns-church-danescourt-2/2028-02-06/
LOCATION:St John’s Church\, Danescourt\, Rachel Close\, Danescourt\, Cardiff\, CF5 2SH\, United Kingdom
ATTACH;FMTTYPE=image/jpeg:https://garthma.wales/wp-content/uploads/2023/07/St-Johns-Church-Danescourt.jpg
END:VEVENT
BEGIN:VEVENT
DTSTART;TZID=Europe/London:20280210T110000
DTEND;TZID=Europe/London:20280210T120000
DTSTAMP:20260425T033530
CREATED:20230724T170054Z
LAST-MODIFIED:20251106T203608Z
UID:10007251-1833793200-1833796800@garthma.wales
SUMMARY:Holy Eucharist - St. John's Church
DESCRIPTION:Holy Eucharist followed by coffee.
URL:https://garthma.wales/events/midweek-eucharist-4/2028-02-10/
LOCATION:St John’s Church\, Danescourt\, Rachel Close\, Danescourt\, Cardiff\, CF5 2SH\, United Kingdom
CATEGORIES:Mid Week Worship
ATTACH;FMTTYPE=image/jpeg:https://garthma.wales/wp-content/uploads/2023/07/St-Johns-Church-Danescourt.jpg
END:VEVENT
BEGIN:VEVENT
DTSTART;TZID=Europe/London:20280213T091500
DTEND;TZID=Europe/London:20280213T101500
DTSTAMP:20260425T033530
CREATED:20260115T154656Z
LAST-MODIFIED:20260115T154657Z
UID:10008839-1834046100-1834049700@garthma.wales
SUMMARY:Holy Eucharist with Sunday Club - St John's Church
DESCRIPTION:Please join us for our Holy Eucharist Service at St. John’s Church in Danescourt\, along with our Sunday Club.
URL:https://garthma.wales/events/sung-eucharist-with-sunday-club-2-2-2/2028-02-13/
LOCATION:St John’s Church\, Danescourt\, Rachel Close\, Danescourt\, Cardiff\, CF5 2SH\, United Kingdom
CATEGORIES:Sunday Worship
ATTACH;FMTTYPE=image/jpeg:https://garthma.wales/wp-content/uploads/2023/07/St-Johns-Church-Danescourt.jpg
END:VEVENT
BEGIN:VEVENT
DTSTART;TZID=Europe/London:20280213T170000
DTEND;TZID=Europe/London:20280213T180000
DTSTAMP:20260425T033530
CREATED:20250317T135058Z
LAST-MODIFIED:20260424T071636Z
UID:10004922-1834074000-1834077600@garthma.wales
SUMMARY:Evening Prayer - St John's Church\, Danescourt
DESCRIPTION:Please join us for Evening Prayer in our delightful Church. The service will be followed by refreshments.
URL:https://garthma.wales/events/evening-prayer-st-johns-church-danescourt-2/2028-02-13/
LOCATION:St John’s Church\, Danescourt\, Rachel Close\, Danescourt\, Cardiff\, CF5 2SH\, United Kingdom
ATTACH;FMTTYPE=image/jpeg:https://garthma.wales/wp-content/uploads/2023/07/St-Johns-Church-Danescourt.jpg
END:VEVENT
BEGIN:VEVENT
DTSTART;TZID=Europe/London:20280217T110000
DTEND;TZID=Europe/London:20280217T120000
DTSTAMP:20260425T033530
CREATED:20230724T170054Z
LAST-MODIFIED:20251106T203608Z
UID:10007252-1834398000-1834401600@garthma.wales
SUMMARY:Holy Eucharist - St. John's Church
DESCRIPTION:Holy Eucharist followed by coffee.
URL:https://garthma.wales/events/midweek-eucharist-4/2028-02-17/
LOCATION:St John’s Church\, Danescourt\, Rachel Close\, Danescourt\, Cardiff\, CF5 2SH\, United Kingdom
CATEGORIES:Mid Week Worship
ATTACH;FMTTYPE=image/jpeg:https://garthma.wales/wp-content/uploads/2023/07/St-Johns-Church-Danescourt.jpg
END:VEVENT
BEGIN:VEVENT
DTSTART;TZID=Europe/London:20280220T091500
DTEND;TZID=Europe/London:20280220T101500
DTSTAMP:20260425T033530
CREATED:20260115T154656Z
LAST-MODIFIED:20260115T154657Z
UID:10008840-1834650900-1834654500@garthma.wales
SUMMARY:Holy Eucharist with Sunday Club - St John's Church
DESCRIPTION:Please join us for our Holy Eucharist Service at St. John’s Church in Danescourt\, along with our Sunday Club.
URL:https://garthma.wales/events/sung-eucharist-with-sunday-club-2-2-2/2028-02-20/
LOCATION:St John’s Church\, Danescourt\, Rachel Close\, Danescourt\, Cardiff\, CF5 2SH\, United Kingdom
CATEGORIES:Sunday Worship
ATTACH;FMTTYPE=image/jpeg:https://garthma.wales/wp-content/uploads/2023/07/St-Johns-Church-Danescourt.jpg
END:VEVENT
BEGIN:VEVENT
DTSTART;TZID=Europe/London:20280220T170000
DTEND;TZID=Europe/London:20280220T180000
DTSTAMP:20260425T033530
CREATED:20250317T135058Z
LAST-MODIFIED:20260424T071636Z
UID:10004923-1834678800-1834682400@garthma.wales
SUMMARY:Evening Prayer - St John's Church\, Danescourt
DESCRIPTION:Please join us for Evening Prayer in our delightful Church. The service will be followed by refreshments.
URL:https://garthma.wales/events/evening-prayer-st-johns-church-danescourt-2/2028-02-20/
LOCATION:St John’s Church\, Danescourt\, Rachel Close\, Danescourt\, Cardiff\, CF5 2SH\, United Kingdom
ATTACH;FMTTYPE=image/jpeg:https://garthma.wales/wp-content/uploads/2023/07/St-Johns-Church-Danescourt.jpg
END:VEVENT
BEGIN:VEVENT
DTSTART;TZID=Europe/London:20280224T110000
DTEND;TZID=Europe/London:20280224T120000
DTSTAMP:20260425T033530
CREATED:20230724T170054Z
LAST-MODIFIED:20251106T203608Z
UID:10007253-1835002800-1835006400@garthma.wales
SUMMARY:Holy Eucharist - St. John's Church
DESCRIPTION:Holy Eucharist followed by coffee.
URL:https://garthma.wales/events/midweek-eucharist-4/2028-02-24/
LOCATION:St John’s Church\, Danescourt\, Rachel Close\, Danescourt\, Cardiff\, CF5 2SH\, United Kingdom
CATEGORIES:Mid Week Worship
ATTACH;FMTTYPE=image/jpeg:https://garthma.wales/wp-content/uploads/2023/07/St-Johns-Church-Danescourt.jpg
END:VEVENT
BEGIN:VEVENT
DTSTART;TZID=Europe/London:20280227T091500
DTEND;TZID=Europe/London:20280227T101500
DTSTAMP:20260425T033530
CREATED:20260115T154656Z
LAST-MODIFIED:20260115T154657Z
UID:10008841-1835255700-1835259300@garthma.wales
SUMMARY:Holy Eucharist with Sunday Club - St John's Church
DESCRIPTION:Please join us for our Holy Eucharist Service at St. John’s Church in Danescourt\, along with our Sunday Club.
URL:https://garthma.wales/events/sung-eucharist-with-sunday-club-2-2-2/2028-02-27/
LOCATION:St John’s Church\, Danescourt\, Rachel Close\, Danescourt\, Cardiff\, CF5 2SH\, United Kingdom
CATEGORIES:Sunday Worship
ATTACH;FMTTYPE=image/jpeg:https://garthma.wales/wp-content/uploads/2023/07/St-Johns-Church-Danescourt.jpg
END:VEVENT
BEGIN:VEVENT
DTSTART;TZID=Europe/London:20280227T170000
DTEND;TZID=Europe/London:20280227T180000
DTSTAMP:20260425T033530
CREATED:20250317T135058Z
LAST-MODIFIED:20260424T071636Z
UID:10004924-1835283600-1835287200@garthma.wales
SUMMARY:Evening Prayer - St John's Church\, Danescourt
DESCRIPTION:Please join us for Evening Prayer in our delightful Church. The service will be followed by refreshments.
URL:https://garthma.wales/events/evening-prayer-st-johns-church-danescourt-2/2028-02-27/
LOCATION:St John’s Church\, Danescourt\, Rachel Close\, Danescourt\, Cardiff\, CF5 2SH\, United Kingdom
ATTACH;FMTTYPE=image/jpeg:https://garthma.wales/wp-content/uploads/2023/07/St-Johns-Church-Danescourt.jpg
END:VEVENT
BEGIN:VEVENT
DTSTART;TZID=Europe/London:20280302T110000
DTEND;TZID=Europe/London:20280302T120000
DTSTAMP:20260425T033530
CREATED:20230724T170054Z
LAST-MODIFIED:20251106T203608Z
UID:10007254-1835607600-1835611200@garthma.wales
SUMMARY:Holy Eucharist - St. John's Church
DESCRIPTION:Holy Eucharist followed by coffee.
URL:https://garthma.wales/events/midweek-eucharist-4/2028-03-02/
LOCATION:St John’s Church\, Danescourt\, Rachel Close\, Danescourt\, Cardiff\, CF5 2SH\, United Kingdom
CATEGORIES:Mid Week Worship
ATTACH;FMTTYPE=image/jpeg:https://garthma.wales/wp-content/uploads/2023/07/St-Johns-Church-Danescourt.jpg
END:VEVENT
BEGIN:VEVENT
DTSTART;TZID=Europe/London:20280305T091500
DTEND;TZID=Europe/London:20280305T101500
DTSTAMP:20260425T033530
CREATED:20260115T154656Z
LAST-MODIFIED:20260115T154657Z
UID:10008842-1835860500-1835864100@garthma.wales
SUMMARY:Holy Eucharist with Sunday Club - St John's Church
DESCRIPTION:Please join us for our Holy Eucharist Service at St. John’s Church in Danescourt\, along with our Sunday Club.
URL:https://garthma.wales/events/sung-eucharist-with-sunday-club-2-2-2/2028-03-05/
LOCATION:St John’s Church\, Danescourt\, Rachel Close\, Danescourt\, Cardiff\, CF5 2SH\, United Kingdom
CATEGORIES:Sunday Worship
ATTACH;FMTTYPE=image/jpeg:https://garthma.wales/wp-content/uploads/2023/07/St-Johns-Church-Danescourt.jpg
END:VEVENT
BEGIN:VEVENT
DTSTART;TZID=Europe/London:20280305T170000
DTEND;TZID=Europe/London:20280305T180000
DTSTAMP:20260425T033531
CREATED:20250317T135058Z
LAST-MODIFIED:20260424T071636Z
UID:10004925-1835888400-1835892000@garthma.wales
SUMMARY:Evening Prayer - St John's Church\, Danescourt
DESCRIPTION:Please join us for Evening Prayer in our delightful Church. The service will be followed by refreshments.
URL:https://garthma.wales/events/evening-prayer-st-johns-church-danescourt-2/2028-03-05/
LOCATION:St John’s Church\, Danescourt\, Rachel Close\, Danescourt\, Cardiff\, CF5 2SH\, United Kingdom
ATTACH;FMTTYPE=image/jpeg:https://garthma.wales/wp-content/uploads/2023/07/St-Johns-Church-Danescourt.jpg
END:VEVENT
BEGIN:VEVENT
DTSTART;TZID=Europe/London:20280309T110000
DTEND;TZID=Europe/London:20280309T120000
DTSTAMP:20260425T033531
CREATED:20230724T170054Z
LAST-MODIFIED:20251106T203608Z
UID:10007255-1836212400-1836216000@garthma.wales
SUMMARY:Holy Eucharist - St. John's Church
DESCRIPTION:Holy Eucharist followed by coffee.
URL:https://garthma.wales/events/midweek-eucharist-4/2028-03-09/
LOCATION:St John’s Church\, Danescourt\, Rachel Close\, Danescourt\, Cardiff\, CF5 2SH\, United Kingdom
CATEGORIES:Mid Week Worship
ATTACH;FMTTYPE=image/jpeg:https://garthma.wales/wp-content/uploads/2023/07/St-Johns-Church-Danescourt.jpg
END:VEVENT
BEGIN:VEVENT
DTSTART;TZID=Europe/London:20280312T091500
DTEND;TZID=Europe/London:20280312T101500
DTSTAMP:20260425T033531
CREATED:20260115T154656Z
LAST-MODIFIED:20260115T154657Z
UID:10008843-1836465300-1836468900@garthma.wales
SUMMARY:Holy Eucharist with Sunday Club - St John's Church
DESCRIPTION:Please join us for our Holy Eucharist Service at St. John’s Church in Danescourt\, along with our Sunday Club.
URL:https://garthma.wales/events/sung-eucharist-with-sunday-club-2-2-2/2028-03-12/
LOCATION:St John’s Church\, Danescourt\, Rachel Close\, Danescourt\, Cardiff\, CF5 2SH\, United Kingdom
CATEGORIES:Sunday Worship
ATTACH;FMTTYPE=image/jpeg:https://garthma.wales/wp-content/uploads/2023/07/St-Johns-Church-Danescourt.jpg
END:VEVENT
END:VCALENDAR