BEGIN:VCALENDAR
VERSION:2.0
PRODID:-//The Garth Ministry Area - ECPv6.15.20//NONSGML v1.0//EN
CALSCALE:GREGORIAN
METHOD:PUBLISH
X-ORIGINAL-URL:https://garthma.wales
X-WR-CALDESC:Events for The Garth Ministry Area
REFRESH-INTERVAL;VALUE=DURATION:PT1H
X-Robots-Tag:noindex
X-PUBLISHED-TTL:PT1H
BEGIN:VTIMEZONE
TZID:Europe/London
BEGIN:DAYLIGHT
TZOFFSETFROM:+0000
TZOFFSETTO:+0100
TZNAME:BST
DTSTART:20260329T010000
END:DAYLIGHT
BEGIN:STANDARD
TZOFFSETFROM:+0100
TZOFFSETTO:+0000
TZNAME:GMT
DTSTART:20261025T010000
END:STANDARD
BEGIN:DAYLIGHT
TZOFFSETFROM:+0000
TZOFFSETTO:+0100
TZNAME:BST
DTSTART:20270328T010000
END:DAYLIGHT
BEGIN:STANDARD
TZOFFSETFROM:+0100
TZOFFSETTO:+0000
TZNAME:GMT
DTSTART:20271031T010000
END:STANDARD
BEGIN:DAYLIGHT
TZOFFSETFROM:+0000
TZOFFSETTO:+0100
TZNAME:BST
DTSTART:20280326T010000
END:DAYLIGHT
BEGIN:STANDARD
TZOFFSETFROM:+0100
TZOFFSETTO:+0000
TZNAME:GMT
DTSTART:20281029T010000
END:STANDARD
END:VTIMEZONE
BEGIN:VEVENT
DTSTART;TZID=Europe/London:20271007T110000
DTEND;TZID=Europe/London:20271007T120000
DTSTAMP:20260422T030216
CREATED:20230724T170054Z
LAST-MODIFIED:20251106T203608Z
UID:10007233-1822906800-1822910400@garthma.wales
SUMMARY:Holy Eucharist - St. John's Church
DESCRIPTION:Holy Eucharist followed by coffee.
URL:https://garthma.wales/events/midweek-eucharist-4/2027-10-07/
LOCATION:St John’s Church\, Danescourt\, Rachel Close\, Danescourt\, Cardiff\, CF5 2SH\, United Kingdom
CATEGORIES:Mid Week Worship
ATTACH;FMTTYPE=image/jpeg:https://garthma.wales/wp-content/uploads/2023/07/St-Johns-Church-Danescourt.jpg
END:VEVENT
BEGIN:VEVENT
DTSTART;TZID=Europe/London:20271010T091500
DTEND;TZID=Europe/London:20271010T101500
DTSTAMP:20260422T030216
CREATED:20260115T154656Z
LAST-MODIFIED:20260115T154657Z
UID:10008821-1823159700-1823163300@garthma.wales
SUMMARY:Holy Eucharist with Sunday Club - St John's Church
DESCRIPTION:Please join us for our Holy Eucharist Service at St. John’s Church in Danescourt\, along with our Sunday Club.
URL:https://garthma.wales/events/sung-eucharist-with-sunday-club-2-2-2/2027-10-10/
LOCATION:St John’s Church\, Danescourt\, Rachel Close\, Danescourt\, Cardiff\, CF5 2SH\, United Kingdom
CATEGORIES:Sunday Worship
ATTACH;FMTTYPE=image/jpeg:https://garthma.wales/wp-content/uploads/2023/07/St-Johns-Church-Danescourt.jpg
END:VEVENT
BEGIN:VEVENT
DTSTART;TZID=Europe/London:20271010T170000
DTEND;TZID=Europe/London:20271010T180000
DTSTAMP:20260422T030216
CREATED:20250317T135058Z
LAST-MODIFIED:20251108T123528Z
UID:10004904-1823187600-1823191200@garthma.wales
SUMMARY:Evening Prayer - St John's Church\, Danescourt
DESCRIPTION:Please join us for Evening Prayer in our delightful Church. The service will be followed by refreshments.
URL:https://garthma.wales/events/evening-prayer-st-johns-church-danescourt-2/2027-10-10/
LOCATION:St John’s Church\, Danescourt\, Rachel Close\, Danescourt\, Cardiff\, CF5 2SH\, United Kingdom
ATTACH;FMTTYPE=image/jpeg:https://garthma.wales/wp-content/uploads/2023/07/St-Johns-Church-Danescourt.jpg
END:VEVENT
BEGIN:VEVENT
DTSTART;TZID=Europe/London:20271014T110000
DTEND;TZID=Europe/London:20271014T120000
DTSTAMP:20260422T030216
CREATED:20230724T170054Z
LAST-MODIFIED:20251106T203608Z
UID:10007234-1823511600-1823515200@garthma.wales
SUMMARY:Holy Eucharist - St. John's Church
DESCRIPTION:Holy Eucharist followed by coffee.
URL:https://garthma.wales/events/midweek-eucharist-4/2027-10-14/
LOCATION:St John’s Church\, Danescourt\, Rachel Close\, Danescourt\, Cardiff\, CF5 2SH\, United Kingdom
CATEGORIES:Mid Week Worship
ATTACH;FMTTYPE=image/jpeg:https://garthma.wales/wp-content/uploads/2023/07/St-Johns-Church-Danescourt.jpg
END:VEVENT
BEGIN:VEVENT
DTSTART;TZID=Europe/London:20271017T091500
DTEND;TZID=Europe/London:20271017T101500
DTSTAMP:20260422T030216
CREATED:20260115T154656Z
LAST-MODIFIED:20260115T154657Z
UID:10008822-1823764500-1823768100@garthma.wales
SUMMARY:Holy Eucharist with Sunday Club - St John's Church
DESCRIPTION:Please join us for our Holy Eucharist Service at St. John’s Church in Danescourt\, along with our Sunday Club.
URL:https://garthma.wales/events/sung-eucharist-with-sunday-club-2-2-2/2027-10-17/
LOCATION:St John’s Church\, Danescourt\, Rachel Close\, Danescourt\, Cardiff\, CF5 2SH\, United Kingdom
CATEGORIES:Sunday Worship
ATTACH;FMTTYPE=image/jpeg:https://garthma.wales/wp-content/uploads/2023/07/St-Johns-Church-Danescourt.jpg
END:VEVENT
BEGIN:VEVENT
DTSTART;TZID=Europe/London:20271017T170000
DTEND;TZID=Europe/London:20271017T180000
DTSTAMP:20260422T030216
CREATED:20250317T135058Z
LAST-MODIFIED:20251108T123528Z
UID:10004905-1823792400-1823796000@garthma.wales
SUMMARY:Evening Prayer - St John's Church\, Danescourt
DESCRIPTION:Please join us for Evening Prayer in our delightful Church. The service will be followed by refreshments.
URL:https://garthma.wales/events/evening-prayer-st-johns-church-danescourt-2/2027-10-17/
LOCATION:St John’s Church\, Danescourt\, Rachel Close\, Danescourt\, Cardiff\, CF5 2SH\, United Kingdom
ATTACH;FMTTYPE=image/jpeg:https://garthma.wales/wp-content/uploads/2023/07/St-Johns-Church-Danescourt.jpg
END:VEVENT
BEGIN:VEVENT
DTSTART;TZID=Europe/London:20271021T110000
DTEND;TZID=Europe/London:20271021T120000
DTSTAMP:20260422T030216
CREATED:20230724T170054Z
LAST-MODIFIED:20251106T203608Z
UID:10007235-1824116400-1824120000@garthma.wales
SUMMARY:Holy Eucharist - St. John's Church
DESCRIPTION:Holy Eucharist followed by coffee.
URL:https://garthma.wales/events/midweek-eucharist-4/2027-10-21/
LOCATION:St John’s Church\, Danescourt\, Rachel Close\, Danescourt\, Cardiff\, CF5 2SH\, United Kingdom
CATEGORIES:Mid Week Worship
ATTACH;FMTTYPE=image/jpeg:https://garthma.wales/wp-content/uploads/2023/07/St-Johns-Church-Danescourt.jpg
END:VEVENT
BEGIN:VEVENT
DTSTART;TZID=Europe/London:20271024T091500
DTEND;TZID=Europe/London:20271024T101500
DTSTAMP:20260422T030216
CREATED:20260115T154656Z
LAST-MODIFIED:20260115T154657Z
UID:10008823-1824369300-1824372900@garthma.wales
SUMMARY:Holy Eucharist with Sunday Club - St John's Church
DESCRIPTION:Please join us for our Holy Eucharist Service at St. John’s Church in Danescourt\, along with our Sunday Club.
URL:https://garthma.wales/events/sung-eucharist-with-sunday-club-2-2-2/2027-10-24/
LOCATION:St John’s Church\, Danescourt\, Rachel Close\, Danescourt\, Cardiff\, CF5 2SH\, United Kingdom
CATEGORIES:Sunday Worship
ATTACH;FMTTYPE=image/jpeg:https://garthma.wales/wp-content/uploads/2023/07/St-Johns-Church-Danescourt.jpg
END:VEVENT
BEGIN:VEVENT
DTSTART;TZID=Europe/London:20271024T170000
DTEND;TZID=Europe/London:20271024T180000
DTSTAMP:20260422T030216
CREATED:20250317T135058Z
LAST-MODIFIED:20251108T123528Z
UID:10004906-1824397200-1824400800@garthma.wales
SUMMARY:Evening Prayer - St John's Church\, Danescourt
DESCRIPTION:Please join us for Evening Prayer in our delightful Church. The service will be followed by refreshments.
URL:https://garthma.wales/events/evening-prayer-st-johns-church-danescourt-2/2027-10-24/
LOCATION:St John’s Church\, Danescourt\, Rachel Close\, Danescourt\, Cardiff\, CF5 2SH\, United Kingdom
ATTACH;FMTTYPE=image/jpeg:https://garthma.wales/wp-content/uploads/2023/07/St-Johns-Church-Danescourt.jpg
END:VEVENT
BEGIN:VEVENT
DTSTART;TZID=Europe/London:20271028T110000
DTEND;TZID=Europe/London:20271028T120000
DTSTAMP:20260422T030216
CREATED:20230724T170054Z
LAST-MODIFIED:20251106T203608Z
UID:10007236-1824721200-1824724800@garthma.wales
SUMMARY:Holy Eucharist - St. John's Church
DESCRIPTION:Holy Eucharist followed by coffee.
URL:https://garthma.wales/events/midweek-eucharist-4/2027-10-28/
LOCATION:St John’s Church\, Danescourt\, Rachel Close\, Danescourt\, Cardiff\, CF5 2SH\, United Kingdom
CATEGORIES:Mid Week Worship
ATTACH;FMTTYPE=image/jpeg:https://garthma.wales/wp-content/uploads/2023/07/St-Johns-Church-Danescourt.jpg
END:VEVENT
BEGIN:VEVENT
DTSTART;TZID=Europe/London:20271031T091500
DTEND;TZID=Europe/London:20271031T101500
DTSTAMP:20260422T030216
CREATED:20260115T154656Z
LAST-MODIFIED:20260115T154657Z
UID:10008824-1824974100-1824977700@garthma.wales
SUMMARY:Holy Eucharist with Sunday Club - St John's Church
DESCRIPTION:Please join us for our Holy Eucharist Service at St. John’s Church in Danescourt\, along with our Sunday Club.
URL:https://garthma.wales/events/sung-eucharist-with-sunday-club-2-2-2/2027-10-31/
LOCATION:St John’s Church\, Danescourt\, Rachel Close\, Danescourt\, Cardiff\, CF5 2SH\, United Kingdom
CATEGORIES:Sunday Worship
ATTACH;FMTTYPE=image/jpeg:https://garthma.wales/wp-content/uploads/2023/07/St-Johns-Church-Danescourt.jpg
END:VEVENT
BEGIN:VEVENT
DTSTART;TZID=Europe/London:20271031T170000
DTEND;TZID=Europe/London:20271031T180000
DTSTAMP:20260422T030216
CREATED:20250317T135058Z
LAST-MODIFIED:20251108T123528Z
UID:10004907-1825002000-1825005600@garthma.wales
SUMMARY:Evening Prayer - St John's Church\, Danescourt
DESCRIPTION:Please join us for Evening Prayer in our delightful Church. The service will be followed by refreshments.
URL:https://garthma.wales/events/evening-prayer-st-johns-church-danescourt-2/2027-10-31/
LOCATION:St John’s Church\, Danescourt\, Rachel Close\, Danescourt\, Cardiff\, CF5 2SH\, United Kingdom
ATTACH;FMTTYPE=image/jpeg:https://garthma.wales/wp-content/uploads/2023/07/St-Johns-Church-Danescourt.jpg
END:VEVENT
BEGIN:VEVENT
DTSTART;TZID=Europe/London:20271104T110000
DTEND;TZID=Europe/London:20271104T120000
DTSTAMP:20260422T030216
CREATED:20230724T170054Z
LAST-MODIFIED:20251106T203608Z
UID:10007237-1825326000-1825329600@garthma.wales
SUMMARY:Holy Eucharist - St. John's Church
DESCRIPTION:Holy Eucharist followed by coffee.
URL:https://garthma.wales/events/midweek-eucharist-4/2027-11-04/
LOCATION:St John’s Church\, Danescourt\, Rachel Close\, Danescourt\, Cardiff\, CF5 2SH\, United Kingdom
CATEGORIES:Mid Week Worship
ATTACH;FMTTYPE=image/jpeg:https://garthma.wales/wp-content/uploads/2023/07/St-Johns-Church-Danescourt.jpg
END:VEVENT
BEGIN:VEVENT
DTSTART;TZID=Europe/London:20271107T091500
DTEND;TZID=Europe/London:20271107T101500
DTSTAMP:20260422T030216
CREATED:20260115T154656Z
LAST-MODIFIED:20260115T154657Z
UID:10008825-1825578900-1825582500@garthma.wales
SUMMARY:Holy Eucharist with Sunday Club - St John's Church
DESCRIPTION:Please join us for our Holy Eucharist Service at St. John’s Church in Danescourt\, along with our Sunday Club.
URL:https://garthma.wales/events/sung-eucharist-with-sunday-club-2-2-2/2027-11-07/
LOCATION:St John’s Church\, Danescourt\, Rachel Close\, Danescourt\, Cardiff\, CF5 2SH\, United Kingdom
CATEGORIES:Sunday Worship
ATTACH;FMTTYPE=image/jpeg:https://garthma.wales/wp-content/uploads/2023/07/St-Johns-Church-Danescourt.jpg
END:VEVENT
BEGIN:VEVENT
DTSTART;TZID=Europe/London:20271107T170000
DTEND;TZID=Europe/London:20271107T180000
DTSTAMP:20260422T030216
CREATED:20250317T135058Z
LAST-MODIFIED:20251108T123528Z
UID:10004908-1825606800-1825610400@garthma.wales
SUMMARY:Evening Prayer - St John's Church\, Danescourt
DESCRIPTION:Please join us for Evening Prayer in our delightful Church. The service will be followed by refreshments.
URL:https://garthma.wales/events/evening-prayer-st-johns-church-danescourt-2/2027-11-07/
LOCATION:St John’s Church\, Danescourt\, Rachel Close\, Danescourt\, Cardiff\, CF5 2SH\, United Kingdom
ATTACH;FMTTYPE=image/jpeg:https://garthma.wales/wp-content/uploads/2023/07/St-Johns-Church-Danescourt.jpg
END:VEVENT
BEGIN:VEVENT
DTSTART;TZID=Europe/London:20271111T110000
DTEND;TZID=Europe/London:20271111T120000
DTSTAMP:20260422T030216
CREATED:20230724T170054Z
LAST-MODIFIED:20251106T203608Z
UID:10007238-1825930800-1825934400@garthma.wales
SUMMARY:Holy Eucharist - St. John's Church
DESCRIPTION:Holy Eucharist followed by coffee.
URL:https://garthma.wales/events/midweek-eucharist-4/2027-11-11/
LOCATION:St John’s Church\, Danescourt\, Rachel Close\, Danescourt\, Cardiff\, CF5 2SH\, United Kingdom
CATEGORIES:Mid Week Worship
ATTACH;FMTTYPE=image/jpeg:https://garthma.wales/wp-content/uploads/2023/07/St-Johns-Church-Danescourt.jpg
END:VEVENT
BEGIN:VEVENT
DTSTART;TZID=Europe/London:20271114T091500
DTEND;TZID=Europe/London:20271114T101500
DTSTAMP:20260422T030216
CREATED:20260115T154656Z
LAST-MODIFIED:20260115T154657Z
UID:10008826-1826183700-1826187300@garthma.wales
SUMMARY:Holy Eucharist with Sunday Club - St John's Church
DESCRIPTION:Please join us for our Holy Eucharist Service at St. John’s Church in Danescourt\, along with our Sunday Club.
URL:https://garthma.wales/events/sung-eucharist-with-sunday-club-2-2-2/2027-11-14/
LOCATION:St John’s Church\, Danescourt\, Rachel Close\, Danescourt\, Cardiff\, CF5 2SH\, United Kingdom
CATEGORIES:Sunday Worship
ATTACH;FMTTYPE=image/jpeg:https://garthma.wales/wp-content/uploads/2023/07/St-Johns-Church-Danescourt.jpg
END:VEVENT
BEGIN:VEVENT
DTSTART;TZID=Europe/London:20271114T170000
DTEND;TZID=Europe/London:20271114T180000
DTSTAMP:20260422T030216
CREATED:20250317T135058Z
LAST-MODIFIED:20251108T123528Z
UID:10004909-1826211600-1826215200@garthma.wales
SUMMARY:Evening Prayer - St John's Church\, Danescourt
DESCRIPTION:Please join us for Evening Prayer in our delightful Church. The service will be followed by refreshments.
URL:https://garthma.wales/events/evening-prayer-st-johns-church-danescourt-2/2027-11-14/
LOCATION:St John’s Church\, Danescourt\, Rachel Close\, Danescourt\, Cardiff\, CF5 2SH\, United Kingdom
ATTACH;FMTTYPE=image/jpeg:https://garthma.wales/wp-content/uploads/2023/07/St-Johns-Church-Danescourt.jpg
END:VEVENT
BEGIN:VEVENT
DTSTART;TZID=Europe/London:20271118T110000
DTEND;TZID=Europe/London:20271118T120000
DTSTAMP:20260422T030216
CREATED:20230724T170054Z
LAST-MODIFIED:20251106T203608Z
UID:10007239-1826535600-1826539200@garthma.wales
SUMMARY:Holy Eucharist - St. John's Church
DESCRIPTION:Holy Eucharist followed by coffee.
URL:https://garthma.wales/events/midweek-eucharist-4/2027-11-18/
LOCATION:St John’s Church\, Danescourt\, Rachel Close\, Danescourt\, Cardiff\, CF5 2SH\, United Kingdom
CATEGORIES:Mid Week Worship
ATTACH;FMTTYPE=image/jpeg:https://garthma.wales/wp-content/uploads/2023/07/St-Johns-Church-Danescourt.jpg
END:VEVENT
BEGIN:VEVENT
DTSTART;TZID=Europe/London:20271121T091500
DTEND;TZID=Europe/London:20271121T101500
DTSTAMP:20260422T030216
CREATED:20260115T154656Z
LAST-MODIFIED:20260115T154657Z
UID:10008827-1826788500-1826792100@garthma.wales
SUMMARY:Holy Eucharist with Sunday Club - St John's Church
DESCRIPTION:Please join us for our Holy Eucharist Service at St. John’s Church in Danescourt\, along with our Sunday Club.
URL:https://garthma.wales/events/sung-eucharist-with-sunday-club-2-2-2/2027-11-21/
LOCATION:St John’s Church\, Danescourt\, Rachel Close\, Danescourt\, Cardiff\, CF5 2SH\, United Kingdom
CATEGORIES:Sunday Worship
ATTACH;FMTTYPE=image/jpeg:https://garthma.wales/wp-content/uploads/2023/07/St-Johns-Church-Danescourt.jpg
END:VEVENT
BEGIN:VEVENT
DTSTART;TZID=Europe/London:20271121T170000
DTEND;TZID=Europe/London:20271121T180000
DTSTAMP:20260422T030216
CREATED:20250317T135058Z
LAST-MODIFIED:20251108T123528Z
UID:10004910-1826816400-1826820000@garthma.wales
SUMMARY:Evening Prayer - St John's Church\, Danescourt
DESCRIPTION:Please join us for Evening Prayer in our delightful Church. The service will be followed by refreshments.
URL:https://garthma.wales/events/evening-prayer-st-johns-church-danescourt-2/2027-11-21/
LOCATION:St John’s Church\, Danescourt\, Rachel Close\, Danescourt\, Cardiff\, CF5 2SH\, United Kingdom
ATTACH;FMTTYPE=image/jpeg:https://garthma.wales/wp-content/uploads/2023/07/St-Johns-Church-Danescourt.jpg
END:VEVENT
BEGIN:VEVENT
DTSTART;TZID=Europe/London:20271125T110000
DTEND;TZID=Europe/London:20271125T120000
DTSTAMP:20260422T030216
CREATED:20230724T170054Z
LAST-MODIFIED:20251106T203608Z
UID:10007240-1827140400-1827144000@garthma.wales
SUMMARY:Holy Eucharist - St. John's Church
DESCRIPTION:Holy Eucharist followed by coffee.
URL:https://garthma.wales/events/midweek-eucharist-4/2027-11-25/
LOCATION:St John’s Church\, Danescourt\, Rachel Close\, Danescourt\, Cardiff\, CF5 2SH\, United Kingdom
CATEGORIES:Mid Week Worship
ATTACH;FMTTYPE=image/jpeg:https://garthma.wales/wp-content/uploads/2023/07/St-Johns-Church-Danescourt.jpg
END:VEVENT
BEGIN:VEVENT
DTSTART;TZID=Europe/London:20271128T091500
DTEND;TZID=Europe/London:20271128T101500
DTSTAMP:20260422T030216
CREATED:20260115T154656Z
LAST-MODIFIED:20260115T154657Z
UID:10008828-1827393300-1827396900@garthma.wales
SUMMARY:Holy Eucharist with Sunday Club - St John's Church
DESCRIPTION:Please join us for our Holy Eucharist Service at St. John’s Church in Danescourt\, along with our Sunday Club.
URL:https://garthma.wales/events/sung-eucharist-with-sunday-club-2-2-2/2027-11-28/
LOCATION:St John’s Church\, Danescourt\, Rachel Close\, Danescourt\, Cardiff\, CF5 2SH\, United Kingdom
CATEGORIES:Sunday Worship
ATTACH;FMTTYPE=image/jpeg:https://garthma.wales/wp-content/uploads/2023/07/St-Johns-Church-Danescourt.jpg
END:VEVENT
BEGIN:VEVENT
DTSTART;TZID=Europe/London:20271128T170000
DTEND;TZID=Europe/London:20271128T180000
DTSTAMP:20260422T030216
CREATED:20250317T135058Z
LAST-MODIFIED:20251108T123528Z
UID:10004911-1827421200-1827424800@garthma.wales
SUMMARY:Evening Prayer - St John's Church\, Danescourt
DESCRIPTION:Please join us for Evening Prayer in our delightful Church. The service will be followed by refreshments.
URL:https://garthma.wales/events/evening-prayer-st-johns-church-danescourt-2/2027-11-28/
LOCATION:St John’s Church\, Danescourt\, Rachel Close\, Danescourt\, Cardiff\, CF5 2SH\, United Kingdom
ATTACH;FMTTYPE=image/jpeg:https://garthma.wales/wp-content/uploads/2023/07/St-Johns-Church-Danescourt.jpg
END:VEVENT
BEGIN:VEVENT
DTSTART;TZID=Europe/London:20271202T110000
DTEND;TZID=Europe/London:20271202T120000
DTSTAMP:20260422T030216
CREATED:20230724T170054Z
LAST-MODIFIED:20251106T203608Z
UID:10007241-1827745200-1827748800@garthma.wales
SUMMARY:Holy Eucharist - St. John's Church
DESCRIPTION:Holy Eucharist followed by coffee.
URL:https://garthma.wales/events/midweek-eucharist-4/2027-12-02/
LOCATION:St John’s Church\, Danescourt\, Rachel Close\, Danescourt\, Cardiff\, CF5 2SH\, United Kingdom
CATEGORIES:Mid Week Worship
ATTACH;FMTTYPE=image/jpeg:https://garthma.wales/wp-content/uploads/2023/07/St-Johns-Church-Danescourt.jpg
END:VEVENT
BEGIN:VEVENT
DTSTART;TZID=Europe/London:20271205T091500
DTEND;TZID=Europe/London:20271205T101500
DTSTAMP:20260422T030216
CREATED:20260115T154656Z
LAST-MODIFIED:20260115T154657Z
UID:10008829-1827998100-1828001700@garthma.wales
SUMMARY:Holy Eucharist with Sunday Club - St John's Church
DESCRIPTION:Please join us for our Holy Eucharist Service at St. John’s Church in Danescourt\, along with our Sunday Club.
URL:https://garthma.wales/events/sung-eucharist-with-sunday-club-2-2-2/2027-12-05/
LOCATION:St John’s Church\, Danescourt\, Rachel Close\, Danescourt\, Cardiff\, CF5 2SH\, United Kingdom
CATEGORIES:Sunday Worship
ATTACH;FMTTYPE=image/jpeg:https://garthma.wales/wp-content/uploads/2023/07/St-Johns-Church-Danescourt.jpg
END:VEVENT
BEGIN:VEVENT
DTSTART;TZID=Europe/London:20271205T170000
DTEND;TZID=Europe/London:20271205T180000
DTSTAMP:20260422T030216
CREATED:20250317T135058Z
LAST-MODIFIED:20251108T123528Z
UID:10004912-1828026000-1828029600@garthma.wales
SUMMARY:Evening Prayer - St John's Church\, Danescourt
DESCRIPTION:Please join us for Evening Prayer in our delightful Church. The service will be followed by refreshments.
URL:https://garthma.wales/events/evening-prayer-st-johns-church-danescourt-2/2027-12-05/
LOCATION:St John’s Church\, Danescourt\, Rachel Close\, Danescourt\, Cardiff\, CF5 2SH\, United Kingdom
ATTACH;FMTTYPE=image/jpeg:https://garthma.wales/wp-content/uploads/2023/07/St-Johns-Church-Danescourt.jpg
END:VEVENT
BEGIN:VEVENT
DTSTART;TZID=Europe/London:20271209T110000
DTEND;TZID=Europe/London:20271209T120000
DTSTAMP:20260422T030216
CREATED:20230724T170054Z
LAST-MODIFIED:20251106T203608Z
UID:10007242-1828350000-1828353600@garthma.wales
SUMMARY:Holy Eucharist - St. John's Church
DESCRIPTION:Holy Eucharist followed by coffee.
URL:https://garthma.wales/events/midweek-eucharist-4/2027-12-09/
LOCATION:St John’s Church\, Danescourt\, Rachel Close\, Danescourt\, Cardiff\, CF5 2SH\, United Kingdom
CATEGORIES:Mid Week Worship
ATTACH;FMTTYPE=image/jpeg:https://garthma.wales/wp-content/uploads/2023/07/St-Johns-Church-Danescourt.jpg
END:VEVENT
BEGIN:VEVENT
DTSTART;TZID=Europe/London:20271212T091500
DTEND;TZID=Europe/London:20271212T101500
DTSTAMP:20260422T030216
CREATED:20260115T154656Z
LAST-MODIFIED:20260115T154657Z
UID:10008830-1828602900-1828606500@garthma.wales
SUMMARY:Holy Eucharist with Sunday Club - St John's Church
DESCRIPTION:Please join us for our Holy Eucharist Service at St. John’s Church in Danescourt\, along with our Sunday Club.
URL:https://garthma.wales/events/sung-eucharist-with-sunday-club-2-2-2/2027-12-12/
LOCATION:St John’s Church\, Danescourt\, Rachel Close\, Danescourt\, Cardiff\, CF5 2SH\, United Kingdom
CATEGORIES:Sunday Worship
ATTACH;FMTTYPE=image/jpeg:https://garthma.wales/wp-content/uploads/2023/07/St-Johns-Church-Danescourt.jpg
END:VEVENT
BEGIN:VEVENT
DTSTART;TZID=Europe/London:20271212T170000
DTEND;TZID=Europe/London:20271212T180000
DTSTAMP:20260422T030216
CREATED:20250317T135058Z
LAST-MODIFIED:20251108T123528Z
UID:10004913-1828630800-1828634400@garthma.wales
SUMMARY:Evening Prayer - St John's Church\, Danescourt
DESCRIPTION:Please join us for Evening Prayer in our delightful Church. The service will be followed by refreshments.
URL:https://garthma.wales/events/evening-prayer-st-johns-church-danescourt-2/2027-12-12/
LOCATION:St John’s Church\, Danescourt\, Rachel Close\, Danescourt\, Cardiff\, CF5 2SH\, United Kingdom
ATTACH;FMTTYPE=image/jpeg:https://garthma.wales/wp-content/uploads/2023/07/St-Johns-Church-Danescourt.jpg
END:VEVENT
END:VCALENDAR