BEGIN:VCALENDAR
VERSION:2.0
PRODID:-//The Garth Ministry Area - ECPv6.15.20//NONSGML v1.0//EN
CALSCALE:GREGORIAN
METHOD:PUBLISH
X-ORIGINAL-URL:https://garthma.wales
X-WR-CALDESC:Events for The Garth Ministry Area
REFRESH-INTERVAL;VALUE=DURATION:PT1H
X-Robots-Tag:noindex
X-PUBLISHED-TTL:PT1H
BEGIN:VTIMEZONE
TZID:Europe/London
BEGIN:DAYLIGHT
TZOFFSETFROM:+0000
TZOFFSETTO:+0100
TZNAME:BST
DTSTART:20260329T010000
END:DAYLIGHT
BEGIN:STANDARD
TZOFFSETFROM:+0100
TZOFFSETTO:+0000
TZNAME:GMT
DTSTART:20261025T010000
END:STANDARD
BEGIN:DAYLIGHT
TZOFFSETFROM:+0000
TZOFFSETTO:+0100
TZNAME:BST
DTSTART:20270328T010000
END:DAYLIGHT
BEGIN:STANDARD
TZOFFSETFROM:+0100
TZOFFSETTO:+0000
TZNAME:GMT
DTSTART:20271031T010000
END:STANDARD
BEGIN:DAYLIGHT
TZOFFSETFROM:+0000
TZOFFSETTO:+0100
TZNAME:BST
DTSTART:20280326T010000
END:DAYLIGHT
BEGIN:STANDARD
TZOFFSETFROM:+0100
TZOFFSETTO:+0000
TZNAME:GMT
DTSTART:20281029T010000
END:STANDARD
END:VTIMEZONE
BEGIN:VEVENT
DTSTART;TZID=Europe/London:20270321T170000
DTEND;TZID=Europe/London:20270321T180000
DTSTAMP:20260419T172414
CREATED:20250317T135058Z
LAST-MODIFIED:20251108T123528Z
UID:10004875-1805648400-1805652000@garthma.wales
SUMMARY:Evening Prayer - St John's Church\, Danescourt
DESCRIPTION:Please join us for Evening Prayer in our delightful Church. The service will be followed by refreshments.
URL:https://garthma.wales/events/evening-prayer-st-johns-church-danescourt-2/2027-03-21/
LOCATION:St John’s Church\, Danescourt\, Rachel Close\, Danescourt\, Cardiff\, CF5 2SH\, United Kingdom
ATTACH;FMTTYPE=image/jpeg:https://garthma.wales/wp-content/uploads/2023/07/St-Johns-Church-Danescourt.jpg
END:VEVENT
BEGIN:VEVENT
DTSTART;TZID=Europe/London:20270325T110000
DTEND;TZID=Europe/London:20270325T120000
DTSTAMP:20260419T172414
CREATED:20230724T170054Z
LAST-MODIFIED:20251106T203608Z
UID:10007205-1805972400-1805976000@garthma.wales
SUMMARY:Holy Eucharist - St. John's Church
DESCRIPTION:Holy Eucharist followed by coffee.
URL:https://garthma.wales/events/midweek-eucharist-4/2027-03-25/
LOCATION:St John’s Church\, Danescourt\, Rachel Close\, Danescourt\, Cardiff\, CF5 2SH\, United Kingdom
CATEGORIES:Mid Week Worship
ATTACH;FMTTYPE=image/jpeg:https://garthma.wales/wp-content/uploads/2023/07/St-Johns-Church-Danescourt.jpg
END:VEVENT
BEGIN:VEVENT
DTSTART;TZID=Europe/London:20270328T091500
DTEND;TZID=Europe/London:20270328T101500
DTSTAMP:20260419T172414
CREATED:20260115T154656Z
LAST-MODIFIED:20260115T154657Z
UID:10008793-1806225300-1806228900@garthma.wales
SUMMARY:Holy Eucharist with Sunday Club - St John's Church
DESCRIPTION:Please join us for our Holy Eucharist Service at St. John’s Church in Danescourt\, along with our Sunday Club.
URL:https://garthma.wales/events/sung-eucharist-with-sunday-club-2-2-2/2027-03-28/
LOCATION:St John’s Church\, Danescourt\, Rachel Close\, Danescourt\, Cardiff\, CF5 2SH\, United Kingdom
CATEGORIES:Sunday Worship
ATTACH;FMTTYPE=image/jpeg:https://garthma.wales/wp-content/uploads/2023/07/St-Johns-Church-Danescourt.jpg
END:VEVENT
BEGIN:VEVENT
DTSTART;TZID=Europe/London:20270328T170000
DTEND;TZID=Europe/London:20270328T180000
DTSTAMP:20260419T172414
CREATED:20250317T135058Z
LAST-MODIFIED:20251108T123528Z
UID:10004876-1806253200-1806256800@garthma.wales
SUMMARY:Evening Prayer - St John's Church\, Danescourt
DESCRIPTION:Please join us for Evening Prayer in our delightful Church. The service will be followed by refreshments.
URL:https://garthma.wales/events/evening-prayer-st-johns-church-danescourt-2/2027-03-28/
LOCATION:St John’s Church\, Danescourt\, Rachel Close\, Danescourt\, Cardiff\, CF5 2SH\, United Kingdom
ATTACH;FMTTYPE=image/jpeg:https://garthma.wales/wp-content/uploads/2023/07/St-Johns-Church-Danescourt.jpg
END:VEVENT
BEGIN:VEVENT
DTSTART;TZID=Europe/London:20270401T110000
DTEND;TZID=Europe/London:20270401T120000
DTSTAMP:20260419T172414
CREATED:20230724T170054Z
LAST-MODIFIED:20251106T203608Z
UID:10007206-1806577200-1806580800@garthma.wales
SUMMARY:Holy Eucharist - St. John's Church
DESCRIPTION:Holy Eucharist followed by coffee.
URL:https://garthma.wales/events/midweek-eucharist-4/2027-04-01/
LOCATION:St John’s Church\, Danescourt\, Rachel Close\, Danescourt\, Cardiff\, CF5 2SH\, United Kingdom
CATEGORIES:Mid Week Worship
ATTACH;FMTTYPE=image/jpeg:https://garthma.wales/wp-content/uploads/2023/07/St-Johns-Church-Danescourt.jpg
END:VEVENT
BEGIN:VEVENT
DTSTART;TZID=Europe/London:20270404T091500
DTEND;TZID=Europe/London:20270404T101500
DTSTAMP:20260419T172414
CREATED:20260115T154656Z
LAST-MODIFIED:20260115T154657Z
UID:10008794-1806830100-1806833700@garthma.wales
SUMMARY:Holy Eucharist with Sunday Club - St John's Church
DESCRIPTION:Please join us for our Holy Eucharist Service at St. John’s Church in Danescourt\, along with our Sunday Club.
URL:https://garthma.wales/events/sung-eucharist-with-sunday-club-2-2-2/2027-04-04/
LOCATION:St John’s Church\, Danescourt\, Rachel Close\, Danescourt\, Cardiff\, CF5 2SH\, United Kingdom
CATEGORIES:Sunday Worship
ATTACH;FMTTYPE=image/jpeg:https://garthma.wales/wp-content/uploads/2023/07/St-Johns-Church-Danescourt.jpg
END:VEVENT
BEGIN:VEVENT
DTSTART;TZID=Europe/London:20270404T170000
DTEND;TZID=Europe/London:20270404T180000
DTSTAMP:20260419T172414
CREATED:20250317T135058Z
LAST-MODIFIED:20251108T123528Z
UID:10004877-1806858000-1806861600@garthma.wales
SUMMARY:Evening Prayer - St John's Church\, Danescourt
DESCRIPTION:Please join us for Evening Prayer in our delightful Church. The service will be followed by refreshments.
URL:https://garthma.wales/events/evening-prayer-st-johns-church-danescourt-2/2027-04-04/
LOCATION:St John’s Church\, Danescourt\, Rachel Close\, Danescourt\, Cardiff\, CF5 2SH\, United Kingdom
ATTACH;FMTTYPE=image/jpeg:https://garthma.wales/wp-content/uploads/2023/07/St-Johns-Church-Danescourt.jpg
END:VEVENT
BEGIN:VEVENT
DTSTART;TZID=Europe/London:20270408T110000
DTEND;TZID=Europe/London:20270408T120000
DTSTAMP:20260419T172414
CREATED:20230724T170054Z
LAST-MODIFIED:20251106T203608Z
UID:10007207-1807182000-1807185600@garthma.wales
SUMMARY:Holy Eucharist - St. John's Church
DESCRIPTION:Holy Eucharist followed by coffee.
URL:https://garthma.wales/events/midweek-eucharist-4/2027-04-08/
LOCATION:St John’s Church\, Danescourt\, Rachel Close\, Danescourt\, Cardiff\, CF5 2SH\, United Kingdom
CATEGORIES:Mid Week Worship
ATTACH;FMTTYPE=image/jpeg:https://garthma.wales/wp-content/uploads/2023/07/St-Johns-Church-Danescourt.jpg
END:VEVENT
BEGIN:VEVENT
DTSTART;TZID=Europe/London:20270411T091500
DTEND;TZID=Europe/London:20270411T101500
DTSTAMP:20260419T172414
CREATED:20260115T154656Z
LAST-MODIFIED:20260115T154657Z
UID:10008795-1807434900-1807438500@garthma.wales
SUMMARY:Holy Eucharist with Sunday Club - St John's Church
DESCRIPTION:Please join us for our Holy Eucharist Service at St. John’s Church in Danescourt\, along with our Sunday Club.
URL:https://garthma.wales/events/sung-eucharist-with-sunday-club-2-2-2/2027-04-11/
LOCATION:St John’s Church\, Danescourt\, Rachel Close\, Danescourt\, Cardiff\, CF5 2SH\, United Kingdom
CATEGORIES:Sunday Worship
ATTACH;FMTTYPE=image/jpeg:https://garthma.wales/wp-content/uploads/2023/07/St-Johns-Church-Danescourt.jpg
END:VEVENT
BEGIN:VEVENT
DTSTART;TZID=Europe/London:20270411T170000
DTEND;TZID=Europe/London:20270411T180000
DTSTAMP:20260419T172414
CREATED:20250317T135058Z
LAST-MODIFIED:20251108T123528Z
UID:10004878-1807462800-1807466400@garthma.wales
SUMMARY:Evening Prayer - St John's Church\, Danescourt
DESCRIPTION:Please join us for Evening Prayer in our delightful Church. The service will be followed by refreshments.
URL:https://garthma.wales/events/evening-prayer-st-johns-church-danescourt-2/2027-04-11/
LOCATION:St John’s Church\, Danescourt\, Rachel Close\, Danescourt\, Cardiff\, CF5 2SH\, United Kingdom
ATTACH;FMTTYPE=image/jpeg:https://garthma.wales/wp-content/uploads/2023/07/St-Johns-Church-Danescourt.jpg
END:VEVENT
BEGIN:VEVENT
DTSTART;TZID=Europe/London:20270415T110000
DTEND;TZID=Europe/London:20270415T120000
DTSTAMP:20260419T172414
CREATED:20230724T170054Z
LAST-MODIFIED:20251106T203608Z
UID:10007208-1807786800-1807790400@garthma.wales
SUMMARY:Holy Eucharist - St. John's Church
DESCRIPTION:Holy Eucharist followed by coffee.
URL:https://garthma.wales/events/midweek-eucharist-4/2027-04-15/
LOCATION:St John’s Church\, Danescourt\, Rachel Close\, Danescourt\, Cardiff\, CF5 2SH\, United Kingdom
CATEGORIES:Mid Week Worship
ATTACH;FMTTYPE=image/jpeg:https://garthma.wales/wp-content/uploads/2023/07/St-Johns-Church-Danescourt.jpg
END:VEVENT
BEGIN:VEVENT
DTSTART;TZID=Europe/London:20270418T091500
DTEND;TZID=Europe/London:20270418T101500
DTSTAMP:20260419T172414
CREATED:20260115T154656Z
LAST-MODIFIED:20260115T154657Z
UID:10008796-1808039700-1808043300@garthma.wales
SUMMARY:Holy Eucharist with Sunday Club - St John's Church
DESCRIPTION:Please join us for our Holy Eucharist Service at St. John’s Church in Danescourt\, along with our Sunday Club.
URL:https://garthma.wales/events/sung-eucharist-with-sunday-club-2-2-2/2027-04-18/
LOCATION:St John’s Church\, Danescourt\, Rachel Close\, Danescourt\, Cardiff\, CF5 2SH\, United Kingdom
CATEGORIES:Sunday Worship
ATTACH;FMTTYPE=image/jpeg:https://garthma.wales/wp-content/uploads/2023/07/St-Johns-Church-Danescourt.jpg
END:VEVENT
BEGIN:VEVENT
DTSTART;TZID=Europe/London:20270418T170000
DTEND;TZID=Europe/London:20270418T180000
DTSTAMP:20260419T172414
CREATED:20250317T135058Z
LAST-MODIFIED:20251108T123528Z
UID:10004879-1808067600-1808071200@garthma.wales
SUMMARY:Evening Prayer - St John's Church\, Danescourt
DESCRIPTION:Please join us for Evening Prayer in our delightful Church. The service will be followed by refreshments.
URL:https://garthma.wales/events/evening-prayer-st-johns-church-danescourt-2/2027-04-18/
LOCATION:St John’s Church\, Danescourt\, Rachel Close\, Danescourt\, Cardiff\, CF5 2SH\, United Kingdom
ATTACH;FMTTYPE=image/jpeg:https://garthma.wales/wp-content/uploads/2023/07/St-Johns-Church-Danescourt.jpg
END:VEVENT
BEGIN:VEVENT
DTSTART;TZID=Europe/London:20270422T110000
DTEND;TZID=Europe/London:20270422T120000
DTSTAMP:20260419T172414
CREATED:20230724T170054Z
LAST-MODIFIED:20251106T203608Z
UID:10007209-1808391600-1808395200@garthma.wales
SUMMARY:Holy Eucharist - St. John's Church
DESCRIPTION:Holy Eucharist followed by coffee.
URL:https://garthma.wales/events/midweek-eucharist-4/2027-04-22/
LOCATION:St John’s Church\, Danescourt\, Rachel Close\, Danescourt\, Cardiff\, CF5 2SH\, United Kingdom
CATEGORIES:Mid Week Worship
ATTACH;FMTTYPE=image/jpeg:https://garthma.wales/wp-content/uploads/2023/07/St-Johns-Church-Danescourt.jpg
END:VEVENT
BEGIN:VEVENT
DTSTART;TZID=Europe/London:20270425T091500
DTEND;TZID=Europe/London:20270425T101500
DTSTAMP:20260419T172414
CREATED:20260115T154656Z
LAST-MODIFIED:20260115T154657Z
UID:10008797-1808644500-1808648100@garthma.wales
SUMMARY:Holy Eucharist with Sunday Club - St John's Church
DESCRIPTION:Please join us for our Holy Eucharist Service at St. John’s Church in Danescourt\, along with our Sunday Club.
URL:https://garthma.wales/events/sung-eucharist-with-sunday-club-2-2-2/2027-04-25/
LOCATION:St John’s Church\, Danescourt\, Rachel Close\, Danescourt\, Cardiff\, CF5 2SH\, United Kingdom
CATEGORIES:Sunday Worship
ATTACH;FMTTYPE=image/jpeg:https://garthma.wales/wp-content/uploads/2023/07/St-Johns-Church-Danescourt.jpg
END:VEVENT
BEGIN:VEVENT
DTSTART;TZID=Europe/London:20270425T170000
DTEND;TZID=Europe/London:20270425T180000
DTSTAMP:20260419T172414
CREATED:20250317T135058Z
LAST-MODIFIED:20251108T123528Z
UID:10004880-1808672400-1808676000@garthma.wales
SUMMARY:Evening Prayer - St John's Church\, Danescourt
DESCRIPTION:Please join us for Evening Prayer in our delightful Church. The service will be followed by refreshments.
URL:https://garthma.wales/events/evening-prayer-st-johns-church-danescourt-2/2027-04-25/
LOCATION:St John’s Church\, Danescourt\, Rachel Close\, Danescourt\, Cardiff\, CF5 2SH\, United Kingdom
ATTACH;FMTTYPE=image/jpeg:https://garthma.wales/wp-content/uploads/2023/07/St-Johns-Church-Danescourt.jpg
END:VEVENT
BEGIN:VEVENT
DTSTART;TZID=Europe/London:20270429T110000
DTEND;TZID=Europe/London:20270429T120000
DTSTAMP:20260419T172414
CREATED:20230724T170054Z
LAST-MODIFIED:20251106T203608Z
UID:10007210-1808996400-1809000000@garthma.wales
SUMMARY:Holy Eucharist - St. John's Church
DESCRIPTION:Holy Eucharist followed by coffee.
URL:https://garthma.wales/events/midweek-eucharist-4/2027-04-29/
LOCATION:St John’s Church\, Danescourt\, Rachel Close\, Danescourt\, Cardiff\, CF5 2SH\, United Kingdom
CATEGORIES:Mid Week Worship
ATTACH;FMTTYPE=image/jpeg:https://garthma.wales/wp-content/uploads/2023/07/St-Johns-Church-Danescourt.jpg
END:VEVENT
BEGIN:VEVENT
DTSTART;TZID=Europe/London:20270502T091500
DTEND;TZID=Europe/London:20270502T101500
DTSTAMP:20260419T172414
CREATED:20260115T154656Z
LAST-MODIFIED:20260115T154657Z
UID:10008798-1809249300-1809252900@garthma.wales
SUMMARY:Holy Eucharist with Sunday Club - St John's Church
DESCRIPTION:Please join us for our Holy Eucharist Service at St. John’s Church in Danescourt\, along with our Sunday Club.
URL:https://garthma.wales/events/sung-eucharist-with-sunday-club-2-2-2/2027-05-02/
LOCATION:St John’s Church\, Danescourt\, Rachel Close\, Danescourt\, Cardiff\, CF5 2SH\, United Kingdom
CATEGORIES:Sunday Worship
ATTACH;FMTTYPE=image/jpeg:https://garthma.wales/wp-content/uploads/2023/07/St-Johns-Church-Danescourt.jpg
END:VEVENT
BEGIN:VEVENT
DTSTART;TZID=Europe/London:20270502T170000
DTEND;TZID=Europe/London:20270502T180000
DTSTAMP:20260419T172414
CREATED:20250317T135058Z
LAST-MODIFIED:20251108T123528Z
UID:10004881-1809277200-1809280800@garthma.wales
SUMMARY:Evening Prayer - St John's Church\, Danescourt
DESCRIPTION:Please join us for Evening Prayer in our delightful Church. The service will be followed by refreshments.
URL:https://garthma.wales/events/evening-prayer-st-johns-church-danescourt-2/2027-05-02/
LOCATION:St John’s Church\, Danescourt\, Rachel Close\, Danescourt\, Cardiff\, CF5 2SH\, United Kingdom
ATTACH;FMTTYPE=image/jpeg:https://garthma.wales/wp-content/uploads/2023/07/St-Johns-Church-Danescourt.jpg
END:VEVENT
BEGIN:VEVENT
DTSTART;TZID=Europe/London:20270506T110000
DTEND;TZID=Europe/London:20270506T120000
DTSTAMP:20260419T172414
CREATED:20230724T170054Z
LAST-MODIFIED:20251106T203608Z
UID:10007211-1809601200-1809604800@garthma.wales
SUMMARY:Holy Eucharist - St. John's Church
DESCRIPTION:Holy Eucharist followed by coffee.
URL:https://garthma.wales/events/midweek-eucharist-4/2027-05-06/
LOCATION:St John’s Church\, Danescourt\, Rachel Close\, Danescourt\, Cardiff\, CF5 2SH\, United Kingdom
CATEGORIES:Mid Week Worship
ATTACH;FMTTYPE=image/jpeg:https://garthma.wales/wp-content/uploads/2023/07/St-Johns-Church-Danescourt.jpg
END:VEVENT
BEGIN:VEVENT
DTSTART;TZID=Europe/London:20270509T091500
DTEND;TZID=Europe/London:20270509T101500
DTSTAMP:20260419T172414
CREATED:20260115T154656Z
LAST-MODIFIED:20260115T154657Z
UID:10008799-1809854100-1809857700@garthma.wales
SUMMARY:Holy Eucharist with Sunday Club - St John's Church
DESCRIPTION:Please join us for our Holy Eucharist Service at St. John’s Church in Danescourt\, along with our Sunday Club.
URL:https://garthma.wales/events/sung-eucharist-with-sunday-club-2-2-2/2027-05-09/
LOCATION:St John’s Church\, Danescourt\, Rachel Close\, Danescourt\, Cardiff\, CF5 2SH\, United Kingdom
CATEGORIES:Sunday Worship
ATTACH;FMTTYPE=image/jpeg:https://garthma.wales/wp-content/uploads/2023/07/St-Johns-Church-Danescourt.jpg
END:VEVENT
BEGIN:VEVENT
DTSTART;TZID=Europe/London:20270509T170000
DTEND;TZID=Europe/London:20270509T180000
DTSTAMP:20260419T172414
CREATED:20250317T135058Z
LAST-MODIFIED:20251108T123528Z
UID:10004882-1809882000-1809885600@garthma.wales
SUMMARY:Evening Prayer - St John's Church\, Danescourt
DESCRIPTION:Please join us for Evening Prayer in our delightful Church. The service will be followed by refreshments.
URL:https://garthma.wales/events/evening-prayer-st-johns-church-danescourt-2/2027-05-09/
LOCATION:St John’s Church\, Danescourt\, Rachel Close\, Danescourt\, Cardiff\, CF5 2SH\, United Kingdom
ATTACH;FMTTYPE=image/jpeg:https://garthma.wales/wp-content/uploads/2023/07/St-Johns-Church-Danescourt.jpg
END:VEVENT
BEGIN:VEVENT
DTSTART;TZID=Europe/London:20270513T110000
DTEND;TZID=Europe/London:20270513T120000
DTSTAMP:20260419T172414
CREATED:20230724T170054Z
LAST-MODIFIED:20251106T203608Z
UID:10007212-1810206000-1810209600@garthma.wales
SUMMARY:Holy Eucharist - St. John's Church
DESCRIPTION:Holy Eucharist followed by coffee.
URL:https://garthma.wales/events/midweek-eucharist-4/2027-05-13/
LOCATION:St John’s Church\, Danescourt\, Rachel Close\, Danescourt\, Cardiff\, CF5 2SH\, United Kingdom
CATEGORIES:Mid Week Worship
ATTACH;FMTTYPE=image/jpeg:https://garthma.wales/wp-content/uploads/2023/07/St-Johns-Church-Danescourt.jpg
END:VEVENT
BEGIN:VEVENT
DTSTART;TZID=Europe/London:20270516T091500
DTEND;TZID=Europe/London:20270516T101500
DTSTAMP:20260419T172414
CREATED:20260115T154656Z
LAST-MODIFIED:20260115T154657Z
UID:10008800-1810458900-1810462500@garthma.wales
SUMMARY:Holy Eucharist with Sunday Club - St John's Church
DESCRIPTION:Please join us for our Holy Eucharist Service at St. John’s Church in Danescourt\, along with our Sunday Club.
URL:https://garthma.wales/events/sung-eucharist-with-sunday-club-2-2-2/2027-05-16/
LOCATION:St John’s Church\, Danescourt\, Rachel Close\, Danescourt\, Cardiff\, CF5 2SH\, United Kingdom
CATEGORIES:Sunday Worship
ATTACH;FMTTYPE=image/jpeg:https://garthma.wales/wp-content/uploads/2023/07/St-Johns-Church-Danescourt.jpg
END:VEVENT
BEGIN:VEVENT
DTSTART;TZID=Europe/London:20270516T170000
DTEND;TZID=Europe/London:20270516T180000
DTSTAMP:20260419T172414
CREATED:20250317T135058Z
LAST-MODIFIED:20251108T123528Z
UID:10004883-1810486800-1810490400@garthma.wales
SUMMARY:Evening Prayer - St John's Church\, Danescourt
DESCRIPTION:Please join us for Evening Prayer in our delightful Church. The service will be followed by refreshments.
URL:https://garthma.wales/events/evening-prayer-st-johns-church-danescourt-2/2027-05-16/
LOCATION:St John’s Church\, Danescourt\, Rachel Close\, Danescourt\, Cardiff\, CF5 2SH\, United Kingdom
ATTACH;FMTTYPE=image/jpeg:https://garthma.wales/wp-content/uploads/2023/07/St-Johns-Church-Danescourt.jpg
END:VEVENT
BEGIN:VEVENT
DTSTART;TZID=Europe/London:20270520T110000
DTEND;TZID=Europe/London:20270520T120000
DTSTAMP:20260419T172414
CREATED:20230724T170054Z
LAST-MODIFIED:20251106T203608Z
UID:10007213-1810810800-1810814400@garthma.wales
SUMMARY:Holy Eucharist - St. John's Church
DESCRIPTION:Holy Eucharist followed by coffee.
URL:https://garthma.wales/events/midweek-eucharist-4/2027-05-20/
LOCATION:St John’s Church\, Danescourt\, Rachel Close\, Danescourt\, Cardiff\, CF5 2SH\, United Kingdom
CATEGORIES:Mid Week Worship
ATTACH;FMTTYPE=image/jpeg:https://garthma.wales/wp-content/uploads/2023/07/St-Johns-Church-Danescourt.jpg
END:VEVENT
BEGIN:VEVENT
DTSTART;TZID=Europe/London:20270523T091500
DTEND;TZID=Europe/London:20270523T101500
DTSTAMP:20260419T172414
CREATED:20260115T154656Z
LAST-MODIFIED:20260115T154657Z
UID:10008801-1811063700-1811067300@garthma.wales
SUMMARY:Holy Eucharist with Sunday Club - St John's Church
DESCRIPTION:Please join us for our Holy Eucharist Service at St. John’s Church in Danescourt\, along with our Sunday Club.
URL:https://garthma.wales/events/sung-eucharist-with-sunday-club-2-2-2/2027-05-23/
LOCATION:St John’s Church\, Danescourt\, Rachel Close\, Danescourt\, Cardiff\, CF5 2SH\, United Kingdom
CATEGORIES:Sunday Worship
ATTACH;FMTTYPE=image/jpeg:https://garthma.wales/wp-content/uploads/2023/07/St-Johns-Church-Danescourt.jpg
END:VEVENT
BEGIN:VEVENT
DTSTART;TZID=Europe/London:20270523T170000
DTEND;TZID=Europe/London:20270523T180000
DTSTAMP:20260419T172414
CREATED:20250317T135058Z
LAST-MODIFIED:20251108T123528Z
UID:10004884-1811091600-1811095200@garthma.wales
SUMMARY:Evening Prayer - St John's Church\, Danescourt
DESCRIPTION:Please join us for Evening Prayer in our delightful Church. The service will be followed by refreshments.
URL:https://garthma.wales/events/evening-prayer-st-johns-church-danescourt-2/2027-05-23/
LOCATION:St John’s Church\, Danescourt\, Rachel Close\, Danescourt\, Cardiff\, CF5 2SH\, United Kingdom
ATTACH;FMTTYPE=image/jpeg:https://garthma.wales/wp-content/uploads/2023/07/St-Johns-Church-Danescourt.jpg
END:VEVENT
BEGIN:VEVENT
DTSTART;TZID=Europe/London:20270527T110000
DTEND;TZID=Europe/London:20270527T120000
DTSTAMP:20260419T172414
CREATED:20230724T170054Z
LAST-MODIFIED:20251106T203608Z
UID:10007214-1811415600-1811419200@garthma.wales
SUMMARY:Holy Eucharist - St. John's Church
DESCRIPTION:Holy Eucharist followed by coffee.
URL:https://garthma.wales/events/midweek-eucharist-4/2027-05-27/
LOCATION:St John’s Church\, Danescourt\, Rachel Close\, Danescourt\, Cardiff\, CF5 2SH\, United Kingdom
CATEGORIES:Mid Week Worship
ATTACH;FMTTYPE=image/jpeg:https://garthma.wales/wp-content/uploads/2023/07/St-Johns-Church-Danescourt.jpg
END:VEVENT
BEGIN:VEVENT
DTSTART;TZID=Europe/London:20270530T091500
DTEND;TZID=Europe/London:20270530T101500
DTSTAMP:20260419T172414
CREATED:20260115T154656Z
LAST-MODIFIED:20260115T154657Z
UID:10008802-1811668500-1811672100@garthma.wales
SUMMARY:Holy Eucharist with Sunday Club - St John's Church
DESCRIPTION:Please join us for our Holy Eucharist Service at St. John’s Church in Danescourt\, along with our Sunday Club.
URL:https://garthma.wales/events/sung-eucharist-with-sunday-club-2-2-2/2027-05-30/
LOCATION:St John’s Church\, Danescourt\, Rachel Close\, Danescourt\, Cardiff\, CF5 2SH\, United Kingdom
CATEGORIES:Sunday Worship
ATTACH;FMTTYPE=image/jpeg:https://garthma.wales/wp-content/uploads/2023/07/St-Johns-Church-Danescourt.jpg
END:VEVENT
END:VCALENDAR