BEGIN:VCALENDAR
VERSION:2.0
PRODID:-//The Garth Ministry Area - ECPv6.15.20//NONSGML v1.0//EN
CALSCALE:GREGORIAN
METHOD:PUBLISH
X-ORIGINAL-URL:https://garthma.wales
X-WR-CALDESC:Events for The Garth Ministry Area
REFRESH-INTERVAL;VALUE=DURATION:PT1H
X-Robots-Tag:noindex
X-PUBLISHED-TTL:PT1H
BEGIN:VTIMEZONE
TZID:Europe/London
BEGIN:DAYLIGHT
TZOFFSETFROM:+0000
TZOFFSETTO:+0100
TZNAME:BST
DTSTART:20220327T010000
END:DAYLIGHT
BEGIN:STANDARD
TZOFFSETFROM:+0100
TZOFFSETTO:+0000
TZNAME:GMT
DTSTART:20221030T010000
END:STANDARD
BEGIN:DAYLIGHT
TZOFFSETFROM:+0000
TZOFFSETTO:+0100
TZNAME:BST
DTSTART:20230326T010000
END:DAYLIGHT
BEGIN:STANDARD
TZOFFSETFROM:+0100
TZOFFSETTO:+0000
TZNAME:GMT
DTSTART:20231029T010000
END:STANDARD
BEGIN:DAYLIGHT
TZOFFSETFROM:+0000
TZOFFSETTO:+0100
TZNAME:BST
DTSTART:20240331T010000
END:DAYLIGHT
BEGIN:STANDARD
TZOFFSETFROM:+0100
TZOFFSETTO:+0000
TZNAME:GMT
DTSTART:20241027T010000
END:STANDARD
END:VTIMEZONE
BEGIN:VEVENT
DTSTART;TZID=Europe/London:20230924T093000
DTEND;TZID=Europe/London:20230924T103000
DTSTAMP:20260422T051421
CREATED:20230829T142929Z
LAST-MODIFIED:20251108T122643Z
UID:10006566-1695547800-1695551400@garthma.wales
SUMMARY:Holy Eucharist - St. Ellteyrn's Church
DESCRIPTION:Holy Eucharist Service is held at St Ellteyrn’s Church\, Capel Llanilltern.  Although we have no organist we make a joyful sound as we sing our way through the Eucharist Service together. \nPlease note on the first Sunday of the month there is no service in St. Ellteyrn’s Church\, as there will be the Informal All Age Service which happens at Creigiau Church Hall at 10.30am
URL:https://garthma.wales/events/holy-eucharist-st-ellteyrns-church/2023-09-24/
LOCATION:St Ellteyrn’s Church\, Capel Llanilltern\, Capel Llanilltern\, Cardiff\, CF5 6JR\, United Kingdom
CATEGORIES:Sunday Worship
ATTACH;FMTTYPE=image/jpeg:https://garthma.wales/wp-content/uploads/2023/01/s13-rotated.jpg
END:VEVENT
BEGIN:VEVENT
DTSTART;TZID=Europe/London:20230924T093000
DTEND;TZID=Europe/London:20230924T103000
DTSTAMP:20260422T051422
CREATED:20230813T145900Z
LAST-MODIFIED:20231211T112139Z
UID:10000841-1695547800-1695551400@garthma.wales
SUMMARY:Sung Eucharist - St. Ellteyrn's Church
DESCRIPTION:Welcome to our Holy Eucharist Service at St. Ellteyrn’s Church\, Capel Llanilltern. \nAlthough we have no organist we make a joyful sound as we sing our way through the Eucharist Service together.
URL:https://garthma.wales/events/sunday-eucharist-4-2/2023-09-24/
LOCATION:St Ellteyrn’s Church\, Capel Llanilltern\, Capel Llanilltern\, Cardiff\, CF5 6JR\, United Kingdom
CATEGORIES:Sunday Worship
ATTACH;FMTTYPE=image/jpeg:https://garthma.wales/wp-content/uploads/2023/01/s13-rotated.jpg
END:VEVENT
BEGIN:VEVENT
DTSTART;TZID=Europe/London:20230918T170000
DTEND;TZID=Europe/London:20230918T180000
DTSTAMP:20260422T051422
CREATED:20230831T144205Z
LAST-MODIFIED:20240306T200419Z
UID:10004317-1695056400-1695060000@garthma.wales
SUMMARY:Quiz Night (by Zoom)
DESCRIPTION:This is a reminder about our quiz this evening at 5pm.  It is held every Monday evening and is a a fun quiz\, there are no prizes for being first or last! \nLasting about an hour there are usually about six rounds on a wide variety of topics. If you wish to have more details on this event\, please contact the Quizmaster. We look forward to seeing you \n  \n 
URL:https://garthma.wales/events/quiz-night-by-zoom/2023-09-18/
LOCATION:St Catwg’s Church\, Pentyrch\, Church Road\, Pentyrch\, CF15 9QF\, United Kingdom
ATTACH;FMTTYPE=image/png:https://garthma.wales/wp-content/uploads/2023/08/Quiz-NIght-Logo-e1696674324514.png
ORGANIZER;CN="Zoom Quizmaster":MAILTO:rees.pentyrch@hotmail.co.uk
END:VEVENT
BEGIN:VEVENT
DTSTART;TZID=Europe/London:20230917T093000
DTEND;TZID=Europe/London:20230917T103000
DTSTAMP:20260422T051422
CREATED:20230829T142929Z
LAST-MODIFIED:20251108T122643Z
UID:10006565-1694943000-1694946600@garthma.wales
SUMMARY:Holy Eucharist - St. Ellteyrn's Church
DESCRIPTION:Holy Eucharist Service is held at St Ellteyrn’s Church\, Capel Llanilltern.  Although we have no organist we make a joyful sound as we sing our way through the Eucharist Service together. \nPlease note on the first Sunday of the month there is no service in St. Ellteyrn’s Church\, as there will be the Informal All Age Service which happens at Creigiau Church Hall at 10.30am
URL:https://garthma.wales/events/holy-eucharist-st-ellteyrns-church/2023-09-17/
LOCATION:St Ellteyrn’s Church\, Capel Llanilltern\, Capel Llanilltern\, Cardiff\, CF5 6JR\, United Kingdom
CATEGORIES:Sunday Worship
ATTACH;FMTTYPE=image/jpeg:https://garthma.wales/wp-content/uploads/2023/01/s13-rotated.jpg
END:VEVENT
BEGIN:VEVENT
DTSTART;TZID=Europe/London:20230917T093000
DTEND;TZID=Europe/London:20230917T103000
DTSTAMP:20260422T051422
CREATED:20230813T145900Z
LAST-MODIFIED:20231211T112139Z
UID:10000840-1694943000-1694946600@garthma.wales
SUMMARY:Sung Eucharist - St. Ellteyrn's Church
DESCRIPTION:Welcome to our Holy Eucharist Service at St. Ellteyrn’s Church\, Capel Llanilltern. \nAlthough we have no organist we make a joyful sound as we sing our way through the Eucharist Service together.
URL:https://garthma.wales/events/sunday-eucharist-4-2/2023-09-17/
LOCATION:St Ellteyrn’s Church\, Capel Llanilltern\, Capel Llanilltern\, Cardiff\, CF5 6JR\, United Kingdom
CATEGORIES:Sunday Worship
ATTACH;FMTTYPE=image/jpeg:https://garthma.wales/wp-content/uploads/2023/01/s13-rotated.jpg
END:VEVENT
BEGIN:VEVENT
DTSTART;TZID=Europe/London:20230911T170000
DTEND;TZID=Europe/London:20230911T180000
DTSTAMP:20260422T051422
CREATED:20230831T144205Z
LAST-MODIFIED:20240306T200419Z
UID:10004316-1694451600-1694455200@garthma.wales
SUMMARY:Quiz Night (by Zoom)
DESCRIPTION:This is a reminder about our quiz this evening at 5pm.  It is held every Monday evening and is a a fun quiz\, there are no prizes for being first or last! \nLasting about an hour there are usually about six rounds on a wide variety of topics. If you wish to have more details on this event\, please contact the Quizmaster. We look forward to seeing you \n  \n 
URL:https://garthma.wales/events/quiz-night-by-zoom/2023-09-11/
LOCATION:St Catwg’s Church\, Pentyrch\, Church Road\, Pentyrch\, CF15 9QF\, United Kingdom
ATTACH;FMTTYPE=image/png:https://garthma.wales/wp-content/uploads/2023/08/Quiz-NIght-Logo-e1696674324514.png
ORGANIZER;CN="Zoom Quizmaster":MAILTO:rees.pentyrch@hotmail.co.uk
END:VEVENT
BEGIN:VEVENT
DTSTART;TZID=Europe/London:20230910T093000
DTEND;TZID=Europe/London:20230910T103000
DTSTAMP:20260422T051422
CREATED:20230829T142929Z
LAST-MODIFIED:20251108T122643Z
UID:10006564-1694338200-1694341800@garthma.wales
SUMMARY:Holy Eucharist - St. Ellteyrn's Church
DESCRIPTION:Holy Eucharist Service is held at St Ellteyrn’s Church\, Capel Llanilltern.  Although we have no organist we make a joyful sound as we sing our way through the Eucharist Service together. \nPlease note on the first Sunday of the month there is no service in St. Ellteyrn’s Church\, as there will be the Informal All Age Service which happens at Creigiau Church Hall at 10.30am
URL:https://garthma.wales/events/holy-eucharist-st-ellteyrns-church/2023-09-10/
LOCATION:St Ellteyrn’s Church\, Capel Llanilltern\, Capel Llanilltern\, Cardiff\, CF5 6JR\, United Kingdom
CATEGORIES:Sunday Worship
ATTACH;FMTTYPE=image/jpeg:https://garthma.wales/wp-content/uploads/2023/01/s13-rotated.jpg
END:VEVENT
BEGIN:VEVENT
DTSTART;TZID=Europe/London:20230910T093000
DTEND;TZID=Europe/London:20230910T103000
DTSTAMP:20260422T051422
CREATED:20230813T145900Z
LAST-MODIFIED:20231211T112139Z
UID:10000839-1694338200-1694341800@garthma.wales
SUMMARY:Sung Eucharist - St. Ellteyrn's Church
DESCRIPTION:Welcome to our Holy Eucharist Service at St. Ellteyrn’s Church\, Capel Llanilltern. \nAlthough we have no organist we make a joyful sound as we sing our way through the Eucharist Service together.
URL:https://garthma.wales/events/sunday-eucharist-4-2/2023-09-10/
LOCATION:St Ellteyrn’s Church\, Capel Llanilltern\, Capel Llanilltern\, Cardiff\, CF5 6JR\, United Kingdom
CATEGORIES:Sunday Worship
ATTACH;FMTTYPE=image/jpeg:https://garthma.wales/wp-content/uploads/2023/01/s13-rotated.jpg
END:VEVENT
BEGIN:VEVENT
DTSTART;TZID=Europe/London:20230904T170000
DTEND;TZID=Europe/London:20230904T180000
DTSTAMP:20260422T051422
CREATED:20230831T144205Z
LAST-MODIFIED:20240306T200419Z
UID:10003626-1693846800-1693850400@garthma.wales
SUMMARY:Quiz Night (by Zoom)
DESCRIPTION:This is a reminder about our quiz this evening at 5pm.  It is held every Monday evening and is a a fun quiz\, there are no prizes for being first or last! \nLasting about an hour there are usually about six rounds on a wide variety of topics. If you wish to have more details on this event\, please contact the Quizmaster. We look forward to seeing you \n  \n 
URL:https://garthma.wales/events/quiz-night-by-zoom/2023-09-04/
LOCATION:St Catwg’s Church\, Pentyrch\, Church Road\, Pentyrch\, CF15 9QF\, United Kingdom
ATTACH;FMTTYPE=image/png:https://garthma.wales/wp-content/uploads/2023/08/Quiz-NIght-Logo-e1696674324514.png
ORGANIZER;CN="Zoom Quizmaster":MAILTO:rees.pentyrch@hotmail.co.uk
END:VEVENT
BEGIN:VEVENT
DTSTART;TZID=Europe/London:20230903T093000
DTEND;TZID=Europe/London:20230903T103000
DTSTAMP:20260422T051422
CREATED:20230829T142929Z
LAST-MODIFIED:20251108T122643Z
UID:10006563-1693733400-1693737000@garthma.wales
SUMMARY:Holy Eucharist - St. Ellteyrn's Church
DESCRIPTION:Holy Eucharist Service is held at St Ellteyrn’s Church\, Capel Llanilltern.  Although we have no organist we make a joyful sound as we sing our way through the Eucharist Service together. \nPlease note on the first Sunday of the month there is no service in St. Ellteyrn’s Church\, as there will be the Informal All Age Service which happens at Creigiau Church Hall at 10.30am
URL:https://garthma.wales/events/holy-eucharist-st-ellteyrns-church/2023-09-03/
LOCATION:St Ellteyrn’s Church\, Capel Llanilltern\, Capel Llanilltern\, Cardiff\, CF5 6JR\, United Kingdom
CATEGORIES:Sunday Worship
ATTACH;FMTTYPE=image/jpeg:https://garthma.wales/wp-content/uploads/2023/01/s13-rotated.jpg
END:VEVENT
BEGIN:VEVENT
DTSTART;TZID=Europe/London:20230827T093000
DTEND;TZID=Europe/London:20230827T103000
DTSTAMP:20260422T051422
CREATED:20230813T145900Z
LAST-MODIFIED:20231211T112139Z
UID:10000837-1693128600-1693132200@garthma.wales
SUMMARY:Sung Eucharist - St. Ellteyrn's Church
DESCRIPTION:Welcome to our Holy Eucharist Service at St. Ellteyrn’s Church\, Capel Llanilltern. \nAlthough we have no organist we make a joyful sound as we sing our way through the Eucharist Service together.
URL:https://garthma.wales/events/sunday-eucharist-4-2/2023-08-27/
LOCATION:St Ellteyrn’s Church\, Capel Llanilltern\, Capel Llanilltern\, Cardiff\, CF5 6JR\, United Kingdom
CATEGORIES:Sunday Worship
ATTACH;FMTTYPE=image/jpeg:https://garthma.wales/wp-content/uploads/2023/01/s13-rotated.jpg
END:VEVENT
BEGIN:VEVENT
DTSTART;TZID=Europe/London:20230820T093000
DTEND;TZID=Europe/London:20230820T103000
DTSTAMP:20260422T051422
CREATED:20230813T145900Z
LAST-MODIFIED:20231211T112139Z
UID:10000836-1692523800-1692527400@garthma.wales
SUMMARY:Sung Eucharist - St. Ellteyrn's Church
DESCRIPTION:Welcome to our Holy Eucharist Service at St. Ellteyrn’s Church\, Capel Llanilltern. \nAlthough we have no organist we make a joyful sound as we sing our way through the Eucharist Service together.
URL:https://garthma.wales/events/sunday-eucharist-4-2/2023-08-20/
LOCATION:St Ellteyrn’s Church\, Capel Llanilltern\, Capel Llanilltern\, Cardiff\, CF5 6JR\, United Kingdom
CATEGORIES:Sunday Worship
ATTACH;FMTTYPE=image/jpeg:https://garthma.wales/wp-content/uploads/2023/01/s13-rotated.jpg
END:VEVENT
BEGIN:VEVENT
DTSTART;TZID=Europe/London:20230813T093000
DTEND;TZID=Europe/London:20230813T103000
DTSTAMP:20260422T051422
CREATED:20230130T181513Z
LAST-MODIFIED:20230829T143927Z
UID:10000835-1691919000-1691922600@garthma.wales
SUMMARY:Sung Eucharist - St. Ellteyrn's Church
DESCRIPTION:Welcome to our Holy Eucharist Service at St. Ellteyrn’s Church\, Capel Llanilltern. \nAlthough we have no organist we make a joyful sound as we sing our way through the Eucharist Service together
URL:https://garthma.wales/events/sunday-eucharist-4/2023-08-13/
LOCATION:St Ellteyrn’s Church\, Capel Llanilltern\, Capel Llanilltern\, Cardiff\, CF5 6JR\, United Kingdom
CATEGORIES:Sunday Worship
ATTACH;FMTTYPE=image/jpeg:https://garthma.wales/wp-content/uploads/2023/01/s13-rotated.jpg
END:VEVENT
BEGIN:VEVENT
DTSTART;TZID=Europe/London:20230806T093000
DTEND;TZID=Europe/London:20230806T103000
DTSTAMP:20260422T051422
CREATED:20230130T181513Z
LAST-MODIFIED:20230829T143927Z
UID:10000834-1691314200-1691317800@garthma.wales
SUMMARY:Sung Eucharist - St. Ellteyrn's Church
DESCRIPTION:Welcome to our Holy Eucharist Service at St. Ellteyrn’s Church\, Capel Llanilltern. \nAlthough we have no organist we make a joyful sound as we sing our way through the Eucharist Service together
URL:https://garthma.wales/events/sunday-eucharist-4/2023-08-06/
LOCATION:St Ellteyrn’s Church\, Capel Llanilltern\, Capel Llanilltern\, Cardiff\, CF5 6JR\, United Kingdom
CATEGORIES:Sunday Worship
ATTACH;FMTTYPE=image/jpeg:https://garthma.wales/wp-content/uploads/2023/01/s13-rotated.jpg
END:VEVENT
BEGIN:VEVENT
DTSTART;TZID=Europe/London:20230730T093000
DTEND;TZID=Europe/London:20230730T103000
DTSTAMP:20260422T051422
CREATED:20230130T181513Z
LAST-MODIFIED:20230829T143927Z
UID:10000833-1690709400-1690713000@garthma.wales
SUMMARY:Sung Eucharist - St. Ellteyrn's Church
DESCRIPTION:Welcome to our Holy Eucharist Service at St. Ellteyrn’s Church\, Capel Llanilltern. \nAlthough we have no organist we make a joyful sound as we sing our way through the Eucharist Service together
URL:https://garthma.wales/events/sunday-eucharist-4/2023-07-30/
LOCATION:St Ellteyrn’s Church\, Capel Llanilltern\, Capel Llanilltern\, Cardiff\, CF5 6JR\, United Kingdom
CATEGORIES:Sunday Worship
ATTACH;FMTTYPE=image/jpeg:https://garthma.wales/wp-content/uploads/2023/01/s13-rotated.jpg
END:VEVENT
BEGIN:VEVENT
DTSTART;TZID=Europe/London:20230723T093000
DTEND;TZID=Europe/London:20230723T103000
DTSTAMP:20260422T051422
CREATED:20230130T181513Z
LAST-MODIFIED:20230829T143927Z
UID:10000832-1690104600-1690108200@garthma.wales
SUMMARY:Sung Eucharist - St. Ellteyrn's Church
DESCRIPTION:Welcome to our Holy Eucharist Service at St. Ellteyrn’s Church\, Capel Llanilltern. \nAlthough we have no organist we make a joyful sound as we sing our way through the Eucharist Service together
URL:https://garthma.wales/events/sunday-eucharist-4/2023-07-23/
LOCATION:St Ellteyrn’s Church\, Capel Llanilltern\, Capel Llanilltern\, Cardiff\, CF5 6JR\, United Kingdom
CATEGORIES:Sunday Worship
ATTACH;FMTTYPE=image/jpeg:https://garthma.wales/wp-content/uploads/2023/01/s13-rotated.jpg
END:VEVENT
BEGIN:VEVENT
DTSTART;TZID=Europe/London:20230716T093000
DTEND;TZID=Europe/London:20230716T103000
DTSTAMP:20260422T051422
CREATED:20230130T181513Z
LAST-MODIFIED:20230829T143927Z
UID:10000831-1689499800-1689503400@garthma.wales
SUMMARY:Sung Eucharist - St. Ellteyrn's Church
DESCRIPTION:Welcome to our Holy Eucharist Service at St. Ellteyrn’s Church\, Capel Llanilltern. \nAlthough we have no organist we make a joyful sound as we sing our way through the Eucharist Service together
URL:https://garthma.wales/events/sunday-eucharist-4/2023-07-16/
LOCATION:St Ellteyrn’s Church\, Capel Llanilltern\, Capel Llanilltern\, Cardiff\, CF5 6JR\, United Kingdom
CATEGORIES:Sunday Worship
ATTACH;FMTTYPE=image/jpeg:https://garthma.wales/wp-content/uploads/2023/01/s13-rotated.jpg
END:VEVENT
BEGIN:VEVENT
DTSTART;TZID=Europe/London:20230709T093000
DTEND;TZID=Europe/London:20230709T103000
DTSTAMP:20260422T051422
CREATED:20230130T181513Z
LAST-MODIFIED:20230829T143927Z
UID:10000830-1688895000-1688898600@garthma.wales
SUMMARY:Sung Eucharist - St. Ellteyrn's Church
DESCRIPTION:Welcome to our Holy Eucharist Service at St. Ellteyrn’s Church\, Capel Llanilltern. \nAlthough we have no organist we make a joyful sound as we sing our way through the Eucharist Service together
URL:https://garthma.wales/events/sunday-eucharist-4/2023-07-09/
LOCATION:St Ellteyrn’s Church\, Capel Llanilltern\, Capel Llanilltern\, Cardiff\, CF5 6JR\, United Kingdom
CATEGORIES:Sunday Worship
ATTACH;FMTTYPE=image/jpeg:https://garthma.wales/wp-content/uploads/2023/01/s13-rotated.jpg
END:VEVENT
BEGIN:VEVENT
DTSTART;TZID=Europe/London:20230702T093000
DTEND;TZID=Europe/London:20230702T103000
DTSTAMP:20260422T051422
CREATED:20230130T181513Z
LAST-MODIFIED:20230829T143927Z
UID:10000829-1688290200-1688293800@garthma.wales
SUMMARY:Sung Eucharist - St. Ellteyrn's Church
DESCRIPTION:Welcome to our Holy Eucharist Service at St. Ellteyrn’s Church\, Capel Llanilltern. \nAlthough we have no organist we make a joyful sound as we sing our way through the Eucharist Service together
URL:https://garthma.wales/events/sunday-eucharist-4/2023-07-02/
LOCATION:St Ellteyrn’s Church\, Capel Llanilltern\, Capel Llanilltern\, Cardiff\, CF5 6JR\, United Kingdom
CATEGORIES:Sunday Worship
ATTACH;FMTTYPE=image/jpeg:https://garthma.wales/wp-content/uploads/2023/01/s13-rotated.jpg
END:VEVENT
BEGIN:VEVENT
DTSTART;TZID=Europe/London:20230625T093000
DTEND;TZID=Europe/London:20230625T103000
DTSTAMP:20260422T051422
CREATED:20230130T181513Z
LAST-MODIFIED:20230829T143927Z
UID:10000828-1687685400-1687689000@garthma.wales
SUMMARY:Sung Eucharist - St. Ellteyrn's Church
DESCRIPTION:Welcome to our Holy Eucharist Service at St. Ellteyrn’s Church\, Capel Llanilltern. \nAlthough we have no organist we make a joyful sound as we sing our way through the Eucharist Service together
URL:https://garthma.wales/events/sunday-eucharist-4/2023-06-25/
LOCATION:St Ellteyrn’s Church\, Capel Llanilltern\, Capel Llanilltern\, Cardiff\, CF5 6JR\, United Kingdom
CATEGORIES:Sunday Worship
ATTACH;FMTTYPE=image/jpeg:https://garthma.wales/wp-content/uploads/2023/01/s13-rotated.jpg
END:VEVENT
BEGIN:VEVENT
DTSTART;TZID=Europe/London:20230618T093000
DTEND;TZID=Europe/London:20230618T103000
DTSTAMP:20260422T051422
CREATED:20230130T181513Z
LAST-MODIFIED:20230829T143927Z
UID:10000827-1687080600-1687084200@garthma.wales
SUMMARY:Sung Eucharist - St. Ellteyrn's Church
DESCRIPTION:Welcome to our Holy Eucharist Service at St. Ellteyrn’s Church\, Capel Llanilltern. \nAlthough we have no organist we make a joyful sound as we sing our way through the Eucharist Service together
URL:https://garthma.wales/events/sunday-eucharist-4/2023-06-18/
LOCATION:St Ellteyrn’s Church\, Capel Llanilltern\, Capel Llanilltern\, Cardiff\, CF5 6JR\, United Kingdom
CATEGORIES:Sunday Worship
ATTACH;FMTTYPE=image/jpeg:https://garthma.wales/wp-content/uploads/2023/01/s13-rotated.jpg
END:VEVENT
BEGIN:VEVENT
DTSTART;TZID=Europe/London:20230611T093000
DTEND;TZID=Europe/London:20230611T103000
DTSTAMP:20260422T051422
CREATED:20230130T181513Z
LAST-MODIFIED:20230829T143927Z
UID:10000826-1686475800-1686479400@garthma.wales
SUMMARY:Sung Eucharist - St. Ellteyrn's Church
DESCRIPTION:Welcome to our Holy Eucharist Service at St. Ellteyrn’s Church\, Capel Llanilltern. \nAlthough we have no organist we make a joyful sound as we sing our way through the Eucharist Service together
URL:https://garthma.wales/events/sunday-eucharist-4/2023-06-11/
LOCATION:St Ellteyrn’s Church\, Capel Llanilltern\, Capel Llanilltern\, Cardiff\, CF5 6JR\, United Kingdom
CATEGORIES:Sunday Worship
ATTACH;FMTTYPE=image/jpeg:https://garthma.wales/wp-content/uploads/2023/01/s13-rotated.jpg
END:VEVENT
BEGIN:VEVENT
DTSTART;TZID=Europe/London:20230604T093000
DTEND;TZID=Europe/London:20230604T103000
DTSTAMP:20260422T051422
CREATED:20230130T181513Z
LAST-MODIFIED:20230829T143927Z
UID:10000825-1685871000-1685874600@garthma.wales
SUMMARY:Sung Eucharist - St. Ellteyrn's Church
DESCRIPTION:Welcome to our Holy Eucharist Service at St. Ellteyrn’s Church\, Capel Llanilltern. \nAlthough we have no organist we make a joyful sound as we sing our way through the Eucharist Service together
URL:https://garthma.wales/events/sunday-eucharist-4/2023-06-04/
LOCATION:St Ellteyrn’s Church\, Capel Llanilltern\, Capel Llanilltern\, Cardiff\, CF5 6JR\, United Kingdom
CATEGORIES:Sunday Worship
ATTACH;FMTTYPE=image/jpeg:https://garthma.wales/wp-content/uploads/2023/01/s13-rotated.jpg
END:VEVENT
BEGIN:VEVENT
DTSTART;TZID=Europe/London:20230528T093000
DTEND;TZID=Europe/London:20230528T103000
DTSTAMP:20260422T051422
CREATED:20230130T181513Z
LAST-MODIFIED:20230829T143927Z
UID:10000824-1685266200-1685269800@garthma.wales
SUMMARY:Sung Eucharist - St. Ellteyrn's Church
DESCRIPTION:Welcome to our Holy Eucharist Service at St. Ellteyrn’s Church\, Capel Llanilltern. \nAlthough we have no organist we make a joyful sound as we sing our way through the Eucharist Service together
URL:https://garthma.wales/events/sunday-eucharist-4/2023-05-28/
LOCATION:St Ellteyrn’s Church\, Capel Llanilltern\, Capel Llanilltern\, Cardiff\, CF5 6JR\, United Kingdom
CATEGORIES:Sunday Worship
ATTACH;FMTTYPE=image/jpeg:https://garthma.wales/wp-content/uploads/2023/01/s13-rotated.jpg
END:VEVENT
BEGIN:VEVENT
DTSTART;TZID=Europe/London:20230521T093000
DTEND;TZID=Europe/London:20230521T103000
DTSTAMP:20260422T051422
CREATED:20230130T181513Z
LAST-MODIFIED:20230829T143927Z
UID:10000823-1684661400-1684665000@garthma.wales
SUMMARY:Sung Eucharist - St. Ellteyrn's Church
DESCRIPTION:Welcome to our Holy Eucharist Service at St. Ellteyrn’s Church\, Capel Llanilltern. \nAlthough we have no organist we make a joyful sound as we sing our way through the Eucharist Service together
URL:https://garthma.wales/events/sunday-eucharist-4/2023-05-21/
LOCATION:St Ellteyrn’s Church\, Capel Llanilltern\, Capel Llanilltern\, Cardiff\, CF5 6JR\, United Kingdom
CATEGORIES:Sunday Worship
ATTACH;FMTTYPE=image/jpeg:https://garthma.wales/wp-content/uploads/2023/01/s13-rotated.jpg
END:VEVENT
BEGIN:VEVENT
DTSTART;TZID=Europe/London:20230514T093000
DTEND;TZID=Europe/London:20230514T103000
DTSTAMP:20260422T051422
CREATED:20230130T181513Z
LAST-MODIFIED:20230829T143927Z
UID:10000822-1684056600-1684060200@garthma.wales
SUMMARY:Sung Eucharist - St. Ellteyrn's Church
DESCRIPTION:Welcome to our Holy Eucharist Service at St. Ellteyrn’s Church\, Capel Llanilltern. \nAlthough we have no organist we make a joyful sound as we sing our way through the Eucharist Service together
URL:https://garthma.wales/events/sunday-eucharist-4/2023-05-14/
LOCATION:St Ellteyrn’s Church\, Capel Llanilltern\, Capel Llanilltern\, Cardiff\, CF5 6JR\, United Kingdom
CATEGORIES:Sunday Worship
ATTACH;FMTTYPE=image/jpeg:https://garthma.wales/wp-content/uploads/2023/01/s13-rotated.jpg
END:VEVENT
BEGIN:VEVENT
DTSTART;TZID=Europe/London:20230507T093000
DTEND;TZID=Europe/London:20230507T103000
DTSTAMP:20260422T051422
CREATED:20230130T181513Z
LAST-MODIFIED:20230829T143927Z
UID:10000821-1683451800-1683455400@garthma.wales
SUMMARY:Sung Eucharist - St. Ellteyrn's Church
DESCRIPTION:Welcome to our Holy Eucharist Service at St. Ellteyrn’s Church\, Capel Llanilltern. \nAlthough we have no organist we make a joyful sound as we sing our way through the Eucharist Service together
URL:https://garthma.wales/events/sunday-eucharist-4/2023-05-07/
LOCATION:St Ellteyrn’s Church\, Capel Llanilltern\, Capel Llanilltern\, Cardiff\, CF5 6JR\, United Kingdom
CATEGORIES:Sunday Worship
ATTACH;FMTTYPE=image/jpeg:https://garthma.wales/wp-content/uploads/2023/01/s13-rotated.jpg
END:VEVENT
BEGIN:VEVENT
DTSTART;TZID=Europe/London:20230430T093000
DTEND;TZID=Europe/London:20230430T103000
DTSTAMP:20260422T051422
CREATED:20230130T181513Z
LAST-MODIFIED:20230829T143927Z
UID:10000820-1682847000-1682850600@garthma.wales
SUMMARY:Sung Eucharist - St. Ellteyrn's Church
DESCRIPTION:Welcome to our Holy Eucharist Service at St. Ellteyrn’s Church\, Capel Llanilltern. \nAlthough we have no organist we make a joyful sound as we sing our way through the Eucharist Service together
URL:https://garthma.wales/events/sunday-eucharist-4/2023-04-30/
LOCATION:St Ellteyrn’s Church\, Capel Llanilltern\, Capel Llanilltern\, Cardiff\, CF5 6JR\, United Kingdom
CATEGORIES:Sunday Worship
ATTACH;FMTTYPE=image/jpeg:https://garthma.wales/wp-content/uploads/2023/01/s13-rotated.jpg
END:VEVENT
BEGIN:VEVENT
DTSTART;TZID=Europe/London:20230423T093000
DTEND;TZID=Europe/London:20230423T103000
DTSTAMP:20260422T051422
CREATED:20230130T181513Z
LAST-MODIFIED:20230829T143927Z
UID:10000819-1682242200-1682245800@garthma.wales
SUMMARY:Sung Eucharist - St. Ellteyrn's Church
DESCRIPTION:Welcome to our Holy Eucharist Service at St. Ellteyrn’s Church\, Capel Llanilltern. \nAlthough we have no organist we make a joyful sound as we sing our way through the Eucharist Service together
URL:https://garthma.wales/events/sunday-eucharist-4/2023-04-23/
LOCATION:St Ellteyrn’s Church\, Capel Llanilltern\, Capel Llanilltern\, Cardiff\, CF5 6JR\, United Kingdom
CATEGORIES:Sunday Worship
ATTACH;FMTTYPE=image/jpeg:https://garthma.wales/wp-content/uploads/2023/01/s13-rotated.jpg
END:VEVENT
BEGIN:VEVENT
DTSTART;TZID=Europe/London:20230416T093000
DTEND;TZID=Europe/London:20230416T103000
DTSTAMP:20260422T051422
CREATED:20230130T181513Z
LAST-MODIFIED:20230829T143927Z
UID:10000818-1681637400-1681641000@garthma.wales
SUMMARY:Sung Eucharist - St. Ellteyrn's Church
DESCRIPTION:Welcome to our Holy Eucharist Service at St. Ellteyrn’s Church\, Capel Llanilltern. \nAlthough we have no organist we make a joyful sound as we sing our way through the Eucharist Service together
URL:https://garthma.wales/events/sunday-eucharist-4/2023-04-16/
LOCATION:St Ellteyrn’s Church\, Capel Llanilltern\, Capel Llanilltern\, Cardiff\, CF5 6JR\, United Kingdom
CATEGORIES:Sunday Worship
ATTACH;FMTTYPE=image/jpeg:https://garthma.wales/wp-content/uploads/2023/01/s13-rotated.jpg
END:VEVENT
END:VCALENDAR