BEGIN:VCALENDAR
VERSION:2.0
PRODID:-//The Garth Ministry Area - ECPv6.15.20//NONSGML v1.0//EN
CALSCALE:GREGORIAN
METHOD:PUBLISH
X-WR-CALNAME:The Garth Ministry Area
X-ORIGINAL-URL:https://garthma.wales
X-WR-CALDESC:Events for The Garth Ministry Area
REFRESH-INTERVAL;VALUE=DURATION:PT1H
X-Robots-Tag:noindex
X-PUBLISHED-TTL:PT1H
BEGIN:VTIMEZONE
TZID:Europe/London
BEGIN:DAYLIGHT
TZOFFSETFROM:+0000
TZOFFSETTO:+0100
TZNAME:BST
DTSTART:20220327T010000
END:DAYLIGHT
BEGIN:STANDARD
TZOFFSETFROM:+0100
TZOFFSETTO:+0000
TZNAME:GMT
DTSTART:20221030T010000
END:STANDARD
BEGIN:DAYLIGHT
TZOFFSETFROM:+0000
TZOFFSETTO:+0100
TZNAME:BST
DTSTART:20230326T010000
END:DAYLIGHT
BEGIN:STANDARD
TZOFFSETFROM:+0100
TZOFFSETTO:+0000
TZNAME:GMT
DTSTART:20231029T010000
END:STANDARD
BEGIN:DAYLIGHT
TZOFFSETFROM:+0000
TZOFFSETTO:+0100
TZNAME:BST
DTSTART:20240331T010000
END:DAYLIGHT
BEGIN:STANDARD
TZOFFSETFROM:+0100
TZOFFSETTO:+0000
TZNAME:GMT
DTSTART:20241027T010000
END:STANDARD
END:VTIMEZONE
BEGIN:VEVENT
DTSTART;TZID=Europe/London:20231127T170000
DTEND;TZID=Europe/London:20231127T180000
DTSTAMP:20260421T171720
CREATED:20230831T144205Z
LAST-MODIFIED:20240306T200419Z
UID:10004327-1701104400-1701108000@garthma.wales
SUMMARY:Quiz Night (by Zoom)
DESCRIPTION:This is a reminder about our quiz this evening at 5pm.  It is held every Monday evening and is a a fun quiz\, there are no prizes for being first or last! \nLasting about an hour there are usually about six rounds on a wide variety of topics. If you wish to have more details on this event\, please contact the Quizmaster. We look forward to seeing you \n  \n 
URL:https://garthma.wales/events/quiz-night-by-zoom/2023-11-27/
LOCATION:St Catwg’s Church\, Pentyrch\, Church Road\, Pentyrch\, CF15 9QF\, United Kingdom
ATTACH;FMTTYPE=image/png:https://garthma.wales/wp-content/uploads/2023/08/Quiz-NIght-Logo-e1696674324514.png
ORGANIZER;CN="Zoom Quizmaster":MAILTO:rees.pentyrch@hotmail.co.uk
END:VEVENT
BEGIN:VEVENT
DTSTART;TZID=Europe/London:20231126T093000
DTEND;TZID=Europe/London:20231126T103000
DTSTAMP:20260421T171720
CREATED:20230829T142929Z
LAST-MODIFIED:20251108T122643Z
UID:10006573-1700991000-1700994600@garthma.wales
SUMMARY:Holy Eucharist - St. Ellteyrn's Church
DESCRIPTION:Holy Eucharist Service is held at St Ellteyrn’s Church\, Capel Llanilltern.  Although we have no organist we make a joyful sound as we sing our way through the Eucharist Service together. \nPlease note on the first Sunday of the month there is no service in St. Ellteyrn’s Church\, as there will be the Informal All Age Service which happens at Creigiau Church Hall at 10.30am
URL:https://garthma.wales/events/holy-eucharist-st-ellteyrns-church/2023-11-26/
LOCATION:St Ellteyrn’s Church\, Capel Llanilltern\, Capel Llanilltern\, Cardiff\, CF5 6JR\, United Kingdom
CATEGORIES:Sunday Worship
ATTACH;FMTTYPE=image/jpeg:https://garthma.wales/wp-content/uploads/2023/01/s13-rotated.jpg
END:VEVENT
BEGIN:VEVENT
DTSTART;TZID=Europe/London:20231126T093000
DTEND;TZID=Europe/London:20231126T103000
DTSTAMP:20260421T171720
CREATED:20230813T145900Z
LAST-MODIFIED:20231211T112139Z
UID:10000850-1700991000-1700994600@garthma.wales
SUMMARY:Sung Eucharist - St. Ellteyrn's Church
DESCRIPTION:Welcome to our Holy Eucharist Service at St. Ellteyrn’s Church\, Capel Llanilltern. \nAlthough we have no organist we make a joyful sound as we sing our way through the Eucharist Service together.
URL:https://garthma.wales/events/sunday-eucharist-4-2/2023-11-26/
LOCATION:St Ellteyrn’s Church\, Capel Llanilltern\, Capel Llanilltern\, Cardiff\, CF5 6JR\, United Kingdom
CATEGORIES:Sunday Worship
ATTACH;FMTTYPE=image/jpeg:https://garthma.wales/wp-content/uploads/2023/01/s13-rotated.jpg
END:VEVENT
BEGIN:VEVENT
DTSTART;TZID=Europe/London:20231120T170000
DTEND;TZID=Europe/London:20231120T180000
DTSTAMP:20260421T171720
CREATED:20230831T144205Z
LAST-MODIFIED:20240306T200419Z
UID:10004326-1700499600-1700503200@garthma.wales
SUMMARY:Quiz Night (by Zoom)
DESCRIPTION:This is a reminder about our quiz this evening at 5pm.  It is held every Monday evening and is a a fun quiz\, there are no prizes for being first or last! \nLasting about an hour there are usually about six rounds on a wide variety of topics. If you wish to have more details on this event\, please contact the Quizmaster. We look forward to seeing you \n  \n 
URL:https://garthma.wales/events/quiz-night-by-zoom/2023-11-20/
LOCATION:St Catwg’s Church\, Pentyrch\, Church Road\, Pentyrch\, CF15 9QF\, United Kingdom
ATTACH;FMTTYPE=image/png:https://garthma.wales/wp-content/uploads/2023/08/Quiz-NIght-Logo-e1696674324514.png
ORGANIZER;CN="Zoom Quizmaster":MAILTO:rees.pentyrch@hotmail.co.uk
END:VEVENT
BEGIN:VEVENT
DTSTART;TZID=Europe/London:20231119T093000
DTEND;TZID=Europe/London:20231119T103000
DTSTAMP:20260421T171720
CREATED:20230829T142929Z
LAST-MODIFIED:20251108T122643Z
UID:10006572-1700386200-1700389800@garthma.wales
SUMMARY:Holy Eucharist - St. Ellteyrn's Church
DESCRIPTION:Holy Eucharist Service is held at St Ellteyrn’s Church\, Capel Llanilltern.  Although we have no organist we make a joyful sound as we sing our way through the Eucharist Service together. \nPlease note on the first Sunday of the month there is no service in St. Ellteyrn’s Church\, as there will be the Informal All Age Service which happens at Creigiau Church Hall at 10.30am
URL:https://garthma.wales/events/holy-eucharist-st-ellteyrns-church/2023-11-19/
LOCATION:St Ellteyrn’s Church\, Capel Llanilltern\, Capel Llanilltern\, Cardiff\, CF5 6JR\, United Kingdom
CATEGORIES:Sunday Worship
ATTACH;FMTTYPE=image/jpeg:https://garthma.wales/wp-content/uploads/2023/01/s13-rotated.jpg
END:VEVENT
BEGIN:VEVENT
DTSTART;TZID=Europe/London:20231119T093000
DTEND;TZID=Europe/London:20231119T103000
DTSTAMP:20260421T171720
CREATED:20230813T145900Z
LAST-MODIFIED:20231211T112139Z
UID:10000849-1700386200-1700389800@garthma.wales
SUMMARY:Sung Eucharist - St. Ellteyrn's Church
DESCRIPTION:Welcome to our Holy Eucharist Service at St. Ellteyrn’s Church\, Capel Llanilltern. \nAlthough we have no organist we make a joyful sound as we sing our way through the Eucharist Service together.
URL:https://garthma.wales/events/sunday-eucharist-4-2/2023-11-19/
LOCATION:St Ellteyrn’s Church\, Capel Llanilltern\, Capel Llanilltern\, Cardiff\, CF5 6JR\, United Kingdom
CATEGORIES:Sunday Worship
ATTACH;FMTTYPE=image/jpeg:https://garthma.wales/wp-content/uploads/2023/01/s13-rotated.jpg
END:VEVENT
BEGIN:VEVENT
DTSTART;TZID=Europe/London:20231113T170000
DTEND;TZID=Europe/London:20231113T180000
DTSTAMP:20260421T171720
CREATED:20230831T144205Z
LAST-MODIFIED:20240306T200419Z
UID:10004325-1699894800-1699898400@garthma.wales
SUMMARY:Quiz Night (by Zoom)
DESCRIPTION:This is a reminder about our quiz this evening at 5pm.  It is held every Monday evening and is a a fun quiz\, there are no prizes for being first or last! \nLasting about an hour there are usually about six rounds on a wide variety of topics. If you wish to have more details on this event\, please contact the Quizmaster. We look forward to seeing you \n  \n 
URL:https://garthma.wales/events/quiz-night-by-zoom/2023-11-13/
LOCATION:St Catwg’s Church\, Pentyrch\, Church Road\, Pentyrch\, CF15 9QF\, United Kingdom
ATTACH;FMTTYPE=image/png:https://garthma.wales/wp-content/uploads/2023/08/Quiz-NIght-Logo-e1696674324514.png
ORGANIZER;CN="Zoom Quizmaster":MAILTO:rees.pentyrch@hotmail.co.uk
END:VEVENT
BEGIN:VEVENT
DTSTART;TZID=Europe/London:20231112T093000
DTEND;TZID=Europe/London:20231112T103000
DTSTAMP:20260421T171720
CREATED:20230829T142929Z
LAST-MODIFIED:20251108T122643Z
UID:10006571-1699781400-1699785000@garthma.wales
SUMMARY:Holy Eucharist - St. Ellteyrn's Church
DESCRIPTION:Holy Eucharist Service is held at St Ellteyrn’s Church\, Capel Llanilltern.  Although we have no organist we make a joyful sound as we sing our way through the Eucharist Service together. \nPlease note on the first Sunday of the month there is no service in St. Ellteyrn’s Church\, as there will be the Informal All Age Service which happens at Creigiau Church Hall at 10.30am
URL:https://garthma.wales/events/holy-eucharist-st-ellteyrns-church/2023-11-12/
LOCATION:St Ellteyrn’s Church\, Capel Llanilltern\, Capel Llanilltern\, Cardiff\, CF5 6JR\, United Kingdom
CATEGORIES:Sunday Worship
ATTACH;FMTTYPE=image/jpeg:https://garthma.wales/wp-content/uploads/2023/01/s13-rotated.jpg
END:VEVENT
BEGIN:VEVENT
DTSTART;TZID=Europe/London:20231112T093000
DTEND;TZID=Europe/London:20231112T103000
DTSTAMP:20260421T171720
CREATED:20230813T145900Z
LAST-MODIFIED:20231211T112139Z
UID:10000848-1699781400-1699785000@garthma.wales
SUMMARY:Sung Eucharist - St. Ellteyrn's Church
DESCRIPTION:Welcome to our Holy Eucharist Service at St. Ellteyrn’s Church\, Capel Llanilltern. \nAlthough we have no organist we make a joyful sound as we sing our way through the Eucharist Service together.
URL:https://garthma.wales/events/sunday-eucharist-4-2/2023-11-12/
LOCATION:St Ellteyrn’s Church\, Capel Llanilltern\, Capel Llanilltern\, Cardiff\, CF5 6JR\, United Kingdom
CATEGORIES:Sunday Worship
ATTACH;FMTTYPE=image/jpeg:https://garthma.wales/wp-content/uploads/2023/01/s13-rotated.jpg
END:VEVENT
BEGIN:VEVENT
DTSTART;TZID=Europe/London:20231106T170000
DTEND;TZID=Europe/London:20231106T180000
DTSTAMP:20260421T171720
CREATED:20230831T144205Z
LAST-MODIFIED:20240306T200419Z
UID:10004324-1699290000-1699293600@garthma.wales
SUMMARY:Quiz Night (by Zoom)
DESCRIPTION:This is a reminder about our quiz this evening at 5pm.  It is held every Monday evening and is a a fun quiz\, there are no prizes for being first or last! \nLasting about an hour there are usually about six rounds on a wide variety of topics. If you wish to have more details on this event\, please contact the Quizmaster. We look forward to seeing you \n  \n 
URL:https://garthma.wales/events/quiz-night-by-zoom/2023-11-06/
LOCATION:St Catwg’s Church\, Pentyrch\, Church Road\, Pentyrch\, CF15 9QF\, United Kingdom
ATTACH;FMTTYPE=image/png:https://garthma.wales/wp-content/uploads/2023/08/Quiz-NIght-Logo-e1696674324514.png
ORGANIZER;CN="Zoom Quizmaster":MAILTO:rees.pentyrch@hotmail.co.uk
END:VEVENT
BEGIN:VEVENT
DTSTART;TZID=Europe/London:20231030T170000
DTEND;TZID=Europe/London:20231030T180000
DTSTAMP:20260421T171720
CREATED:20230831T144205Z
LAST-MODIFIED:20240306T200419Z
UID:10004323-1698685200-1698688800@garthma.wales
SUMMARY:Quiz Night (by Zoom)
DESCRIPTION:This is a reminder about our quiz this evening at 5pm.  It is held every Monday evening and is a a fun quiz\, there are no prizes for being first or last! \nLasting about an hour there are usually about six rounds on a wide variety of topics. If you wish to have more details on this event\, please contact the Quizmaster. We look forward to seeing you \n  \n 
URL:https://garthma.wales/events/quiz-night-by-zoom/2023-10-30/
LOCATION:St Catwg’s Church\, Pentyrch\, Church Road\, Pentyrch\, CF15 9QF\, United Kingdom
ATTACH;FMTTYPE=image/png:https://garthma.wales/wp-content/uploads/2023/08/Quiz-NIght-Logo-e1696674324514.png
ORGANIZER;CN="Zoom Quizmaster":MAILTO:rees.pentyrch@hotmail.co.uk
END:VEVENT
BEGIN:VEVENT
DTSTART;TZID=Europe/London:20231029T093000
DTEND;TZID=Europe/London:20231029T103000
DTSTAMP:20260421T171721
CREATED:20230829T142929Z
LAST-MODIFIED:20251108T122643Z
UID:10006570-1698571800-1698575400@garthma.wales
SUMMARY:Holy Eucharist - St. Ellteyrn's Church
DESCRIPTION:Holy Eucharist Service is held at St Ellteyrn’s Church\, Capel Llanilltern.  Although we have no organist we make a joyful sound as we sing our way through the Eucharist Service together. \nPlease note on the first Sunday of the month there is no service in St. Ellteyrn’s Church\, as there will be the Informal All Age Service which happens at Creigiau Church Hall at 10.30am
URL:https://garthma.wales/events/holy-eucharist-st-ellteyrns-church/2023-10-29/
LOCATION:St Ellteyrn’s Church\, Capel Llanilltern\, Capel Llanilltern\, Cardiff\, CF5 6JR\, United Kingdom
CATEGORIES:Sunday Worship
ATTACH;FMTTYPE=image/jpeg:https://garthma.wales/wp-content/uploads/2023/01/s13-rotated.jpg
END:VEVENT
BEGIN:VEVENT
DTSTART;TZID=Europe/London:20231029T093000
DTEND;TZID=Europe/London:20231029T103000
DTSTAMP:20260421T171721
CREATED:20230813T145900Z
LAST-MODIFIED:20231211T112139Z
UID:10000846-1698571800-1698575400@garthma.wales
SUMMARY:Sung Eucharist - St. Ellteyrn's Church
DESCRIPTION:Welcome to our Holy Eucharist Service at St. Ellteyrn’s Church\, Capel Llanilltern. \nAlthough we have no organist we make a joyful sound as we sing our way through the Eucharist Service together.
URL:https://garthma.wales/events/sunday-eucharist-4-2/2023-10-29/
LOCATION:St Ellteyrn’s Church\, Capel Llanilltern\, Capel Llanilltern\, Cardiff\, CF5 6JR\, United Kingdom
CATEGORIES:Sunday Worship
ATTACH;FMTTYPE=image/jpeg:https://garthma.wales/wp-content/uploads/2023/01/s13-rotated.jpg
END:VEVENT
BEGIN:VEVENT
DTSTART;TZID=Europe/London:20231023T170000
DTEND;TZID=Europe/London:20231023T180000
DTSTAMP:20260421T171721
CREATED:20230831T144205Z
LAST-MODIFIED:20240306T200419Z
UID:10004322-1698080400-1698084000@garthma.wales
SUMMARY:Quiz Night (by Zoom)
DESCRIPTION:This is a reminder about our quiz this evening at 5pm.  It is held every Monday evening and is a a fun quiz\, there are no prizes for being first or last! \nLasting about an hour there are usually about six rounds on a wide variety of topics. If you wish to have more details on this event\, please contact the Quizmaster. We look forward to seeing you \n  \n 
URL:https://garthma.wales/events/quiz-night-by-zoom/2023-10-23/
LOCATION:St Catwg’s Church\, Pentyrch\, Church Road\, Pentyrch\, CF15 9QF\, United Kingdom
ATTACH;FMTTYPE=image/png:https://garthma.wales/wp-content/uploads/2023/08/Quiz-NIght-Logo-e1696674324514.png
ORGANIZER;CN="Zoom Quizmaster":MAILTO:rees.pentyrch@hotmail.co.uk
END:VEVENT
BEGIN:VEVENT
DTSTART;TZID=Europe/London:20231022T093000
DTEND;TZID=Europe/London:20231022T103000
DTSTAMP:20260421T171721
CREATED:20230829T142929Z
LAST-MODIFIED:20251108T122643Z
UID:10006569-1697967000-1697970600@garthma.wales
SUMMARY:Holy Eucharist - St. Ellteyrn's Church
DESCRIPTION:Holy Eucharist Service is held at St Ellteyrn’s Church\, Capel Llanilltern.  Although we have no organist we make a joyful sound as we sing our way through the Eucharist Service together. \nPlease note on the first Sunday of the month there is no service in St. Ellteyrn’s Church\, as there will be the Informal All Age Service which happens at Creigiau Church Hall at 10.30am
URL:https://garthma.wales/events/holy-eucharist-st-ellteyrns-church/2023-10-22/
LOCATION:St Ellteyrn’s Church\, Capel Llanilltern\, Capel Llanilltern\, Cardiff\, CF5 6JR\, United Kingdom
CATEGORIES:Sunday Worship
ATTACH;FMTTYPE=image/jpeg:https://garthma.wales/wp-content/uploads/2023/01/s13-rotated.jpg
END:VEVENT
BEGIN:VEVENT
DTSTART;TZID=Europe/London:20231022T093000
DTEND;TZID=Europe/London:20231022T103000
DTSTAMP:20260421T171721
CREATED:20230813T145900Z
LAST-MODIFIED:20231211T112139Z
UID:10000845-1697967000-1697970600@garthma.wales
SUMMARY:Sung Eucharist - St. Ellteyrn's Church
DESCRIPTION:Welcome to our Holy Eucharist Service at St. Ellteyrn’s Church\, Capel Llanilltern. \nAlthough we have no organist we make a joyful sound as we sing our way through the Eucharist Service together.
URL:https://garthma.wales/events/sunday-eucharist-4-2/2023-10-22/
LOCATION:St Ellteyrn’s Church\, Capel Llanilltern\, Capel Llanilltern\, Cardiff\, CF5 6JR\, United Kingdom
CATEGORIES:Sunday Worship
ATTACH;FMTTYPE=image/jpeg:https://garthma.wales/wp-content/uploads/2023/01/s13-rotated.jpg
END:VEVENT
BEGIN:VEVENT
DTSTART;TZID=Europe/London:20231016T170000
DTEND;TZID=Europe/London:20231016T180000
DTSTAMP:20260421T171721
CREATED:20230831T144205Z
LAST-MODIFIED:20240306T200419Z
UID:10004321-1697475600-1697479200@garthma.wales
SUMMARY:Quiz Night (by Zoom)
DESCRIPTION:This is a reminder about our quiz this evening at 5pm.  It is held every Monday evening and is a a fun quiz\, there are no prizes for being first or last! \nLasting about an hour there are usually about six rounds on a wide variety of topics. If you wish to have more details on this event\, please contact the Quizmaster. We look forward to seeing you \n  \n 
URL:https://garthma.wales/events/quiz-night-by-zoom/2023-10-16/
LOCATION:St Catwg’s Church\, Pentyrch\, Church Road\, Pentyrch\, CF15 9QF\, United Kingdom
ATTACH;FMTTYPE=image/png:https://garthma.wales/wp-content/uploads/2023/08/Quiz-NIght-Logo-e1696674324514.png
ORGANIZER;CN="Zoom Quizmaster":MAILTO:rees.pentyrch@hotmail.co.uk
END:VEVENT
BEGIN:VEVENT
DTSTART;TZID=Europe/London:20231015T093000
DTEND;TZID=Europe/London:20231015T103000
DTSTAMP:20260421T171721
CREATED:20230829T142929Z
LAST-MODIFIED:20251108T122643Z
UID:10006568-1697362200-1697365800@garthma.wales
SUMMARY:Holy Eucharist - St. Ellteyrn's Church
DESCRIPTION:Holy Eucharist Service is held at St Ellteyrn’s Church\, Capel Llanilltern.  Although we have no organist we make a joyful sound as we sing our way through the Eucharist Service together. \nPlease note on the first Sunday of the month there is no service in St. Ellteyrn’s Church\, as there will be the Informal All Age Service which happens at Creigiau Church Hall at 10.30am
URL:https://garthma.wales/events/holy-eucharist-st-ellteyrns-church/2023-10-15/
LOCATION:St Ellteyrn’s Church\, Capel Llanilltern\, Capel Llanilltern\, Cardiff\, CF5 6JR\, United Kingdom
CATEGORIES:Sunday Worship
ATTACH;FMTTYPE=image/jpeg:https://garthma.wales/wp-content/uploads/2023/01/s13-rotated.jpg
END:VEVENT
BEGIN:VEVENT
DTSTART;TZID=Europe/London:20231015T093000
DTEND;TZID=Europe/London:20231015T103000
DTSTAMP:20260421T171721
CREATED:20230813T145900Z
LAST-MODIFIED:20231211T112139Z
UID:10000844-1697362200-1697365800@garthma.wales
SUMMARY:Sung Eucharist - St. Ellteyrn's Church
DESCRIPTION:Welcome to our Holy Eucharist Service at St. Ellteyrn’s Church\, Capel Llanilltern. \nAlthough we have no organist we make a joyful sound as we sing our way through the Eucharist Service together.
URL:https://garthma.wales/events/sunday-eucharist-4-2/2023-10-15/
LOCATION:St Ellteyrn’s Church\, Capel Llanilltern\, Capel Llanilltern\, Cardiff\, CF5 6JR\, United Kingdom
CATEGORIES:Sunday Worship
ATTACH;FMTTYPE=image/jpeg:https://garthma.wales/wp-content/uploads/2023/01/s13-rotated.jpg
END:VEVENT
BEGIN:VEVENT
DTSTART;TZID=Europe/London:20231009T170000
DTEND;TZID=Europe/London:20231009T180000
DTSTAMP:20260421T171721
CREATED:20230831T144205Z
LAST-MODIFIED:20240306T200419Z
UID:10004320-1696870800-1696874400@garthma.wales
SUMMARY:Quiz Night (by Zoom)
DESCRIPTION:This is a reminder about our quiz this evening at 5pm.  It is held every Monday evening and is a a fun quiz\, there are no prizes for being first or last! \nLasting about an hour there are usually about six rounds on a wide variety of topics. If you wish to have more details on this event\, please contact the Quizmaster. We look forward to seeing you \n  \n 
URL:https://garthma.wales/events/quiz-night-by-zoom/2023-10-09/
LOCATION:St Catwg’s Church\, Pentyrch\, Church Road\, Pentyrch\, CF15 9QF\, United Kingdom
ATTACH;FMTTYPE=image/png:https://garthma.wales/wp-content/uploads/2023/08/Quiz-NIght-Logo-e1696674324514.png
ORGANIZER;CN="Zoom Quizmaster":MAILTO:rees.pentyrch@hotmail.co.uk
END:VEVENT
BEGIN:VEVENT
DTSTART;TZID=Europe/London:20231008T093000
DTEND;TZID=Europe/London:20231008T103000
DTSTAMP:20260421T171721
CREATED:20230829T142929Z
LAST-MODIFIED:20251108T122643Z
UID:10006567-1696757400-1696761000@garthma.wales
SUMMARY:Holy Eucharist - St. Ellteyrn's Church
DESCRIPTION:Holy Eucharist Service is held at St Ellteyrn’s Church\, Capel Llanilltern.  Although we have no organist we make a joyful sound as we sing our way through the Eucharist Service together. \nPlease note on the first Sunday of the month there is no service in St. Ellteyrn’s Church\, as there will be the Informal All Age Service which happens at Creigiau Church Hall at 10.30am
URL:https://garthma.wales/events/holy-eucharist-st-ellteyrns-church/2023-10-08/
LOCATION:St Ellteyrn’s Church\, Capel Llanilltern\, Capel Llanilltern\, Cardiff\, CF5 6JR\, United Kingdom
CATEGORIES:Sunday Worship
ATTACH;FMTTYPE=image/jpeg:https://garthma.wales/wp-content/uploads/2023/01/s13-rotated.jpg
END:VEVENT
BEGIN:VEVENT
DTSTART;TZID=Europe/London:20231008T093000
DTEND;TZID=Europe/London:20231008T103000
DTSTAMP:20260421T171721
CREATED:20230829T142824Z
LAST-MODIFIED:20230829T142824Z
UID:10003332-1696757400-1696761000@garthma.wales
SUMMARY:Harvest Thanksgiving Service – St. Ellteyrn’s Church
DESCRIPTION:We are celebrating our Harvest Festival at St. Ellteyrn’s Church to remind us of all of the good things God has given us\, particularly the food we eat. Please bring your gifts of tins of food into church (if you are able) and they will be donated to the Cardiff Foodbank.
URL:https://garthma.wales/events/harvest-thanksgiving-service-st-ellteyrns-church/
LOCATION:St Ellteyrn’s Church\, Capel Llanilltern\, Capel Llanilltern\, Cardiff\, CF5 6JR\, United Kingdom
CATEGORIES:Sunday Worship
ATTACH;FMTTYPE=image/jpeg:https://garthma.wales/wp-content/uploads/2023/08/Harvest.jpg
END:VEVENT
BEGIN:VEVENT
DTSTART;TZID=Europe/London:20231002T170000
DTEND;TZID=Europe/London:20231002T180000
DTSTAMP:20260421T171721
CREATED:20230831T144205Z
LAST-MODIFIED:20240306T200419Z
UID:10004319-1696266000-1696269600@garthma.wales
SUMMARY:Quiz Night (by Zoom)
DESCRIPTION:This is a reminder about our quiz this evening at 5pm.  It is held every Monday evening and is a a fun quiz\, there are no prizes for being first or last! \nLasting about an hour there are usually about six rounds on a wide variety of topics. If you wish to have more details on this event\, please contact the Quizmaster. We look forward to seeing you \n  \n 
URL:https://garthma.wales/events/quiz-night-by-zoom/2023-10-02/
LOCATION:St Catwg’s Church\, Pentyrch\, Church Road\, Pentyrch\, CF15 9QF\, United Kingdom
ATTACH;FMTTYPE=image/png:https://garthma.wales/wp-content/uploads/2023/08/Quiz-NIght-Logo-e1696674324514.png
ORGANIZER;CN="Zoom Quizmaster":MAILTO:rees.pentyrch@hotmail.co.uk
END:VEVENT
BEGIN:VEVENT
DTSTART;TZID=Europe/London:20230925T170000
DTEND;TZID=Europe/London:20230925T180000
DTSTAMP:20260421T171721
CREATED:20230831T144205Z
LAST-MODIFIED:20240306T200419Z
UID:10004318-1695661200-1695664800@garthma.wales
SUMMARY:Quiz Night (by Zoom)
DESCRIPTION:This is a reminder about our quiz this evening at 5pm.  It is held every Monday evening and is a a fun quiz\, there are no prizes for being first or last! \nLasting about an hour there are usually about six rounds on a wide variety of topics. If you wish to have more details on this event\, please contact the Quizmaster. We look forward to seeing you \n  \n 
URL:https://garthma.wales/events/quiz-night-by-zoom/2023-09-25/
LOCATION:St Catwg’s Church\, Pentyrch\, Church Road\, Pentyrch\, CF15 9QF\, United Kingdom
ATTACH;FMTTYPE=image/png:https://garthma.wales/wp-content/uploads/2023/08/Quiz-NIght-Logo-e1696674324514.png
ORGANIZER;CN="Zoom Quizmaster":MAILTO:rees.pentyrch@hotmail.co.uk
END:VEVENT
BEGIN:VEVENT
DTSTART;TZID=Europe/London:20230924T093000
DTEND;TZID=Europe/London:20230924T103000
DTSTAMP:20260421T171721
CREATED:20230829T142929Z
LAST-MODIFIED:20251108T122643Z
UID:10006566-1695547800-1695551400@garthma.wales
SUMMARY:Holy Eucharist - St. Ellteyrn's Church
DESCRIPTION:Holy Eucharist Service is held at St Ellteyrn’s Church\, Capel Llanilltern.  Although we have no organist we make a joyful sound as we sing our way through the Eucharist Service together. \nPlease note on the first Sunday of the month there is no service in St. Ellteyrn’s Church\, as there will be the Informal All Age Service which happens at Creigiau Church Hall at 10.30am
URL:https://garthma.wales/events/holy-eucharist-st-ellteyrns-church/2023-09-24/
LOCATION:St Ellteyrn’s Church\, Capel Llanilltern\, Capel Llanilltern\, Cardiff\, CF5 6JR\, United Kingdom
CATEGORIES:Sunday Worship
ATTACH;FMTTYPE=image/jpeg:https://garthma.wales/wp-content/uploads/2023/01/s13-rotated.jpg
END:VEVENT
BEGIN:VEVENT
DTSTART;TZID=Europe/London:20230924T093000
DTEND;TZID=Europe/London:20230924T103000
DTSTAMP:20260421T171721
CREATED:20230813T145900Z
LAST-MODIFIED:20231211T112139Z
UID:10000841-1695547800-1695551400@garthma.wales
SUMMARY:Sung Eucharist - St. Ellteyrn's Church
DESCRIPTION:Welcome to our Holy Eucharist Service at St. Ellteyrn’s Church\, Capel Llanilltern. \nAlthough we have no organist we make a joyful sound as we sing our way through the Eucharist Service together.
URL:https://garthma.wales/events/sunday-eucharist-4-2/2023-09-24/
LOCATION:St Ellteyrn’s Church\, Capel Llanilltern\, Capel Llanilltern\, Cardiff\, CF5 6JR\, United Kingdom
CATEGORIES:Sunday Worship
ATTACH;FMTTYPE=image/jpeg:https://garthma.wales/wp-content/uploads/2023/01/s13-rotated.jpg
END:VEVENT
BEGIN:VEVENT
DTSTART;TZID=Europe/London:20230918T170000
DTEND;TZID=Europe/London:20230918T180000
DTSTAMP:20260421T171721
CREATED:20230831T144205Z
LAST-MODIFIED:20240306T200419Z
UID:10004317-1695056400-1695060000@garthma.wales
SUMMARY:Quiz Night (by Zoom)
DESCRIPTION:This is a reminder about our quiz this evening at 5pm.  It is held every Monday evening and is a a fun quiz\, there are no prizes for being first or last! \nLasting about an hour there are usually about six rounds on a wide variety of topics. If you wish to have more details on this event\, please contact the Quizmaster. We look forward to seeing you \n  \n 
URL:https://garthma.wales/events/quiz-night-by-zoom/2023-09-18/
LOCATION:St Catwg’s Church\, Pentyrch\, Church Road\, Pentyrch\, CF15 9QF\, United Kingdom
ATTACH;FMTTYPE=image/png:https://garthma.wales/wp-content/uploads/2023/08/Quiz-NIght-Logo-e1696674324514.png
ORGANIZER;CN="Zoom Quizmaster":MAILTO:rees.pentyrch@hotmail.co.uk
END:VEVENT
BEGIN:VEVENT
DTSTART;TZID=Europe/London:20230917T093000
DTEND;TZID=Europe/London:20230917T103000
DTSTAMP:20260421T171721
CREATED:20230829T142929Z
LAST-MODIFIED:20251108T122643Z
UID:10006565-1694943000-1694946600@garthma.wales
SUMMARY:Holy Eucharist - St. Ellteyrn's Church
DESCRIPTION:Holy Eucharist Service is held at St Ellteyrn’s Church\, Capel Llanilltern.  Although we have no organist we make a joyful sound as we sing our way through the Eucharist Service together. \nPlease note on the first Sunday of the month there is no service in St. Ellteyrn’s Church\, as there will be the Informal All Age Service which happens at Creigiau Church Hall at 10.30am
URL:https://garthma.wales/events/holy-eucharist-st-ellteyrns-church/2023-09-17/
LOCATION:St Ellteyrn’s Church\, Capel Llanilltern\, Capel Llanilltern\, Cardiff\, CF5 6JR\, United Kingdom
CATEGORIES:Sunday Worship
ATTACH;FMTTYPE=image/jpeg:https://garthma.wales/wp-content/uploads/2023/01/s13-rotated.jpg
END:VEVENT
BEGIN:VEVENT
DTSTART;TZID=Europe/London:20230917T093000
DTEND;TZID=Europe/London:20230917T103000
DTSTAMP:20260421T171721
CREATED:20230813T145900Z
LAST-MODIFIED:20231211T112139Z
UID:10000840-1694943000-1694946600@garthma.wales
SUMMARY:Sung Eucharist - St. Ellteyrn's Church
DESCRIPTION:Welcome to our Holy Eucharist Service at St. Ellteyrn’s Church\, Capel Llanilltern. \nAlthough we have no organist we make a joyful sound as we sing our way through the Eucharist Service together.
URL:https://garthma.wales/events/sunday-eucharist-4-2/2023-09-17/
LOCATION:St Ellteyrn’s Church\, Capel Llanilltern\, Capel Llanilltern\, Cardiff\, CF5 6JR\, United Kingdom
CATEGORIES:Sunday Worship
ATTACH;FMTTYPE=image/jpeg:https://garthma.wales/wp-content/uploads/2023/01/s13-rotated.jpg
END:VEVENT
BEGIN:VEVENT
DTSTART;TZID=Europe/London:20230911T170000
DTEND;TZID=Europe/London:20230911T180000
DTSTAMP:20260421T171721
CREATED:20230831T144205Z
LAST-MODIFIED:20240306T200419Z
UID:10004316-1694451600-1694455200@garthma.wales
SUMMARY:Quiz Night (by Zoom)
DESCRIPTION:This is a reminder about our quiz this evening at 5pm.  It is held every Monday evening and is a a fun quiz\, there are no prizes for being first or last! \nLasting about an hour there are usually about six rounds on a wide variety of topics. If you wish to have more details on this event\, please contact the Quizmaster. We look forward to seeing you \n  \n 
URL:https://garthma.wales/events/quiz-night-by-zoom/2023-09-11/
LOCATION:St Catwg’s Church\, Pentyrch\, Church Road\, Pentyrch\, CF15 9QF\, United Kingdom
ATTACH;FMTTYPE=image/png:https://garthma.wales/wp-content/uploads/2023/08/Quiz-NIght-Logo-e1696674324514.png
ORGANIZER;CN="Zoom Quizmaster":MAILTO:rees.pentyrch@hotmail.co.uk
END:VEVENT
END:VCALENDAR