BEGIN:VCALENDAR
VERSION:2.0
PRODID:-//The Garth Ministry Area - ECPv6.15.20//NONSGML v1.0//EN
CALSCALE:GREGORIAN
METHOD:PUBLISH
X-WR-CALNAME:The Garth Ministry Area
X-ORIGINAL-URL:https://garthma.wales
X-WR-CALDESC:Events for The Garth Ministry Area
REFRESH-INTERVAL;VALUE=DURATION:PT1H
X-Robots-Tag:noindex
X-PUBLISHED-TTL:PT1H
BEGIN:VTIMEZONE
TZID:Europe/London
BEGIN:DAYLIGHT
TZOFFSETFROM:+0000
TZOFFSETTO:+0100
TZNAME:BST
DTSTART:20220327T010000
END:DAYLIGHT
BEGIN:STANDARD
TZOFFSETFROM:+0100
TZOFFSETTO:+0000
TZNAME:GMT
DTSTART:20221030T010000
END:STANDARD
BEGIN:DAYLIGHT
TZOFFSETFROM:+0000
TZOFFSETTO:+0100
TZNAME:BST
DTSTART:20230326T010000
END:DAYLIGHT
BEGIN:STANDARD
TZOFFSETFROM:+0100
TZOFFSETTO:+0000
TZNAME:GMT
DTSTART:20231029T010000
END:STANDARD
BEGIN:DAYLIGHT
TZOFFSETFROM:+0000
TZOFFSETTO:+0100
TZNAME:BST
DTSTART:20240331T010000
END:DAYLIGHT
BEGIN:STANDARD
TZOFFSETFROM:+0100
TZOFFSETTO:+0000
TZNAME:GMT
DTSTART:20241027T010000
END:STANDARD
BEGIN:DAYLIGHT
TZOFFSETFROM:+0000
TZOFFSETTO:+0100
TZNAME:BST
DTSTART:20250330T010000
END:DAYLIGHT
BEGIN:STANDARD
TZOFFSETFROM:+0100
TZOFFSETTO:+0000
TZNAME:GMT
DTSTART:20251026T010000
END:STANDARD
END:VTIMEZONE
BEGIN:VEVENT
DTSTART;TZID=Europe/London:20240310T093000
DTEND;TZID=Europe/London:20240310T103000
DTSTAMP:20260420T130934
CREATED:20230813T145900Z
LAST-MODIFIED:20231211T112139Z
UID:10000865-1710063000-1710066600@garthma.wales
SUMMARY:Sung Eucharist - St. Ellteyrn's Church
DESCRIPTION:Welcome to our Holy Eucharist Service at St. Ellteyrn’s Church\, Capel Llanilltern. \nAlthough we have no organist we make a joyful sound as we sing our way through the Eucharist Service together.
URL:https://garthma.wales/events/sunday-eucharist-4-2/2024-03-10/
LOCATION:St Ellteyrn’s Church\, Capel Llanilltern\, Capel Llanilltern\, Cardiff\, CF5 6JR\, United Kingdom
CATEGORIES:Sunday Worship
ATTACH;FMTTYPE=image/jpeg:https://garthma.wales/wp-content/uploads/2023/01/s13-rotated.jpg
END:VEVENT
BEGIN:VEVENT
DTSTART;TZID=Europe/London:20240304T170000
DTEND;TZID=Europe/London:20240304T180000
DTSTAMP:20260420T130934
CREATED:20230831T144205Z
LAST-MODIFIED:20240306T200419Z
UID:10004341-1709571600-1709575200@garthma.wales
SUMMARY:Quiz Night (by Zoom)
DESCRIPTION:This is a reminder about our quiz this evening at 5pm.  It is held every Monday evening and is a a fun quiz\, there are no prizes for being first or last! \nLasting about an hour there are usually about six rounds on a wide variety of topics. If you wish to have more details on this event\, please contact the Quizmaster. We look forward to seeing you \n  \n 
URL:https://garthma.wales/events/quiz-night-by-zoom/2024-03-04/
LOCATION:St Catwg’s Church\, Pentyrch\, Church Road\, Pentyrch\, CF15 9QF\, United Kingdom
ATTACH;FMTTYPE=image/png:https://garthma.wales/wp-content/uploads/2023/08/Quiz-NIght-Logo-e1696674324514.png
ORGANIZER;CN="Zoom Quizmaster":MAILTO:rees.pentyrch@hotmail.co.uk
END:VEVENT
BEGIN:VEVENT
DTSTART;TZID=Europe/London:20240226T170000
DTEND;TZID=Europe/London:20240226T180000
DTSTAMP:20260420T130934
CREATED:20230831T144205Z
LAST-MODIFIED:20240306T200419Z
UID:10004340-1708966800-1708970400@garthma.wales
SUMMARY:Quiz Night (by Zoom)
DESCRIPTION:This is a reminder about our quiz this evening at 5pm.  It is held every Monday evening and is a a fun quiz\, there are no prizes for being first or last! \nLasting about an hour there are usually about six rounds on a wide variety of topics. If you wish to have more details on this event\, please contact the Quizmaster. We look forward to seeing you \n  \n 
URL:https://garthma.wales/events/quiz-night-by-zoom/2024-02-26/
LOCATION:St Catwg’s Church\, Pentyrch\, Church Road\, Pentyrch\, CF15 9QF\, United Kingdom
ATTACH;FMTTYPE=image/png:https://garthma.wales/wp-content/uploads/2023/08/Quiz-NIght-Logo-e1696674324514.png
ORGANIZER;CN="Zoom Quizmaster":MAILTO:rees.pentyrch@hotmail.co.uk
END:VEVENT
BEGIN:VEVENT
DTSTART;TZID=Europe/London:20240225T093000
DTEND;TZID=Europe/London:20240225T103000
DTSTAMP:20260420T130934
CREATED:20230829T142929Z
LAST-MODIFIED:20251108T122643Z
UID:10006583-1708853400-1708857000@garthma.wales
SUMMARY:Holy Eucharist - St. Ellteyrn's Church
DESCRIPTION:Holy Eucharist Service is held at St Ellteyrn’s Church\, Capel Llanilltern.  Although we have no organist we make a joyful sound as we sing our way through the Eucharist Service together. \nPlease note on the first Sunday of the month there is no service in St. Ellteyrn’s Church\, as there will be the Informal All Age Service which happens at Creigiau Church Hall at 10.30am
URL:https://garthma.wales/events/holy-eucharist-st-ellteyrns-church/2024-02-25/
LOCATION:St Ellteyrn’s Church\, Capel Llanilltern\, Capel Llanilltern\, Cardiff\, CF5 6JR\, United Kingdom
CATEGORIES:Sunday Worship
ATTACH;FMTTYPE=image/jpeg:https://garthma.wales/wp-content/uploads/2023/01/s13-rotated.jpg
END:VEVENT
BEGIN:VEVENT
DTSTART;TZID=Europe/London:20240225T093000
DTEND;TZID=Europe/London:20240225T103000
DTSTAMP:20260420T130934
CREATED:20230813T145900Z
LAST-MODIFIED:20231211T112139Z
UID:10000863-1708853400-1708857000@garthma.wales
SUMMARY:Sung Eucharist - St. Ellteyrn's Church
DESCRIPTION:Welcome to our Holy Eucharist Service at St. Ellteyrn’s Church\, Capel Llanilltern. \nAlthough we have no organist we make a joyful sound as we sing our way through the Eucharist Service together.
URL:https://garthma.wales/events/sunday-eucharist-4-2/2024-02-25/
LOCATION:St Ellteyrn’s Church\, Capel Llanilltern\, Capel Llanilltern\, Cardiff\, CF5 6JR\, United Kingdom
CATEGORIES:Sunday Worship
ATTACH;FMTTYPE=image/jpeg:https://garthma.wales/wp-content/uploads/2023/01/s13-rotated.jpg
END:VEVENT
BEGIN:VEVENT
DTSTART;TZID=Europe/London:20240219T170000
DTEND;TZID=Europe/London:20240219T180000
DTSTAMP:20260420T130934
CREATED:20230831T144205Z
LAST-MODIFIED:20240306T200419Z
UID:10004339-1708362000-1708365600@garthma.wales
SUMMARY:Quiz Night (by Zoom)
DESCRIPTION:This is a reminder about our quiz this evening at 5pm.  It is held every Monday evening and is a a fun quiz\, there are no prizes for being first or last! \nLasting about an hour there are usually about six rounds on a wide variety of topics. If you wish to have more details on this event\, please contact the Quizmaster. We look forward to seeing you \n  \n 
URL:https://garthma.wales/events/quiz-night-by-zoom/2024-02-19/
LOCATION:St Catwg’s Church\, Pentyrch\, Church Road\, Pentyrch\, CF15 9QF\, United Kingdom
ATTACH;FMTTYPE=image/png:https://garthma.wales/wp-content/uploads/2023/08/Quiz-NIght-Logo-e1696674324514.png
ORGANIZER;CN="Zoom Quizmaster":MAILTO:rees.pentyrch@hotmail.co.uk
END:VEVENT
BEGIN:VEVENT
DTSTART;TZID=Europe/London:20240218T093000
DTEND;TZID=Europe/London:20240218T103000
DTSTAMP:20260420T130934
CREATED:20230829T142929Z
LAST-MODIFIED:20251108T122643Z
UID:10006582-1708248600-1708252200@garthma.wales
SUMMARY:Holy Eucharist - St. Ellteyrn's Church
DESCRIPTION:Holy Eucharist Service is held at St Ellteyrn’s Church\, Capel Llanilltern.  Although we have no organist we make a joyful sound as we sing our way through the Eucharist Service together. \nPlease note on the first Sunday of the month there is no service in St. Ellteyrn’s Church\, as there will be the Informal All Age Service which happens at Creigiau Church Hall at 10.30am
URL:https://garthma.wales/events/holy-eucharist-st-ellteyrns-church/2024-02-18/
LOCATION:St Ellteyrn’s Church\, Capel Llanilltern\, Capel Llanilltern\, Cardiff\, CF5 6JR\, United Kingdom
CATEGORIES:Sunday Worship
ATTACH;FMTTYPE=image/jpeg:https://garthma.wales/wp-content/uploads/2023/01/s13-rotated.jpg
END:VEVENT
BEGIN:VEVENT
DTSTART;TZID=Europe/London:20240218T093000
DTEND;TZID=Europe/London:20240218T103000
DTSTAMP:20260420T130934
CREATED:20230813T145900Z
LAST-MODIFIED:20231211T112139Z
UID:10000862-1708248600-1708252200@garthma.wales
SUMMARY:Sung Eucharist - St. Ellteyrn's Church
DESCRIPTION:Welcome to our Holy Eucharist Service at St. Ellteyrn’s Church\, Capel Llanilltern. \nAlthough we have no organist we make a joyful sound as we sing our way through the Eucharist Service together.
URL:https://garthma.wales/events/sunday-eucharist-4-2/2024-02-18/
LOCATION:St Ellteyrn’s Church\, Capel Llanilltern\, Capel Llanilltern\, Cardiff\, CF5 6JR\, United Kingdom
CATEGORIES:Sunday Worship
ATTACH;FMTTYPE=image/jpeg:https://garthma.wales/wp-content/uploads/2023/01/s13-rotated.jpg
END:VEVENT
BEGIN:VEVENT
DTSTART;TZID=Europe/London:20240212T170000
DTEND;TZID=Europe/London:20240212T180000
DTSTAMP:20260420T130934
CREATED:20230831T144205Z
LAST-MODIFIED:20240306T200419Z
UID:10004338-1707757200-1707760800@garthma.wales
SUMMARY:Quiz Night (by Zoom)
DESCRIPTION:This is a reminder about our quiz this evening at 5pm.  It is held every Monday evening and is a a fun quiz\, there are no prizes for being first or last! \nLasting about an hour there are usually about six rounds on a wide variety of topics. If you wish to have more details on this event\, please contact the Quizmaster. We look forward to seeing you \n  \n 
URL:https://garthma.wales/events/quiz-night-by-zoom/2024-02-12/
LOCATION:St Catwg’s Church\, Pentyrch\, Church Road\, Pentyrch\, CF15 9QF\, United Kingdom
ATTACH;FMTTYPE=image/png:https://garthma.wales/wp-content/uploads/2023/08/Quiz-NIght-Logo-e1696674324514.png
ORGANIZER;CN="Zoom Quizmaster":MAILTO:rees.pentyrch@hotmail.co.uk
END:VEVENT
BEGIN:VEVENT
DTSTART;TZID=Europe/London:20240211T093000
DTEND;TZID=Europe/London:20240211T103000
DTSTAMP:20260420T130934
CREATED:20230829T142929Z
LAST-MODIFIED:20251108T122643Z
UID:10006581-1707643800-1707647400@garthma.wales
SUMMARY:Holy Eucharist - St. Ellteyrn's Church
DESCRIPTION:Holy Eucharist Service is held at St Ellteyrn’s Church\, Capel Llanilltern.  Although we have no organist we make a joyful sound as we sing our way through the Eucharist Service together. \nPlease note on the first Sunday of the month there is no service in St. Ellteyrn’s Church\, as there will be the Informal All Age Service which happens at Creigiau Church Hall at 10.30am
URL:https://garthma.wales/events/holy-eucharist-st-ellteyrns-church/2024-02-11/
LOCATION:St Ellteyrn’s Church\, Capel Llanilltern\, Capel Llanilltern\, Cardiff\, CF5 6JR\, United Kingdom
CATEGORIES:Sunday Worship
ATTACH;FMTTYPE=image/jpeg:https://garthma.wales/wp-content/uploads/2023/01/s13-rotated.jpg
END:VEVENT
BEGIN:VEVENT
DTSTART;TZID=Europe/London:20240211T093000
DTEND;TZID=Europe/London:20240211T103000
DTSTAMP:20260420T130934
CREATED:20230813T145900Z
LAST-MODIFIED:20231211T112139Z
UID:10000861-1707643800-1707647400@garthma.wales
SUMMARY:Sung Eucharist - St. Ellteyrn's Church
DESCRIPTION:Welcome to our Holy Eucharist Service at St. Ellteyrn’s Church\, Capel Llanilltern. \nAlthough we have no organist we make a joyful sound as we sing our way through the Eucharist Service together.
URL:https://garthma.wales/events/sunday-eucharist-4-2/2024-02-11/
LOCATION:St Ellteyrn’s Church\, Capel Llanilltern\, Capel Llanilltern\, Cardiff\, CF5 6JR\, United Kingdom
CATEGORIES:Sunday Worship
ATTACH;FMTTYPE=image/jpeg:https://garthma.wales/wp-content/uploads/2023/01/s13-rotated.jpg
END:VEVENT
BEGIN:VEVENT
DTSTART;TZID=Europe/London:20240205T170000
DTEND;TZID=Europe/London:20240205T180000
DTSTAMP:20260420T130934
CREATED:20230831T144205Z
LAST-MODIFIED:20240306T200419Z
UID:10004337-1707152400-1707156000@garthma.wales
SUMMARY:Quiz Night (by Zoom)
DESCRIPTION:This is a reminder about our quiz this evening at 5pm.  It is held every Monday evening and is a a fun quiz\, there are no prizes for being first or last! \nLasting about an hour there are usually about six rounds on a wide variety of topics. If you wish to have more details on this event\, please contact the Quizmaster. We look forward to seeing you \n  \n 
URL:https://garthma.wales/events/quiz-night-by-zoom/2024-02-05/
LOCATION:St Catwg’s Church\, Pentyrch\, Church Road\, Pentyrch\, CF15 9QF\, United Kingdom
ATTACH;FMTTYPE=image/png:https://garthma.wales/wp-content/uploads/2023/08/Quiz-NIght-Logo-e1696674324514.png
ORGANIZER;CN="Zoom Quizmaster":MAILTO:rees.pentyrch@hotmail.co.uk
END:VEVENT
BEGIN:VEVENT
DTSTART;TZID=Europe/London:20240129T170000
DTEND;TZID=Europe/London:20240129T180000
DTSTAMP:20260420T130934
CREATED:20230831T144205Z
LAST-MODIFIED:20240306T200419Z
UID:10004336-1706547600-1706551200@garthma.wales
SUMMARY:Quiz Night (by Zoom)
DESCRIPTION:This is a reminder about our quiz this evening at 5pm.  It is held every Monday evening and is a a fun quiz\, there are no prizes for being first or last! \nLasting about an hour there are usually about six rounds on a wide variety of topics. If you wish to have more details on this event\, please contact the Quizmaster. We look forward to seeing you \n  \n 
URL:https://garthma.wales/events/quiz-night-by-zoom/2024-01-29/
LOCATION:St Catwg’s Church\, Pentyrch\, Church Road\, Pentyrch\, CF15 9QF\, United Kingdom
ATTACH;FMTTYPE=image/png:https://garthma.wales/wp-content/uploads/2023/08/Quiz-NIght-Logo-e1696674324514.png
ORGANIZER;CN="Zoom Quizmaster":MAILTO:rees.pentyrch@hotmail.co.uk
END:VEVENT
BEGIN:VEVENT
DTSTART;TZID=Europe/London:20240128T093000
DTEND;TZID=Europe/London:20240128T103000
DTSTAMP:20260420T130934
CREATED:20230829T142929Z
LAST-MODIFIED:20251108T122643Z
UID:10006580-1706434200-1706437800@garthma.wales
SUMMARY:Holy Eucharist - St. Ellteyrn's Church
DESCRIPTION:Holy Eucharist Service is held at St Ellteyrn’s Church\, Capel Llanilltern.  Although we have no organist we make a joyful sound as we sing our way through the Eucharist Service together. \nPlease note on the first Sunday of the month there is no service in St. Ellteyrn’s Church\, as there will be the Informal All Age Service which happens at Creigiau Church Hall at 10.30am
URL:https://garthma.wales/events/holy-eucharist-st-ellteyrns-church/2024-01-28/
LOCATION:St Ellteyrn’s Church\, Capel Llanilltern\, Capel Llanilltern\, Cardiff\, CF5 6JR\, United Kingdom
CATEGORIES:Sunday Worship
ATTACH;FMTTYPE=image/jpeg:https://garthma.wales/wp-content/uploads/2023/01/s13-rotated.jpg
END:VEVENT
BEGIN:VEVENT
DTSTART;TZID=Europe/London:20240128T093000
DTEND;TZID=Europe/London:20240128T103000
DTSTAMP:20260420T130934
CREATED:20230813T145900Z
LAST-MODIFIED:20231211T112139Z
UID:10000859-1706434200-1706437800@garthma.wales
SUMMARY:Sung Eucharist - St. Ellteyrn's Church
DESCRIPTION:Welcome to our Holy Eucharist Service at St. Ellteyrn’s Church\, Capel Llanilltern. \nAlthough we have no organist we make a joyful sound as we sing our way through the Eucharist Service together.
URL:https://garthma.wales/events/sunday-eucharist-4-2/2024-01-28/
LOCATION:St Ellteyrn’s Church\, Capel Llanilltern\, Capel Llanilltern\, Cardiff\, CF5 6JR\, United Kingdom
CATEGORIES:Sunday Worship
ATTACH;FMTTYPE=image/jpeg:https://garthma.wales/wp-content/uploads/2023/01/s13-rotated.jpg
END:VEVENT
BEGIN:VEVENT
DTSTART;TZID=Europe/London:20240122T170000
DTEND;TZID=Europe/London:20240122T180000
DTSTAMP:20260420T130934
CREATED:20230831T144205Z
LAST-MODIFIED:20240306T200419Z
UID:10004335-1705942800-1705946400@garthma.wales
SUMMARY:Quiz Night (by Zoom)
DESCRIPTION:This is a reminder about our quiz this evening at 5pm.  It is held every Monday evening and is a a fun quiz\, there are no prizes for being first or last! \nLasting about an hour there are usually about six rounds on a wide variety of topics. If you wish to have more details on this event\, please contact the Quizmaster. We look forward to seeing you \n  \n 
URL:https://garthma.wales/events/quiz-night-by-zoom/2024-01-22/
LOCATION:St Catwg’s Church\, Pentyrch\, Church Road\, Pentyrch\, CF15 9QF\, United Kingdom
ATTACH;FMTTYPE=image/png:https://garthma.wales/wp-content/uploads/2023/08/Quiz-NIght-Logo-e1696674324514.png
ORGANIZER;CN="Zoom Quizmaster":MAILTO:rees.pentyrch@hotmail.co.uk
END:VEVENT
BEGIN:VEVENT
DTSTART;TZID=Europe/London:20240121T093000
DTEND;TZID=Europe/London:20240121T103000
DTSTAMP:20260420T130934
CREATED:20230829T142929Z
LAST-MODIFIED:20251108T122643Z
UID:10006579-1705829400-1705833000@garthma.wales
SUMMARY:Holy Eucharist - St. Ellteyrn's Church
DESCRIPTION:Holy Eucharist Service is held at St Ellteyrn’s Church\, Capel Llanilltern.  Although we have no organist we make a joyful sound as we sing our way through the Eucharist Service together. \nPlease note on the first Sunday of the month there is no service in St. Ellteyrn’s Church\, as there will be the Informal All Age Service which happens at Creigiau Church Hall at 10.30am
URL:https://garthma.wales/events/holy-eucharist-st-ellteyrns-church/2024-01-21/
LOCATION:St Ellteyrn’s Church\, Capel Llanilltern\, Capel Llanilltern\, Cardiff\, CF5 6JR\, United Kingdom
CATEGORIES:Sunday Worship
ATTACH;FMTTYPE=image/jpeg:https://garthma.wales/wp-content/uploads/2023/01/s13-rotated.jpg
END:VEVENT
BEGIN:VEVENT
DTSTART;TZID=Europe/London:20240121T093000
DTEND;TZID=Europe/London:20240121T103000
DTSTAMP:20260420T130934
CREATED:20230813T145900Z
LAST-MODIFIED:20231211T112139Z
UID:10000858-1705829400-1705833000@garthma.wales
SUMMARY:Sung Eucharist - St. Ellteyrn's Church
DESCRIPTION:Welcome to our Holy Eucharist Service at St. Ellteyrn’s Church\, Capel Llanilltern. \nAlthough we have no organist we make a joyful sound as we sing our way through the Eucharist Service together.
URL:https://garthma.wales/events/sunday-eucharist-4-2/2024-01-21/
LOCATION:St Ellteyrn’s Church\, Capel Llanilltern\, Capel Llanilltern\, Cardiff\, CF5 6JR\, United Kingdom
CATEGORIES:Sunday Worship
ATTACH;FMTTYPE=image/jpeg:https://garthma.wales/wp-content/uploads/2023/01/s13-rotated.jpg
END:VEVENT
BEGIN:VEVENT
DTSTART;TZID=Europe/London:20240115T170000
DTEND;TZID=Europe/London:20240115T180000
DTSTAMP:20260420T130934
CREATED:20230831T144205Z
LAST-MODIFIED:20240306T200419Z
UID:10004334-1705338000-1705341600@garthma.wales
SUMMARY:Quiz Night (by Zoom)
DESCRIPTION:This is a reminder about our quiz this evening at 5pm.  It is held every Monday evening and is a a fun quiz\, there are no prizes for being first or last! \nLasting about an hour there are usually about six rounds on a wide variety of topics. If you wish to have more details on this event\, please contact the Quizmaster. We look forward to seeing you \n  \n 
URL:https://garthma.wales/events/quiz-night-by-zoom/2024-01-15/
LOCATION:St Catwg’s Church\, Pentyrch\, Church Road\, Pentyrch\, CF15 9QF\, United Kingdom
ATTACH;FMTTYPE=image/png:https://garthma.wales/wp-content/uploads/2023/08/Quiz-NIght-Logo-e1696674324514.png
ORGANIZER;CN="Zoom Quizmaster":MAILTO:rees.pentyrch@hotmail.co.uk
END:VEVENT
BEGIN:VEVENT
DTSTART;TZID=Europe/London:20240114T093000
DTEND;TZID=Europe/London:20240114T103000
DTSTAMP:20260420T130934
CREATED:20230829T142929Z
LAST-MODIFIED:20251108T122643Z
UID:10006578-1705224600-1705228200@garthma.wales
SUMMARY:Holy Eucharist - St. Ellteyrn's Church
DESCRIPTION:Holy Eucharist Service is held at St Ellteyrn’s Church\, Capel Llanilltern.  Although we have no organist we make a joyful sound as we sing our way through the Eucharist Service together. \nPlease note on the first Sunday of the month there is no service in St. Ellteyrn’s Church\, as there will be the Informal All Age Service which happens at Creigiau Church Hall at 10.30am
URL:https://garthma.wales/events/holy-eucharist-st-ellteyrns-church/2024-01-14/
LOCATION:St Ellteyrn’s Church\, Capel Llanilltern\, Capel Llanilltern\, Cardiff\, CF5 6JR\, United Kingdom
CATEGORIES:Sunday Worship
ATTACH;FMTTYPE=image/jpeg:https://garthma.wales/wp-content/uploads/2023/01/s13-rotated.jpg
END:VEVENT
BEGIN:VEVENT
DTSTART;TZID=Europe/London:20240114T093000
DTEND;TZID=Europe/London:20240114T103000
DTSTAMP:20260420T130934
CREATED:20230813T145900Z
LAST-MODIFIED:20231211T112139Z
UID:10000857-1705224600-1705228200@garthma.wales
SUMMARY:Sung Eucharist - St. Ellteyrn's Church
DESCRIPTION:Welcome to our Holy Eucharist Service at St. Ellteyrn’s Church\, Capel Llanilltern. \nAlthough we have no organist we make a joyful sound as we sing our way through the Eucharist Service together.
URL:https://garthma.wales/events/sunday-eucharist-4-2/2024-01-14/
LOCATION:St Ellteyrn’s Church\, Capel Llanilltern\, Capel Llanilltern\, Cardiff\, CF5 6JR\, United Kingdom
CATEGORIES:Sunday Worship
ATTACH;FMTTYPE=image/jpeg:https://garthma.wales/wp-content/uploads/2023/01/s13-rotated.jpg
END:VEVENT
BEGIN:VEVENT
DTSTART;TZID=Europe/London:20240108T170000
DTEND;TZID=Europe/London:20240108T180000
DTSTAMP:20260420T130934
CREATED:20230831T144205Z
LAST-MODIFIED:20240306T200419Z
UID:10004333-1704733200-1704736800@garthma.wales
SUMMARY:Quiz Night (by Zoom)
DESCRIPTION:This is a reminder about our quiz this evening at 5pm.  It is held every Monday evening and is a a fun quiz\, there are no prizes for being first or last! \nLasting about an hour there are usually about six rounds on a wide variety of topics. If you wish to have more details on this event\, please contact the Quizmaster. We look forward to seeing you \n  \n 
URL:https://garthma.wales/events/quiz-night-by-zoom/2024-01-08/
LOCATION:St Catwg’s Church\, Pentyrch\, Church Road\, Pentyrch\, CF15 9QF\, United Kingdom
ATTACH;FMTTYPE=image/png:https://garthma.wales/wp-content/uploads/2023/08/Quiz-NIght-Logo-e1696674324514.png
ORGANIZER;CN="Zoom Quizmaster":MAILTO:rees.pentyrch@hotmail.co.uk
END:VEVENT
BEGIN:VEVENT
DTSTART;TZID=Europe/London:20240101T170000
DTEND;TZID=Europe/London:20240101T180000
DTSTAMP:20260420T130934
CREATED:20230831T144205Z
LAST-MODIFIED:20240306T200419Z
UID:10004332-1704128400-1704132000@garthma.wales
SUMMARY:Quiz Night (by Zoom)
DESCRIPTION:This is a reminder about our quiz this evening at 5pm.  It is held every Monday evening and is a a fun quiz\, there are no prizes for being first or last! \nLasting about an hour there are usually about six rounds on a wide variety of topics. If you wish to have more details on this event\, please contact the Quizmaster. We look forward to seeing you \n  \n 
URL:https://garthma.wales/events/quiz-night-by-zoom/2024-01-01/
LOCATION:St Catwg’s Church\, Pentyrch\, Church Road\, Pentyrch\, CF15 9QF\, United Kingdom
ATTACH;FMTTYPE=image/png:https://garthma.wales/wp-content/uploads/2023/08/Quiz-NIght-Logo-e1696674324514.png
ORGANIZER;CN="Zoom Quizmaster":MAILTO:rees.pentyrch@hotmail.co.uk
END:VEVENT
BEGIN:VEVENT
DTSTART;TZID=Europe/London:20231231T093000
DTEND;TZID=Europe/London:20231231T103000
DTSTAMP:20260420T130934
CREATED:20230829T142929Z
LAST-MODIFIED:20251108T122643Z
UID:10006577-1704015000-1704018600@garthma.wales
SUMMARY:Holy Eucharist - St. Ellteyrn's Church
DESCRIPTION:Holy Eucharist Service is held at St Ellteyrn’s Church\, Capel Llanilltern.  Although we have no organist we make a joyful sound as we sing our way through the Eucharist Service together. \nPlease note on the first Sunday of the month there is no service in St. Ellteyrn’s Church\, as there will be the Informal All Age Service which happens at Creigiau Church Hall at 10.30am
URL:https://garthma.wales/events/holy-eucharist-st-ellteyrns-church/2023-12-31/
LOCATION:St Ellteyrn’s Church\, Capel Llanilltern\, Capel Llanilltern\, Cardiff\, CF5 6JR\, United Kingdom
CATEGORIES:Sunday Worship
ATTACH;FMTTYPE=image/jpeg:https://garthma.wales/wp-content/uploads/2023/01/s13-rotated.jpg
END:VEVENT
BEGIN:VEVENT
DTSTART;TZID=Europe/London:20231225T170000
DTEND;TZID=Europe/London:20231225T180000
DTSTAMP:20260420T130934
CREATED:20230831T144205Z
LAST-MODIFIED:20240306T200419Z
UID:10004678-1703523600-1703527200@garthma.wales
SUMMARY:Quiz Night (by Zoom)
DESCRIPTION:This is a reminder about our quiz this evening at 5pm.  It is held every Monday evening and is a a fun quiz\, there are no prizes for being first or last! \nLasting about an hour there are usually about six rounds on a wide variety of topics. If you wish to have more details on this event\, please contact the Quizmaster. We look forward to seeing you \n  \n 
URL:https://garthma.wales/events/quiz-night-by-zoom/2023-12-25/
LOCATION:St Catwg’s Church\, Pentyrch\, Church Road\, Pentyrch\, CF15 9QF\, United Kingdom
ATTACH;FMTTYPE=image/png:https://garthma.wales/wp-content/uploads/2023/08/Quiz-NIght-Logo-e1696674324514.png
ORGANIZER;CN="Zoom Quizmaster":MAILTO:rees.pentyrch@hotmail.co.uk
END:VEVENT
BEGIN:VEVENT
DTSTART;TZID=Europe/London:20231225T093000
DTEND;TZID=Europe/London:20231225T103000
DTSTAMP:20260420T130934
CREATED:20231112T200450Z
LAST-MODIFIED:20231112T200450Z
UID:10004599-1703496600-1703500200@garthma.wales
SUMMARY:Christmas Day Eucharist\, St Ellteyrn's Church
DESCRIPTION:A Eucharist service for Christmas Day including the singing of carols. All are welcome.
URL:https://garthma.wales/events/christmas-day-eucharist-st-ellteyrns-church/
LOCATION:St Ellteyrn’s Church\, Capel Llanilltern\, Capel Llanilltern\, Cardiff\, CF5 6JR\, United Kingdom
ATTACH;FMTTYPE=image/jpeg:https://garthma.wales/wp-content/uploads/2023/11/Advent-Candles.jpg
END:VEVENT
BEGIN:VEVENT
DTSTART;TZID=Europe/London:20231224T093000
DTEND;TZID=Europe/London:20231224T103000
DTSTAMP:20260420T130934
CREATED:20230829T142929Z
LAST-MODIFIED:20251108T122643Z
UID:10006576-1703410200-1703413800@garthma.wales
SUMMARY:Holy Eucharist - St. Ellteyrn's Church
DESCRIPTION:Holy Eucharist Service is held at St Ellteyrn’s Church\, Capel Llanilltern.  Although we have no organist we make a joyful sound as we sing our way through the Eucharist Service together. \nPlease note on the first Sunday of the month there is no service in St. Ellteyrn’s Church\, as there will be the Informal All Age Service which happens at Creigiau Church Hall at 10.30am
URL:https://garthma.wales/events/holy-eucharist-st-ellteyrns-church/2023-12-24/
LOCATION:St Ellteyrn’s Church\, Capel Llanilltern\, Capel Llanilltern\, Cardiff\, CF5 6JR\, United Kingdom
CATEGORIES:Sunday Worship
ATTACH;FMTTYPE=image/jpeg:https://garthma.wales/wp-content/uploads/2023/01/s13-rotated.jpg
END:VEVENT
BEGIN:VEVENT
DTSTART;TZID=Europe/London:20231224T093000
DTEND;TZID=Europe/London:20231224T103000
DTSTAMP:20260420T130934
CREATED:20230813T145900Z
LAST-MODIFIED:20231211T112139Z
UID:10000854-1703410200-1703413800@garthma.wales
SUMMARY:Sung Eucharist - St. Ellteyrn's Church
DESCRIPTION:Welcome to our Holy Eucharist Service at St. Ellteyrn’s Church\, Capel Llanilltern. \nAlthough we have no organist we make a joyful sound as we sing our way through the Eucharist Service together.
URL:https://garthma.wales/events/sunday-eucharist-4-2/2023-12-24/
LOCATION:St Ellteyrn’s Church\, Capel Llanilltern\, Capel Llanilltern\, Cardiff\, CF5 6JR\, United Kingdom
CATEGORIES:Sunday Worship
ATTACH;FMTTYPE=image/jpeg:https://garthma.wales/wp-content/uploads/2023/01/s13-rotated.jpg
END:VEVENT
BEGIN:VEVENT
DTSTART;TZID=Europe/London:20231218T170000
DTEND;TZID=Europe/London:20231218T180000
DTSTAMP:20260420T130934
CREATED:20230831T144205Z
LAST-MODIFIED:20240306T200419Z
UID:10004330-1702918800-1702922400@garthma.wales
SUMMARY:Quiz Night (by Zoom)
DESCRIPTION:This is a reminder about our quiz this evening at 5pm.  It is held every Monday evening and is a a fun quiz\, there are no prizes for being first or last! \nLasting about an hour there are usually about six rounds on a wide variety of topics. If you wish to have more details on this event\, please contact the Quizmaster. We look forward to seeing you \n  \n 
URL:https://garthma.wales/events/quiz-night-by-zoom/2023-12-18/
LOCATION:St Catwg’s Church\, Pentyrch\, Church Road\, Pentyrch\, CF15 9QF\, United Kingdom
ATTACH;FMTTYPE=image/png:https://garthma.wales/wp-content/uploads/2023/08/Quiz-NIght-Logo-e1696674324514.png
ORGANIZER;CN="Zoom Quizmaster":MAILTO:rees.pentyrch@hotmail.co.uk
END:VEVENT
BEGIN:VEVENT
DTSTART;TZID=Europe/London:20231217T150000
DTEND;TZID=Europe/London:20231217T160000
DTSTAMP:20260420T130934
CREATED:20231104T153456Z
LAST-MODIFIED:20231112T180507Z
UID:10004310-1702825200-1702828800@garthma.wales
SUMMARY:Carol Service - St Ellteyrn's Church\, Capel Llanilltern
DESCRIPTION:Come and join us for a lovely Carol Service at our wonderful little church.
URL:https://garthma.wales/events/carol-service-st-ellteyrns-church-capel-llanilltern/
LOCATION:St Ellteyrn’s Church\, Capel Llanilltern\, Capel Llanilltern\, Cardiff\, CF5 6JR\, United Kingdom
ATTACH;FMTTYPE=image/jpeg:https://garthma.wales/wp-content/uploads/2023/11/Christmas-Carol-Service_St-Ellteyrns.jpg
END:VEVENT
END:VCALENDAR