BEGIN:VCALENDAR
VERSION:2.0
PRODID:-//The Garth Ministry Area - ECPv6.15.20//NONSGML v1.0//EN
CALSCALE:GREGORIAN
METHOD:PUBLISH
X-WR-CALNAME:The Garth Ministry Area
X-ORIGINAL-URL:https://garthma.wales
X-WR-CALDESC:Events for The Garth Ministry Area
REFRESH-INTERVAL;VALUE=DURATION:PT1H
X-Robots-Tag:noindex
X-PUBLISHED-TTL:PT1H
BEGIN:VTIMEZONE
TZID:Europe/London
BEGIN:DAYLIGHT
TZOFFSETFROM:+0000
TZOFFSETTO:+0100
TZNAME:BST
DTSTART:20220327T010000
END:DAYLIGHT
BEGIN:STANDARD
TZOFFSETFROM:+0100
TZOFFSETTO:+0000
TZNAME:GMT
DTSTART:20221030T010000
END:STANDARD
BEGIN:DAYLIGHT
TZOFFSETFROM:+0000
TZOFFSETTO:+0100
TZNAME:BST
DTSTART:20230326T010000
END:DAYLIGHT
BEGIN:STANDARD
TZOFFSETFROM:+0100
TZOFFSETTO:+0000
TZNAME:GMT
DTSTART:20231029T010000
END:STANDARD
BEGIN:DAYLIGHT
TZOFFSETFROM:+0000
TZOFFSETTO:+0100
TZNAME:BST
DTSTART:20240331T010000
END:DAYLIGHT
BEGIN:STANDARD
TZOFFSETFROM:+0100
TZOFFSETTO:+0000
TZNAME:GMT
DTSTART:20241027T010000
END:STANDARD
BEGIN:DAYLIGHT
TZOFFSETFROM:+0000
TZOFFSETTO:+0100
TZNAME:BST
DTSTART:20250330T010000
END:DAYLIGHT
BEGIN:STANDARD
TZOFFSETFROM:+0100
TZOFFSETTO:+0000
TZNAME:GMT
DTSTART:20251026T010000
END:STANDARD
BEGIN:DAYLIGHT
TZOFFSETFROM:+0000
TZOFFSETTO:+0100
TZNAME:BST
DTSTART:20260329T010000
END:DAYLIGHT
BEGIN:STANDARD
TZOFFSETFROM:+0100
TZOFFSETTO:+0000
TZNAME:GMT
DTSTART:20261025T010000
END:STANDARD
BEGIN:DAYLIGHT
TZOFFSETFROM:+0000
TZOFFSETTO:+0100
TZNAME:BST
DTSTART:20270328T010000
END:DAYLIGHT
BEGIN:STANDARD
TZOFFSETFROM:+0100
TZOFFSETTO:+0000
TZNAME:GMT
DTSTART:20271031T010000
END:STANDARD
END:VTIMEZONE
BEGIN:VEVENT
DTSTART;TZID=Europe/London:20260419T093000
DTEND;TZID=Europe/London:20260419T103000
DTSTAMP:20260419T235516
CREATED:20230829T142929Z
LAST-MODIFIED:20251108T122643Z
UID:10006669-1776591000-1776594600@garthma.wales
SUMMARY:Holy Eucharist - St. Ellteyrn's Church
DESCRIPTION:Holy Eucharist Service is held at St Ellteyrn’s Church\, Capel Llanilltern.  Although we have no organist we make a joyful sound as we sing our way through the Eucharist Service together. \nPlease note on the first Sunday of the month there is no service in St. Ellteyrn’s Church\, as there will be the Informal All Age Service which happens at Creigiau Church Hall at 10.30am
URL:https://garthma.wales/events/holy-eucharist-st-ellteyrns-church/2026-04-19/
LOCATION:St Ellteyrn’s Church\, Capel Llanilltern\, Capel Llanilltern\, Cardiff\, CF5 6JR\, United Kingdom
CATEGORIES:Sunday Worship
ATTACH;FMTTYPE=image/jpeg:https://garthma.wales/wp-content/uploads/2023/01/s13-rotated.jpg
END:VEVENT
BEGIN:VEVENT
DTSTART;TZID=Europe/London:20260413T170000
DTEND;TZID=Europe/London:20260413T180000
DTSTAMP:20260419T235516
CREATED:20240306T200528Z
LAST-MODIFIED:20240306T200528Z
UID:10004451-1776099600-1776103200@garthma.wales
SUMMARY:Quiz Night (by Zoom)
DESCRIPTION:This is a reminder about our quiz this evening at 5pm.  It is held every Monday evening and is a a fun quiz\, there are no prizes for being first or last! \nLasting about an hour there are usually about six rounds on a wide variety of topics. If you wish to have more details on this event\, please contact the Quizmaster. We look forward to seeing you \n  \n 
URL:https://garthma.wales/events/quiz-night-by-zoom-2/2026-04-13/
LOCATION:St Catwg’s Church\, Pentyrch\, Church Road\, Pentyrch\, CF15 9QF\, United Kingdom
ATTACH;FMTTYPE=image/png:https://garthma.wales/wp-content/uploads/2023/08/Quiz-NIght-Logo-e1696674324514.png
ORGANIZER;CN="Zoom Quizmaster":MAILTO:rees.pentyrch@hotmail.co.uk
END:VEVENT
BEGIN:VEVENT
DTSTART;TZID=Europe/London:20260403T110000
DTEND;TZID=Europe/London:20260403T120000
DTSTAMP:20260419T235516
CREATED:20240223T113117Z
LAST-MODIFIED:20260205T215849Z
UID:10004677-1775214000-1775217600@garthma.wales
SUMMARY:Good Friday Service - St. Ellteyrn's Church\, Capel Llanilltern
DESCRIPTION:Please join us for our Good Friday Service.
URL:https://garthma.wales/events/good-friday-compline-st-ellteyrns-church-capel-llanilltern/
LOCATION:St Ellteyrn’s Church\, Capel Llanilltern\, Capel Llanilltern\, Cardiff\, CF5 6JR\, United Kingdom
CATEGORIES:Mid Week Worship
ATTACH;FMTTYPE=image/jpeg:https://garthma.wales/wp-content/uploads/2024/02/Good-Friday-Family-Service.jpg
END:VEVENT
BEGIN:VEVENT
DTSTART;TZID=Europe/London:20251225T093000
DTEND;TZID=Europe/London:20251225T103000
DTSTAMP:20260419T235516
CREATED:20241119T163426Z
LAST-MODIFIED:20251203T164334Z
UID:10005087-1766655000-1766658600@garthma.wales
SUMMARY:Christmas Day Eucharist\, St Ellteyrn's Church
DESCRIPTION:A Eucharist service for Christmas Day. All are welcome.
URL:https://garthma.wales/events/christmas-day-eucharist-st-ellteyrns-church-2/
LOCATION:St Ellteyrn’s Church\, Capel Llanilltern\, Capel Llanilltern\, Cardiff\, CF5 6JR\, United Kingdom
CATEGORIES:Christmas
ATTACH;FMTTYPE=image/jpeg:https://garthma.wales/wp-content/uploads/2023/11/Advent-Candles.jpg
END:VEVENT
BEGIN:VEVENT
DTSTART;TZID=Europe/London:20251221T150000
DTEND;TZID=Europe/London:20251221T160000
DTSTAMP:20260419T235516
CREATED:20241119T210448Z
LAST-MODIFIED:20251203T162341Z
UID:10005697-1766329200-1766332800@garthma.wales
SUMMARY:Carol Service - St Ellteyrn's Church\, Capel Llanilltern
DESCRIPTION:Come and join us for a lovely Carol Service at our wonderful little church.
URL:https://garthma.wales/events/carol-service-st-ellteyrns-church-capel-llanilltern-2/
LOCATION:St Ellteyrn’s Church\, Capel Llanilltern\, Capel Llanilltern\, Cardiff\, CF5 6JR\, United Kingdom
CATEGORIES:Christmas
ATTACH;FMTTYPE=image/jpeg:https://garthma.wales/wp-content/uploads/2023/11/Christmas-Carol-Service.jpg
END:VEVENT
BEGIN:VEVENT
DTSTART;TZID=Europe/London:20251005T153000
DTEND;TZID=Europe/London:20251005T163000
DTSTAMP:20260419T235516
CREATED:20250916T152748Z
LAST-MODIFIED:20250916T152748Z
UID:10011124-1759678200-1759681800@garthma.wales
SUMMARY:Harvest Songs of Praise - St Ellteyrn's Church
DESCRIPTION:Come along and join us for a heart-warming Songs of Praise in our beautiful little Church. Sing all of your favourite Harvest hymns. A warm welcome awaits everyone. \nAny donations for the Food Bank will be gratefully received.
URL:https://garthma.wales/events/harvest-songs-of-praise-st-ellteyrns-church/
LOCATION:St Ellteyrn’s Church\, Capel Llanilltern\, Capel Llanilltern\, Cardiff\, CF5 6JR\, United Kingdom
END:VEVENT
BEGIN:VEVENT
DTSTART;TZID=Europe/London:20240912T190000
DTEND;TZID=Europe/London:20240912T200000
DTSTAMP:20260419T235516
CREATED:20240902T142958Z
LAST-MODIFIED:20240902T143304Z
UID:10005067-1726167600-1726171200@garthma.wales
SUMMARY:Licencing Service (at Christ Church\, Radyr)
DESCRIPTION:Rev’d Mary Evans and Rev’d Edward Owen will begin their ministry among us on 12 September when they will be licensed along with the whole Ministry Team in a service at 7pm in Christ Church\, Radyr (the service will be streamed on our usual YouTube channel). Light refreshments will be served after the service in the New Schoolrooms. Please do come along to the service which we hope will gather people from across the Ministry Area as we worship together and pray for the future of all who live and work in our communities.
URL:https://garthma.wales/events/licencing-service/
LOCATION:Christ Church\, Radyr\, Heol Isaf\, Radyr\, Cardiff\, CF15 8DY\, United Kingdom
ATTACH;FMTTYPE=image/png:https://garthma.wales/wp-content/uploads/2024/09/garth-basic.png
END:VEVENT
BEGIN:VEVENT
DTSTART;TZID=Europe/London:20231225T093000
DTEND;TZID=Europe/London:20231225T103000
DTSTAMP:20260419T235516
CREATED:20231112T200450Z
LAST-MODIFIED:20231112T200450Z
UID:10004599-1703496600-1703500200@garthma.wales
SUMMARY:Christmas Day Eucharist\, St Ellteyrn's Church
DESCRIPTION:A Eucharist service for Christmas Day including the singing of carols. All are welcome.
URL:https://garthma.wales/events/christmas-day-eucharist-st-ellteyrns-church/
LOCATION:St Ellteyrn’s Church\, Capel Llanilltern\, Capel Llanilltern\, Cardiff\, CF5 6JR\, United Kingdom
ATTACH;FMTTYPE=image/jpeg:https://garthma.wales/wp-content/uploads/2023/11/Advent-Candles.jpg
END:VEVENT
BEGIN:VEVENT
DTSTART;TZID=Europe/London:20231217T150000
DTEND;TZID=Europe/London:20231217T160000
DTSTAMP:20260419T235516
CREATED:20231104T153456Z
LAST-MODIFIED:20231112T180507Z
UID:10004310-1702825200-1702828800@garthma.wales
SUMMARY:Carol Service - St Ellteyrn's Church\, Capel Llanilltern
DESCRIPTION:Come and join us for a lovely Carol Service at our wonderful little church.
URL:https://garthma.wales/events/carol-service-st-ellteyrns-church-capel-llanilltern/
LOCATION:St Ellteyrn’s Church\, Capel Llanilltern\, Capel Llanilltern\, Cardiff\, CF5 6JR\, United Kingdom
ATTACH;FMTTYPE=image/jpeg:https://garthma.wales/wp-content/uploads/2023/11/Christmas-Carol-Service_St-Ellteyrns.jpg
END:VEVENT
BEGIN:VEVENT
DTSTART;TZID=Europe/London:20231008T093000
DTEND;TZID=Europe/London:20231008T103000
DTSTAMP:20260419T235516
CREATED:20230829T142824Z
LAST-MODIFIED:20230829T142824Z
UID:10003332-1696757400-1696761000@garthma.wales
SUMMARY:Harvest Thanksgiving Service – St. Ellteyrn’s Church
DESCRIPTION:We are celebrating our Harvest Festival at St. Ellteyrn’s Church to remind us of all of the good things God has given us\, particularly the food we eat. Please bring your gifts of tins of food into church (if you are able) and they will be donated to the Cardiff Foodbank.
URL:https://garthma.wales/events/harvest-thanksgiving-service-st-ellteyrns-church/
LOCATION:St Ellteyrn’s Church\, Capel Llanilltern\, Capel Llanilltern\, Cardiff\, CF5 6JR\, United Kingdom
CATEGORIES:Sunday Worship
ATTACH;FMTTYPE=image/jpeg:https://garthma.wales/wp-content/uploads/2023/08/Harvest.jpg
END:VEVENT
END:VCALENDAR