BEGIN:VCALENDAR
VERSION:2.0
PRODID:-//The Garth Ministry Area - ECPv6.15.20//NONSGML v1.0//EN
CALSCALE:GREGORIAN
METHOD:PUBLISH
X-WR-CALNAME:The Garth Ministry Area
X-ORIGINAL-URL:https://garthma.wales
X-WR-CALDESC:Events for The Garth Ministry Area
REFRESH-INTERVAL;VALUE=DURATION:PT1H
X-Robots-Tag:noindex
X-PUBLISHED-TTL:PT1H
BEGIN:VTIMEZONE
TZID:Europe/London
BEGIN:DAYLIGHT
TZOFFSETFROM:+0000
TZOFFSETTO:+0100
TZNAME:BST
DTSTART:20260329T010000
END:DAYLIGHT
BEGIN:STANDARD
TZOFFSETFROM:+0100
TZOFFSETTO:+0000
TZNAME:GMT
DTSTART:20261025T010000
END:STANDARD
BEGIN:DAYLIGHT
TZOFFSETFROM:+0000
TZOFFSETTO:+0100
TZNAME:BST
DTSTART:20270328T010000
END:DAYLIGHT
BEGIN:STANDARD
TZOFFSETFROM:+0100
TZOFFSETTO:+0000
TZNAME:GMT
DTSTART:20271031T010000
END:STANDARD
BEGIN:DAYLIGHT
TZOFFSETFROM:+0000
TZOFFSETTO:+0100
TZNAME:BST
DTSTART:20280326T010000
END:DAYLIGHT
BEGIN:STANDARD
TZOFFSETFROM:+0100
TZOFFSETTO:+0000
TZNAME:GMT
DTSTART:20281029T010000
END:STANDARD
END:VTIMEZONE
BEGIN:VEVENT
DTSTART;TZID=Europe/London:20270921T100000
DTEND;TZID=Europe/London:20270921T110000
DTSTAMP:20260426T050725
CREATED:20250325T114024Z
LAST-MODIFIED:20260225T135435Z
UID:10008640-1821520800-1821524400@garthma.wales
SUMMARY:Holy Eucharist - St. David's Church
DESCRIPTION:Holy Eucharist Service held at St. David’s Church\, Groesfaen at 10.00am.
URL:https://garthma.wales/events/midweek-worship-2-2-2/2027-09-21/
LOCATION:St David’s Church\, Groesfaen\, Llantrisant Road\, Groesfaen\, Pontyclun\, CF72 8NS\, United Kingdom
CATEGORIES:Mid Week Worship
ATTACH;FMTTYPE=image/jpeg:https://garthma.wales/wp-content/uploads/2023/01/Altar-Window-rotated.jpg
END:VEVENT
BEGIN:VEVENT
DTSTART;TZID=Europe/London:20270926T093000
DTEND;TZID=Europe/London:20270926T103000
DTSTAMP:20260426T050725
CREATED:20230828T114824Z
LAST-MODIFIED:20251108T122548Z
UID:10009556-1821951000-1821954600@garthma.wales
SUMMARY:Holy Eucharist - St. David's Church
DESCRIPTION:Holy Eucharist Service held at St. David’s Church\, Groesfaen. \nPlease note on the first Sunday of the month there is no service in St. David’s Church\, as there will be the Informal All Age Service which happens at Creigiau Church Hall at 10.30am
URL:https://garthma.wales/events/sunday-eucharist-3-2/2027-09-26/
LOCATION:St David’s Church\, Groesfaen\, Llantrisant Road\, Groesfaen\, Pontyclun\, CF72 8NS\, United Kingdom
CATEGORIES:Sunday Worship
ATTACH;FMTTYPE=image/jpeg:https://garthma.wales/wp-content/uploads/2023/01/Altar-Window-rotated.jpg
END:VEVENT
BEGIN:VEVENT
DTSTART;TZID=Europe/London:20270927T170000
DTEND;TZID=Europe/London:20270927T180000
DTSTAMP:20260426T050725
CREATED:20240306T200528Z
LAST-MODIFIED:20240306T200528Z
UID:10004527-1822064400-1822068000@garthma.wales
SUMMARY:Quiz Night (by Zoom)
DESCRIPTION:This is a reminder about our quiz this evening at 5pm.  It is held every Monday evening and is a a fun quiz\, there are no prizes for being first or last! \nLasting about an hour there are usually about six rounds on a wide variety of topics. If you wish to have more details on this event\, please contact the Quizmaster. We look forward to seeing you \n  \n 
URL:https://garthma.wales/events/quiz-night-by-zoom-2/2027-09-27/
LOCATION:St Catwg’s Church\, Pentyrch\, Church Road\, Pentyrch\, CF15 9QF\, United Kingdom
ATTACH;FMTTYPE=image/png:https://garthma.wales/wp-content/uploads/2023/08/Quiz-NIght-Logo-e1696674324514.png
ORGANIZER;CN="Zoom Quizmaster":MAILTO:rees.pentyrch@hotmail.co.uk
END:VEVENT
BEGIN:VEVENT
DTSTART;TZID=Europe/London:20270928T100000
DTEND;TZID=Europe/London:20270928T110000
DTSTAMP:20260426T050725
CREATED:20250325T114024Z
LAST-MODIFIED:20260225T135435Z
UID:10008641-1822125600-1822129200@garthma.wales
SUMMARY:Holy Eucharist - St. David's Church
DESCRIPTION:Holy Eucharist Service held at St. David’s Church\, Groesfaen at 10.00am.
URL:https://garthma.wales/events/midweek-worship-2-2-2/2027-09-28/
LOCATION:St David’s Church\, Groesfaen\, Llantrisant Road\, Groesfaen\, Pontyclun\, CF72 8NS\, United Kingdom
CATEGORIES:Mid Week Worship
ATTACH;FMTTYPE=image/jpeg:https://garthma.wales/wp-content/uploads/2023/01/Altar-Window-rotated.jpg
END:VEVENT
BEGIN:VEVENT
DTSTART;TZID=Europe/London:20271004T170000
DTEND;TZID=Europe/London:20271004T180000
DTSTAMP:20260426T050725
CREATED:20240306T200528Z
LAST-MODIFIED:20240306T200528Z
UID:10004528-1822669200-1822672800@garthma.wales
SUMMARY:Quiz Night (by Zoom)
DESCRIPTION:This is a reminder about our quiz this evening at 5pm.  It is held every Monday evening and is a a fun quiz\, there are no prizes for being first or last! \nLasting about an hour there are usually about six rounds on a wide variety of topics. If you wish to have more details on this event\, please contact the Quizmaster. We look forward to seeing you \n  \n 
URL:https://garthma.wales/events/quiz-night-by-zoom-2/2027-10-04/
LOCATION:St Catwg’s Church\, Pentyrch\, Church Road\, Pentyrch\, CF15 9QF\, United Kingdom
ATTACH;FMTTYPE=image/png:https://garthma.wales/wp-content/uploads/2023/08/Quiz-NIght-Logo-e1696674324514.png
ORGANIZER;CN="Zoom Quizmaster":MAILTO:rees.pentyrch@hotmail.co.uk
END:VEVENT
BEGIN:VEVENT
DTSTART;TZID=Europe/London:20271005T100000
DTEND;TZID=Europe/London:20271005T110000
DTSTAMP:20260426T050725
CREATED:20250325T114024Z
LAST-MODIFIED:20260225T135435Z
UID:10008642-1822730400-1822734000@garthma.wales
SUMMARY:Holy Eucharist - St. David's Church
DESCRIPTION:Holy Eucharist Service held at St. David’s Church\, Groesfaen at 10.00am.
URL:https://garthma.wales/events/midweek-worship-2-2-2/2027-10-05/
LOCATION:St David’s Church\, Groesfaen\, Llantrisant Road\, Groesfaen\, Pontyclun\, CF72 8NS\, United Kingdom
CATEGORIES:Mid Week Worship
ATTACH;FMTTYPE=image/jpeg:https://garthma.wales/wp-content/uploads/2023/01/Altar-Window-rotated.jpg
END:VEVENT
BEGIN:VEVENT
DTSTART;TZID=Europe/London:20271010T093000
DTEND;TZID=Europe/London:20271010T103000
DTSTAMP:20260426T050725
CREATED:20230828T114824Z
LAST-MODIFIED:20251108T122548Z
UID:10009557-1823160600-1823164200@garthma.wales
SUMMARY:Holy Eucharist - St. David's Church
DESCRIPTION:Holy Eucharist Service held at St. David’s Church\, Groesfaen. \nPlease note on the first Sunday of the month there is no service in St. David’s Church\, as there will be the Informal All Age Service which happens at Creigiau Church Hall at 10.30am
URL:https://garthma.wales/events/sunday-eucharist-3-2/2027-10-10/
LOCATION:St David’s Church\, Groesfaen\, Llantrisant Road\, Groesfaen\, Pontyclun\, CF72 8NS\, United Kingdom
CATEGORIES:Sunday Worship
ATTACH;FMTTYPE=image/jpeg:https://garthma.wales/wp-content/uploads/2023/01/Altar-Window-rotated.jpg
END:VEVENT
BEGIN:VEVENT
DTSTART;TZID=Europe/London:20271011T170000
DTEND;TZID=Europe/London:20271011T180000
DTSTAMP:20260426T050725
CREATED:20240306T200528Z
LAST-MODIFIED:20240306T200528Z
UID:10004529-1823274000-1823277600@garthma.wales
SUMMARY:Quiz Night (by Zoom)
DESCRIPTION:This is a reminder about our quiz this evening at 5pm.  It is held every Monday evening and is a a fun quiz\, there are no prizes for being first or last! \nLasting about an hour there are usually about six rounds on a wide variety of topics. If you wish to have more details on this event\, please contact the Quizmaster. We look forward to seeing you \n  \n 
URL:https://garthma.wales/events/quiz-night-by-zoom-2/2027-10-11/
LOCATION:St Catwg’s Church\, Pentyrch\, Church Road\, Pentyrch\, CF15 9QF\, United Kingdom
ATTACH;FMTTYPE=image/png:https://garthma.wales/wp-content/uploads/2023/08/Quiz-NIght-Logo-e1696674324514.png
ORGANIZER;CN="Zoom Quizmaster":MAILTO:rees.pentyrch@hotmail.co.uk
END:VEVENT
BEGIN:VEVENT
DTSTART;TZID=Europe/London:20271012T100000
DTEND;TZID=Europe/London:20271012T110000
DTSTAMP:20260426T050725
CREATED:20250325T114024Z
LAST-MODIFIED:20260225T135435Z
UID:10008643-1823335200-1823338800@garthma.wales
SUMMARY:Holy Eucharist - St. David's Church
DESCRIPTION:Holy Eucharist Service held at St. David’s Church\, Groesfaen at 10.00am.
URL:https://garthma.wales/events/midweek-worship-2-2-2/2027-10-12/
LOCATION:St David’s Church\, Groesfaen\, Llantrisant Road\, Groesfaen\, Pontyclun\, CF72 8NS\, United Kingdom
CATEGORIES:Mid Week Worship
ATTACH;FMTTYPE=image/jpeg:https://garthma.wales/wp-content/uploads/2023/01/Altar-Window-rotated.jpg
END:VEVENT
BEGIN:VEVENT
DTSTART;TZID=Europe/London:20271017T093000
DTEND;TZID=Europe/London:20271017T103000
DTSTAMP:20260426T050725
CREATED:20230828T114824Z
LAST-MODIFIED:20251108T122548Z
UID:10009558-1823765400-1823769000@garthma.wales
SUMMARY:Holy Eucharist - St. David's Church
DESCRIPTION:Holy Eucharist Service held at St. David’s Church\, Groesfaen. \nPlease note on the first Sunday of the month there is no service in St. David’s Church\, as there will be the Informal All Age Service which happens at Creigiau Church Hall at 10.30am
URL:https://garthma.wales/events/sunday-eucharist-3-2/2027-10-17/
LOCATION:St David’s Church\, Groesfaen\, Llantrisant Road\, Groesfaen\, Pontyclun\, CF72 8NS\, United Kingdom
CATEGORIES:Sunday Worship
ATTACH;FMTTYPE=image/jpeg:https://garthma.wales/wp-content/uploads/2023/01/Altar-Window-rotated.jpg
END:VEVENT
BEGIN:VEVENT
DTSTART;TZID=Europe/London:20271018T170000
DTEND;TZID=Europe/London:20271018T180000
DTSTAMP:20260426T050725
CREATED:20240306T200528Z
LAST-MODIFIED:20240306T200528Z
UID:10004530-1823878800-1823882400@garthma.wales
SUMMARY:Quiz Night (by Zoom)
DESCRIPTION:This is a reminder about our quiz this evening at 5pm.  It is held every Monday evening and is a a fun quiz\, there are no prizes for being first or last! \nLasting about an hour there are usually about six rounds on a wide variety of topics. If you wish to have more details on this event\, please contact the Quizmaster. We look forward to seeing you \n  \n 
URL:https://garthma.wales/events/quiz-night-by-zoom-2/2027-10-18/
LOCATION:St Catwg’s Church\, Pentyrch\, Church Road\, Pentyrch\, CF15 9QF\, United Kingdom
ATTACH;FMTTYPE=image/png:https://garthma.wales/wp-content/uploads/2023/08/Quiz-NIght-Logo-e1696674324514.png
ORGANIZER;CN="Zoom Quizmaster":MAILTO:rees.pentyrch@hotmail.co.uk
END:VEVENT
BEGIN:VEVENT
DTSTART;TZID=Europe/London:20271019T100000
DTEND;TZID=Europe/London:20271019T110000
DTSTAMP:20260426T050725
CREATED:20250325T114024Z
LAST-MODIFIED:20260225T135435Z
UID:10008644-1823940000-1823943600@garthma.wales
SUMMARY:Holy Eucharist - St. David's Church
DESCRIPTION:Holy Eucharist Service held at St. David’s Church\, Groesfaen at 10.00am.
URL:https://garthma.wales/events/midweek-worship-2-2-2/2027-10-19/
LOCATION:St David’s Church\, Groesfaen\, Llantrisant Road\, Groesfaen\, Pontyclun\, CF72 8NS\, United Kingdom
CATEGORIES:Mid Week Worship
ATTACH;FMTTYPE=image/jpeg:https://garthma.wales/wp-content/uploads/2023/01/Altar-Window-rotated.jpg
END:VEVENT
BEGIN:VEVENT
DTSTART;TZID=Europe/London:20271024T093000
DTEND;TZID=Europe/London:20271024T103000
DTSTAMP:20260426T050725
CREATED:20230828T114824Z
LAST-MODIFIED:20251108T122548Z
UID:10009559-1824370200-1824373800@garthma.wales
SUMMARY:Holy Eucharist - St. David's Church
DESCRIPTION:Holy Eucharist Service held at St. David’s Church\, Groesfaen. \nPlease note on the first Sunday of the month there is no service in St. David’s Church\, as there will be the Informal All Age Service which happens at Creigiau Church Hall at 10.30am
URL:https://garthma.wales/events/sunday-eucharist-3-2/2027-10-24/
LOCATION:St David’s Church\, Groesfaen\, Llantrisant Road\, Groesfaen\, Pontyclun\, CF72 8NS\, United Kingdom
CATEGORIES:Sunday Worship
ATTACH;FMTTYPE=image/jpeg:https://garthma.wales/wp-content/uploads/2023/01/Altar-Window-rotated.jpg
END:VEVENT
BEGIN:VEVENT
DTSTART;TZID=Europe/London:20271025T170000
DTEND;TZID=Europe/London:20271025T180000
DTSTAMP:20260426T050725
CREATED:20240306T200528Z
LAST-MODIFIED:20240306T200528Z
UID:10004531-1824483600-1824487200@garthma.wales
SUMMARY:Quiz Night (by Zoom)
DESCRIPTION:This is a reminder about our quiz this evening at 5pm.  It is held every Monday evening and is a a fun quiz\, there are no prizes for being first or last! \nLasting about an hour there are usually about six rounds on a wide variety of topics. If you wish to have more details on this event\, please contact the Quizmaster. We look forward to seeing you \n  \n 
URL:https://garthma.wales/events/quiz-night-by-zoom-2/2027-10-25/
LOCATION:St Catwg’s Church\, Pentyrch\, Church Road\, Pentyrch\, CF15 9QF\, United Kingdom
ATTACH;FMTTYPE=image/png:https://garthma.wales/wp-content/uploads/2023/08/Quiz-NIght-Logo-e1696674324514.png
ORGANIZER;CN="Zoom Quizmaster":MAILTO:rees.pentyrch@hotmail.co.uk
END:VEVENT
BEGIN:VEVENT
DTSTART;TZID=Europe/London:20271026T100000
DTEND;TZID=Europe/London:20271026T110000
DTSTAMP:20260426T050725
CREATED:20250325T114024Z
LAST-MODIFIED:20260225T135435Z
UID:10008645-1824544800-1824548400@garthma.wales
SUMMARY:Holy Eucharist - St. David's Church
DESCRIPTION:Holy Eucharist Service held at St. David’s Church\, Groesfaen at 10.00am.
URL:https://garthma.wales/events/midweek-worship-2-2-2/2027-10-26/
LOCATION:St David’s Church\, Groesfaen\, Llantrisant Road\, Groesfaen\, Pontyclun\, CF72 8NS\, United Kingdom
CATEGORIES:Mid Week Worship
ATTACH;FMTTYPE=image/jpeg:https://garthma.wales/wp-content/uploads/2023/01/Altar-Window-rotated.jpg
END:VEVENT
BEGIN:VEVENT
DTSTART;TZID=Europe/London:20271031T093000
DTEND;TZID=Europe/London:20271031T103000
DTSTAMP:20260426T050725
CREATED:20230828T114824Z
LAST-MODIFIED:20251108T122548Z
UID:10009560-1824975000-1824978600@garthma.wales
SUMMARY:Holy Eucharist - St. David's Church
DESCRIPTION:Holy Eucharist Service held at St. David’s Church\, Groesfaen. \nPlease note on the first Sunday of the month there is no service in St. David’s Church\, as there will be the Informal All Age Service which happens at Creigiau Church Hall at 10.30am
URL:https://garthma.wales/events/sunday-eucharist-3-2/2027-10-31/
LOCATION:St David’s Church\, Groesfaen\, Llantrisant Road\, Groesfaen\, Pontyclun\, CF72 8NS\, United Kingdom
CATEGORIES:Sunday Worship
ATTACH;FMTTYPE=image/jpeg:https://garthma.wales/wp-content/uploads/2023/01/Altar-Window-rotated.jpg
END:VEVENT
BEGIN:VEVENT
DTSTART;TZID=Europe/London:20271101T170000
DTEND;TZID=Europe/London:20271101T180000
DTSTAMP:20260426T050725
CREATED:20240306T200528Z
LAST-MODIFIED:20240306T200528Z
UID:10004532-1825088400-1825092000@garthma.wales
SUMMARY:Quiz Night (by Zoom)
DESCRIPTION:This is a reminder about our quiz this evening at 5pm.  It is held every Monday evening and is a a fun quiz\, there are no prizes for being first or last! \nLasting about an hour there are usually about six rounds on a wide variety of topics. If you wish to have more details on this event\, please contact the Quizmaster. We look forward to seeing you \n  \n 
URL:https://garthma.wales/events/quiz-night-by-zoom-2/2027-11-01/
LOCATION:St Catwg’s Church\, Pentyrch\, Church Road\, Pentyrch\, CF15 9QF\, United Kingdom
ATTACH;FMTTYPE=image/png:https://garthma.wales/wp-content/uploads/2023/08/Quiz-NIght-Logo-e1696674324514.png
ORGANIZER;CN="Zoom Quizmaster":MAILTO:rees.pentyrch@hotmail.co.uk
END:VEVENT
BEGIN:VEVENT
DTSTART;TZID=Europe/London:20271102T100000
DTEND;TZID=Europe/London:20271102T110000
DTSTAMP:20260426T050725
CREATED:20250325T114024Z
LAST-MODIFIED:20260225T135435Z
UID:10008646-1825149600-1825153200@garthma.wales
SUMMARY:Holy Eucharist - St. David's Church
DESCRIPTION:Holy Eucharist Service held at St. David’s Church\, Groesfaen at 10.00am.
URL:https://garthma.wales/events/midweek-worship-2-2-2/2027-11-02/
LOCATION:St David’s Church\, Groesfaen\, Llantrisant Road\, Groesfaen\, Pontyclun\, CF72 8NS\, United Kingdom
CATEGORIES:Mid Week Worship
ATTACH;FMTTYPE=image/jpeg:https://garthma.wales/wp-content/uploads/2023/01/Altar-Window-rotated.jpg
END:VEVENT
BEGIN:VEVENT
DTSTART;TZID=Europe/London:20271108T170000
DTEND;TZID=Europe/London:20271108T180000
DTSTAMP:20260426T050726
CREATED:20240306T200528Z
LAST-MODIFIED:20240306T200528Z
UID:10004533-1825693200-1825696800@garthma.wales
SUMMARY:Quiz Night (by Zoom)
DESCRIPTION:This is a reminder about our quiz this evening at 5pm.  It is held every Monday evening and is a a fun quiz\, there are no prizes for being first or last! \nLasting about an hour there are usually about six rounds on a wide variety of topics. If you wish to have more details on this event\, please contact the Quizmaster. We look forward to seeing you \n  \n 
URL:https://garthma.wales/events/quiz-night-by-zoom-2/2027-11-08/
LOCATION:St Catwg’s Church\, Pentyrch\, Church Road\, Pentyrch\, CF15 9QF\, United Kingdom
ATTACH;FMTTYPE=image/png:https://garthma.wales/wp-content/uploads/2023/08/Quiz-NIght-Logo-e1696674324514.png
ORGANIZER;CN="Zoom Quizmaster":MAILTO:rees.pentyrch@hotmail.co.uk
END:VEVENT
BEGIN:VEVENT
DTSTART;TZID=Europe/London:20271109T100000
DTEND;TZID=Europe/London:20271109T110000
DTSTAMP:20260426T050726
CREATED:20250325T114024Z
LAST-MODIFIED:20260225T135435Z
UID:10008647-1825754400-1825758000@garthma.wales
SUMMARY:Holy Eucharist - St. David's Church
DESCRIPTION:Holy Eucharist Service held at St. David’s Church\, Groesfaen at 10.00am.
URL:https://garthma.wales/events/midweek-worship-2-2-2/2027-11-09/
LOCATION:St David’s Church\, Groesfaen\, Llantrisant Road\, Groesfaen\, Pontyclun\, CF72 8NS\, United Kingdom
CATEGORIES:Mid Week Worship
ATTACH;FMTTYPE=image/jpeg:https://garthma.wales/wp-content/uploads/2023/01/Altar-Window-rotated.jpg
END:VEVENT
BEGIN:VEVENT
DTSTART;TZID=Europe/London:20271114T093000
DTEND;TZID=Europe/London:20271114T103000
DTSTAMP:20260426T050726
CREATED:20230828T114824Z
LAST-MODIFIED:20251108T122548Z
UID:10009561-1826184600-1826188200@garthma.wales
SUMMARY:Holy Eucharist - St. David's Church
DESCRIPTION:Holy Eucharist Service held at St. David’s Church\, Groesfaen. \nPlease note on the first Sunday of the month there is no service in St. David’s Church\, as there will be the Informal All Age Service which happens at Creigiau Church Hall at 10.30am
URL:https://garthma.wales/events/sunday-eucharist-3-2/2027-11-14/
LOCATION:St David’s Church\, Groesfaen\, Llantrisant Road\, Groesfaen\, Pontyclun\, CF72 8NS\, United Kingdom
CATEGORIES:Sunday Worship
ATTACH;FMTTYPE=image/jpeg:https://garthma.wales/wp-content/uploads/2023/01/Altar-Window-rotated.jpg
END:VEVENT
BEGIN:VEVENT
DTSTART;TZID=Europe/London:20271115T170000
DTEND;TZID=Europe/London:20271115T180000
DTSTAMP:20260426T050726
CREATED:20240306T200528Z
LAST-MODIFIED:20240306T200528Z
UID:10004534-1826298000-1826301600@garthma.wales
SUMMARY:Quiz Night (by Zoom)
DESCRIPTION:This is a reminder about our quiz this evening at 5pm.  It is held every Monday evening and is a a fun quiz\, there are no prizes for being first or last! \nLasting about an hour there are usually about six rounds on a wide variety of topics. If you wish to have more details on this event\, please contact the Quizmaster. We look forward to seeing you \n  \n 
URL:https://garthma.wales/events/quiz-night-by-zoom-2/2027-11-15/
LOCATION:St Catwg’s Church\, Pentyrch\, Church Road\, Pentyrch\, CF15 9QF\, United Kingdom
ATTACH;FMTTYPE=image/png:https://garthma.wales/wp-content/uploads/2023/08/Quiz-NIght-Logo-e1696674324514.png
ORGANIZER;CN="Zoom Quizmaster":MAILTO:rees.pentyrch@hotmail.co.uk
END:VEVENT
BEGIN:VEVENT
DTSTART;TZID=Europe/London:20271116T100000
DTEND;TZID=Europe/London:20271116T110000
DTSTAMP:20260426T050726
CREATED:20250325T114024Z
LAST-MODIFIED:20260225T135435Z
UID:10008648-1826359200-1826362800@garthma.wales
SUMMARY:Holy Eucharist - St. David's Church
DESCRIPTION:Holy Eucharist Service held at St. David’s Church\, Groesfaen at 10.00am.
URL:https://garthma.wales/events/midweek-worship-2-2-2/2027-11-16/
LOCATION:St David’s Church\, Groesfaen\, Llantrisant Road\, Groesfaen\, Pontyclun\, CF72 8NS\, United Kingdom
CATEGORIES:Mid Week Worship
ATTACH;FMTTYPE=image/jpeg:https://garthma.wales/wp-content/uploads/2023/01/Altar-Window-rotated.jpg
END:VEVENT
BEGIN:VEVENT
DTSTART;TZID=Europe/London:20271121T093000
DTEND;TZID=Europe/London:20271121T103000
DTSTAMP:20260426T050726
CREATED:20230828T114824Z
LAST-MODIFIED:20251108T122548Z
UID:10009562-1826789400-1826793000@garthma.wales
SUMMARY:Holy Eucharist - St. David's Church
DESCRIPTION:Holy Eucharist Service held at St. David’s Church\, Groesfaen. \nPlease note on the first Sunday of the month there is no service in St. David’s Church\, as there will be the Informal All Age Service which happens at Creigiau Church Hall at 10.30am
URL:https://garthma.wales/events/sunday-eucharist-3-2/2027-11-21/
LOCATION:St David’s Church\, Groesfaen\, Llantrisant Road\, Groesfaen\, Pontyclun\, CF72 8NS\, United Kingdom
CATEGORIES:Sunday Worship
ATTACH;FMTTYPE=image/jpeg:https://garthma.wales/wp-content/uploads/2023/01/Altar-Window-rotated.jpg
END:VEVENT
BEGIN:VEVENT
DTSTART;TZID=Europe/London:20271122T170000
DTEND;TZID=Europe/London:20271122T180000
DTSTAMP:20260426T050726
CREATED:20240306T200528Z
LAST-MODIFIED:20240306T200528Z
UID:10004535-1826902800-1826906400@garthma.wales
SUMMARY:Quiz Night (by Zoom)
DESCRIPTION:This is a reminder about our quiz this evening at 5pm.  It is held every Monday evening and is a a fun quiz\, there are no prizes for being first or last! \nLasting about an hour there are usually about six rounds on a wide variety of topics. If you wish to have more details on this event\, please contact the Quizmaster. We look forward to seeing you \n  \n 
URL:https://garthma.wales/events/quiz-night-by-zoom-2/2027-11-22/
LOCATION:St Catwg’s Church\, Pentyrch\, Church Road\, Pentyrch\, CF15 9QF\, United Kingdom
ATTACH;FMTTYPE=image/png:https://garthma.wales/wp-content/uploads/2023/08/Quiz-NIght-Logo-e1696674324514.png
ORGANIZER;CN="Zoom Quizmaster":MAILTO:rees.pentyrch@hotmail.co.uk
END:VEVENT
BEGIN:VEVENT
DTSTART;TZID=Europe/London:20271123T100000
DTEND;TZID=Europe/London:20271123T110000
DTSTAMP:20260426T050726
CREATED:20250325T114024Z
LAST-MODIFIED:20260225T135435Z
UID:10008649-1826964000-1826967600@garthma.wales
SUMMARY:Holy Eucharist - St. David's Church
DESCRIPTION:Holy Eucharist Service held at St. David’s Church\, Groesfaen at 10.00am.
URL:https://garthma.wales/events/midweek-worship-2-2-2/2027-11-23/
LOCATION:St David’s Church\, Groesfaen\, Llantrisant Road\, Groesfaen\, Pontyclun\, CF72 8NS\, United Kingdom
CATEGORIES:Mid Week Worship
ATTACH;FMTTYPE=image/jpeg:https://garthma.wales/wp-content/uploads/2023/01/Altar-Window-rotated.jpg
END:VEVENT
BEGIN:VEVENT
DTSTART;TZID=Europe/London:20271128T093000
DTEND;TZID=Europe/London:20271128T103000
DTSTAMP:20260426T050726
CREATED:20230828T114824Z
LAST-MODIFIED:20251108T122548Z
UID:10009563-1827394200-1827397800@garthma.wales
SUMMARY:Holy Eucharist - St. David's Church
DESCRIPTION:Holy Eucharist Service held at St. David’s Church\, Groesfaen. \nPlease note on the first Sunday of the month there is no service in St. David’s Church\, as there will be the Informal All Age Service which happens at Creigiau Church Hall at 10.30am
URL:https://garthma.wales/events/sunday-eucharist-3-2/2027-11-28/
LOCATION:St David’s Church\, Groesfaen\, Llantrisant Road\, Groesfaen\, Pontyclun\, CF72 8NS\, United Kingdom
CATEGORIES:Sunday Worship
ATTACH;FMTTYPE=image/jpeg:https://garthma.wales/wp-content/uploads/2023/01/Altar-Window-rotated.jpg
END:VEVENT
BEGIN:VEVENT
DTSTART;TZID=Europe/London:20271129T170000
DTEND;TZID=Europe/London:20271129T180000
DTSTAMP:20260426T050726
CREATED:20240306T200528Z
LAST-MODIFIED:20240306T200528Z
UID:10004536-1827507600-1827511200@garthma.wales
SUMMARY:Quiz Night (by Zoom)
DESCRIPTION:This is a reminder about our quiz this evening at 5pm.  It is held every Monday evening and is a a fun quiz\, there are no prizes for being first or last! \nLasting about an hour there are usually about six rounds on a wide variety of topics. If you wish to have more details on this event\, please contact the Quizmaster. We look forward to seeing you \n  \n 
URL:https://garthma.wales/events/quiz-night-by-zoom-2/2027-11-29/
LOCATION:St Catwg’s Church\, Pentyrch\, Church Road\, Pentyrch\, CF15 9QF\, United Kingdom
ATTACH;FMTTYPE=image/png:https://garthma.wales/wp-content/uploads/2023/08/Quiz-NIght-Logo-e1696674324514.png
ORGANIZER;CN="Zoom Quizmaster":MAILTO:rees.pentyrch@hotmail.co.uk
END:VEVENT
BEGIN:VEVENT
DTSTART;TZID=Europe/London:20271130T100000
DTEND;TZID=Europe/London:20271130T110000
DTSTAMP:20260426T050726
CREATED:20250325T114024Z
LAST-MODIFIED:20260225T135435Z
UID:10008650-1827568800-1827572400@garthma.wales
SUMMARY:Holy Eucharist - St. David's Church
DESCRIPTION:Holy Eucharist Service held at St. David’s Church\, Groesfaen at 10.00am.
URL:https://garthma.wales/events/midweek-worship-2-2-2/2027-11-30/
LOCATION:St David’s Church\, Groesfaen\, Llantrisant Road\, Groesfaen\, Pontyclun\, CF72 8NS\, United Kingdom
CATEGORIES:Mid Week Worship
ATTACH;FMTTYPE=image/jpeg:https://garthma.wales/wp-content/uploads/2023/01/Altar-Window-rotated.jpg
END:VEVENT
BEGIN:VEVENT
DTSTART;TZID=Europe/London:20271206T170000
DTEND;TZID=Europe/London:20271206T180000
DTSTAMP:20260426T050726
CREATED:20240306T200528Z
LAST-MODIFIED:20240306T200528Z
UID:10004537-1828112400-1828116000@garthma.wales
SUMMARY:Quiz Night (by Zoom)
DESCRIPTION:This is a reminder about our quiz this evening at 5pm.  It is held every Monday evening and is a a fun quiz\, there are no prizes for being first or last! \nLasting about an hour there are usually about six rounds on a wide variety of topics. If you wish to have more details on this event\, please contact the Quizmaster. We look forward to seeing you \n  \n 
URL:https://garthma.wales/events/quiz-night-by-zoom-2/2027-12-06/
LOCATION:St Catwg’s Church\, Pentyrch\, Church Road\, Pentyrch\, CF15 9QF\, United Kingdom
ATTACH;FMTTYPE=image/png:https://garthma.wales/wp-content/uploads/2023/08/Quiz-NIght-Logo-e1696674324514.png
ORGANIZER;CN="Zoom Quizmaster":MAILTO:rees.pentyrch@hotmail.co.uk
END:VEVENT
END:VCALENDAR