BEGIN:VCALENDAR
VERSION:2.0
PRODID:-//The Garth Ministry Area - ECPv6.15.20//NONSGML v1.0//EN
CALSCALE:GREGORIAN
METHOD:PUBLISH
X-WR-CALNAME:The Garth Ministry Area
X-ORIGINAL-URL:https://garthma.wales
X-WR-CALDESC:Events for The Garth Ministry Area
REFRESH-INTERVAL;VALUE=DURATION:PT1H
X-Robots-Tag:noindex
X-PUBLISHED-TTL:PT1H
BEGIN:VTIMEZONE
TZID:Europe/London
BEGIN:DAYLIGHT
TZOFFSETFROM:+0000
TZOFFSETTO:+0100
TZNAME:BST
DTSTART:20260329T010000
END:DAYLIGHT
BEGIN:STANDARD
TZOFFSETFROM:+0100
TZOFFSETTO:+0000
TZNAME:GMT
DTSTART:20261025T010000
END:STANDARD
BEGIN:DAYLIGHT
TZOFFSETFROM:+0000
TZOFFSETTO:+0100
TZNAME:BST
DTSTART:20270328T010000
END:DAYLIGHT
BEGIN:STANDARD
TZOFFSETFROM:+0100
TZOFFSETTO:+0000
TZNAME:GMT
DTSTART:20271031T010000
END:STANDARD
BEGIN:DAYLIGHT
TZOFFSETFROM:+0000
TZOFFSETTO:+0100
TZNAME:BST
DTSTART:20280326T010000
END:DAYLIGHT
BEGIN:STANDARD
TZOFFSETFROM:+0100
TZOFFSETTO:+0000
TZNAME:GMT
DTSTART:20281029T010000
END:STANDARD
END:VTIMEZONE
BEGIN:VEVENT
DTSTART;TZID=Europe/London:20270725T093000
DTEND;TZID=Europe/London:20270725T103000
DTSTAMP:20260425T124650
CREATED:20230828T114824Z
LAST-MODIFIED:20251108T122548Z
UID:10009549-1816507800-1816511400@garthma.wales
SUMMARY:Holy Eucharist - St. David's Church
DESCRIPTION:Holy Eucharist Service held at St. David’s Church\, Groesfaen. \nPlease note on the first Sunday of the month there is no service in St. David’s Church\, as there will be the Informal All Age Service which happens at Creigiau Church Hall at 10.30am
URL:https://garthma.wales/events/sunday-eucharist-3-2/2027-07-25/
LOCATION:St David’s Church\, Groesfaen\, Llantrisant Road\, Groesfaen\, Pontyclun\, CF72 8NS\, United Kingdom
CATEGORIES:Sunday Worship
ATTACH;FMTTYPE=image/jpeg:https://garthma.wales/wp-content/uploads/2023/01/Altar-Window-rotated.jpg
END:VEVENT
BEGIN:VEVENT
DTSTART;TZID=Europe/London:20270726T170000
DTEND;TZID=Europe/London:20270726T180000
DTSTAMP:20260425T124650
CREATED:20240306T200528Z
LAST-MODIFIED:20240306T200528Z
UID:10004518-1816621200-1816624800@garthma.wales
SUMMARY:Quiz Night (by Zoom)
DESCRIPTION:This is a reminder about our quiz this evening at 5pm.  It is held every Monday evening and is a a fun quiz\, there are no prizes for being first or last! \nLasting about an hour there are usually about six rounds on a wide variety of topics. If you wish to have more details on this event\, please contact the Quizmaster. We look forward to seeing you \n  \n 
URL:https://garthma.wales/events/quiz-night-by-zoom-2/2027-07-26/
LOCATION:St Catwg’s Church\, Pentyrch\, Church Road\, Pentyrch\, CF15 9QF\, United Kingdom
ATTACH;FMTTYPE=image/png:https://garthma.wales/wp-content/uploads/2023/08/Quiz-NIght-Logo-e1696674324514.png
ORGANIZER;CN="Zoom Quizmaster":MAILTO:rees.pentyrch@hotmail.co.uk
END:VEVENT
BEGIN:VEVENT
DTSTART;TZID=Europe/London:20270727T100000
DTEND;TZID=Europe/London:20270727T110000
DTSTAMP:20260425T124650
CREATED:20250325T114024Z
LAST-MODIFIED:20260225T135435Z
UID:10008632-1816682400-1816686000@garthma.wales
SUMMARY:Holy Eucharist - St. David's Church
DESCRIPTION:Holy Eucharist Service held at St. David’s Church\, Groesfaen at 10.00am.
URL:https://garthma.wales/events/midweek-worship-2-2-2/2027-07-27/
LOCATION:St David’s Church\, Groesfaen\, Llantrisant Road\, Groesfaen\, Pontyclun\, CF72 8NS\, United Kingdom
CATEGORIES:Mid Week Worship
ATTACH;FMTTYPE=image/jpeg:https://garthma.wales/wp-content/uploads/2023/01/Altar-Window-rotated.jpg
END:VEVENT
BEGIN:VEVENT
DTSTART;TZID=Europe/London:20270802T170000
DTEND;TZID=Europe/London:20270802T180000
DTSTAMP:20260425T124650
CREATED:20240306T200528Z
LAST-MODIFIED:20240306T200528Z
UID:10004519-1817226000-1817229600@garthma.wales
SUMMARY:Quiz Night (by Zoom)
DESCRIPTION:This is a reminder about our quiz this evening at 5pm.  It is held every Monday evening and is a a fun quiz\, there are no prizes for being first or last! \nLasting about an hour there are usually about six rounds on a wide variety of topics. If you wish to have more details on this event\, please contact the Quizmaster. We look forward to seeing you \n  \n 
URL:https://garthma.wales/events/quiz-night-by-zoom-2/2027-08-02/
LOCATION:St Catwg’s Church\, Pentyrch\, Church Road\, Pentyrch\, CF15 9QF\, United Kingdom
ATTACH;FMTTYPE=image/png:https://garthma.wales/wp-content/uploads/2023/08/Quiz-NIght-Logo-e1696674324514.png
ORGANIZER;CN="Zoom Quizmaster":MAILTO:rees.pentyrch@hotmail.co.uk
END:VEVENT
BEGIN:VEVENT
DTSTART;TZID=Europe/London:20270803T100000
DTEND;TZID=Europe/London:20270803T110000
DTSTAMP:20260425T124650
CREATED:20250325T114024Z
LAST-MODIFIED:20260225T135435Z
UID:10008633-1817287200-1817290800@garthma.wales
SUMMARY:Holy Eucharist - St. David's Church
DESCRIPTION:Holy Eucharist Service held at St. David’s Church\, Groesfaen at 10.00am.
URL:https://garthma.wales/events/midweek-worship-2-2-2/2027-08-03/
LOCATION:St David’s Church\, Groesfaen\, Llantrisant Road\, Groesfaen\, Pontyclun\, CF72 8NS\, United Kingdom
CATEGORIES:Mid Week Worship
ATTACH;FMTTYPE=image/jpeg:https://garthma.wales/wp-content/uploads/2023/01/Altar-Window-rotated.jpg
END:VEVENT
BEGIN:VEVENT
DTSTART;TZID=Europe/London:20270808T093000
DTEND;TZID=Europe/London:20270808T103000
DTSTAMP:20260425T124650
CREATED:20230828T114824Z
LAST-MODIFIED:20251108T122548Z
UID:10009550-1817717400-1817721000@garthma.wales
SUMMARY:Holy Eucharist - St. David's Church
DESCRIPTION:Holy Eucharist Service held at St. David’s Church\, Groesfaen. \nPlease note on the first Sunday of the month there is no service in St. David’s Church\, as there will be the Informal All Age Service which happens at Creigiau Church Hall at 10.30am
URL:https://garthma.wales/events/sunday-eucharist-3-2/2027-08-08/
LOCATION:St David’s Church\, Groesfaen\, Llantrisant Road\, Groesfaen\, Pontyclun\, CF72 8NS\, United Kingdom
CATEGORIES:Sunday Worship
ATTACH;FMTTYPE=image/jpeg:https://garthma.wales/wp-content/uploads/2023/01/Altar-Window-rotated.jpg
END:VEVENT
BEGIN:VEVENT
DTSTART;TZID=Europe/London:20270809T170000
DTEND;TZID=Europe/London:20270809T180000
DTSTAMP:20260425T124650
CREATED:20240306T200528Z
LAST-MODIFIED:20240306T200528Z
UID:10004520-1817830800-1817834400@garthma.wales
SUMMARY:Quiz Night (by Zoom)
DESCRIPTION:This is a reminder about our quiz this evening at 5pm.  It is held every Monday evening and is a a fun quiz\, there are no prizes for being first or last! \nLasting about an hour there are usually about six rounds on a wide variety of topics. If you wish to have more details on this event\, please contact the Quizmaster. We look forward to seeing you \n  \n 
URL:https://garthma.wales/events/quiz-night-by-zoom-2/2027-08-09/
LOCATION:St Catwg’s Church\, Pentyrch\, Church Road\, Pentyrch\, CF15 9QF\, United Kingdom
ATTACH;FMTTYPE=image/png:https://garthma.wales/wp-content/uploads/2023/08/Quiz-NIght-Logo-e1696674324514.png
ORGANIZER;CN="Zoom Quizmaster":MAILTO:rees.pentyrch@hotmail.co.uk
END:VEVENT
BEGIN:VEVENT
DTSTART;TZID=Europe/London:20270810T100000
DTEND;TZID=Europe/London:20270810T110000
DTSTAMP:20260425T124650
CREATED:20250325T114024Z
LAST-MODIFIED:20260225T135435Z
UID:10008634-1817892000-1817895600@garthma.wales
SUMMARY:Holy Eucharist - St. David's Church
DESCRIPTION:Holy Eucharist Service held at St. David’s Church\, Groesfaen at 10.00am.
URL:https://garthma.wales/events/midweek-worship-2-2-2/2027-08-10/
LOCATION:St David’s Church\, Groesfaen\, Llantrisant Road\, Groesfaen\, Pontyclun\, CF72 8NS\, United Kingdom
CATEGORIES:Mid Week Worship
ATTACH;FMTTYPE=image/jpeg:https://garthma.wales/wp-content/uploads/2023/01/Altar-Window-rotated.jpg
END:VEVENT
BEGIN:VEVENT
DTSTART;TZID=Europe/London:20270815T093000
DTEND;TZID=Europe/London:20270815T103000
DTSTAMP:20260425T124650
CREATED:20230828T114824Z
LAST-MODIFIED:20251108T122548Z
UID:10009551-1818322200-1818325800@garthma.wales
SUMMARY:Holy Eucharist - St. David's Church
DESCRIPTION:Holy Eucharist Service held at St. David’s Church\, Groesfaen. \nPlease note on the first Sunday of the month there is no service in St. David’s Church\, as there will be the Informal All Age Service which happens at Creigiau Church Hall at 10.30am
URL:https://garthma.wales/events/sunday-eucharist-3-2/2027-08-15/
LOCATION:St David’s Church\, Groesfaen\, Llantrisant Road\, Groesfaen\, Pontyclun\, CF72 8NS\, United Kingdom
CATEGORIES:Sunday Worship
ATTACH;FMTTYPE=image/jpeg:https://garthma.wales/wp-content/uploads/2023/01/Altar-Window-rotated.jpg
END:VEVENT
BEGIN:VEVENT
DTSTART;TZID=Europe/London:20270816T170000
DTEND;TZID=Europe/London:20270816T180000
DTSTAMP:20260425T124650
CREATED:20240306T200528Z
LAST-MODIFIED:20240306T200528Z
UID:10004521-1818435600-1818439200@garthma.wales
SUMMARY:Quiz Night (by Zoom)
DESCRIPTION:This is a reminder about our quiz this evening at 5pm.  It is held every Monday evening and is a a fun quiz\, there are no prizes for being first or last! \nLasting about an hour there are usually about six rounds on a wide variety of topics. If you wish to have more details on this event\, please contact the Quizmaster. We look forward to seeing you \n  \n 
URL:https://garthma.wales/events/quiz-night-by-zoom-2/2027-08-16/
LOCATION:St Catwg’s Church\, Pentyrch\, Church Road\, Pentyrch\, CF15 9QF\, United Kingdom
ATTACH;FMTTYPE=image/png:https://garthma.wales/wp-content/uploads/2023/08/Quiz-NIght-Logo-e1696674324514.png
ORGANIZER;CN="Zoom Quizmaster":MAILTO:rees.pentyrch@hotmail.co.uk
END:VEVENT
BEGIN:VEVENT
DTSTART;TZID=Europe/London:20270817T100000
DTEND;TZID=Europe/London:20270817T110000
DTSTAMP:20260425T124650
CREATED:20250325T114024Z
LAST-MODIFIED:20260225T135435Z
UID:10008635-1818496800-1818500400@garthma.wales
SUMMARY:Holy Eucharist - St. David's Church
DESCRIPTION:Holy Eucharist Service held at St. David’s Church\, Groesfaen at 10.00am.
URL:https://garthma.wales/events/midweek-worship-2-2-2/2027-08-17/
LOCATION:St David’s Church\, Groesfaen\, Llantrisant Road\, Groesfaen\, Pontyclun\, CF72 8NS\, United Kingdom
CATEGORIES:Mid Week Worship
ATTACH;FMTTYPE=image/jpeg:https://garthma.wales/wp-content/uploads/2023/01/Altar-Window-rotated.jpg
END:VEVENT
BEGIN:VEVENT
DTSTART;TZID=Europe/London:20270822T093000
DTEND;TZID=Europe/London:20270822T103000
DTSTAMP:20260425T124650
CREATED:20230828T114824Z
LAST-MODIFIED:20251108T122548Z
UID:10009552-1818927000-1818930600@garthma.wales
SUMMARY:Holy Eucharist - St. David's Church
DESCRIPTION:Holy Eucharist Service held at St. David’s Church\, Groesfaen. \nPlease note on the first Sunday of the month there is no service in St. David’s Church\, as there will be the Informal All Age Service which happens at Creigiau Church Hall at 10.30am
URL:https://garthma.wales/events/sunday-eucharist-3-2/2027-08-22/
LOCATION:St David’s Church\, Groesfaen\, Llantrisant Road\, Groesfaen\, Pontyclun\, CF72 8NS\, United Kingdom
CATEGORIES:Sunday Worship
ATTACH;FMTTYPE=image/jpeg:https://garthma.wales/wp-content/uploads/2023/01/Altar-Window-rotated.jpg
END:VEVENT
BEGIN:VEVENT
DTSTART;TZID=Europe/London:20270823T170000
DTEND;TZID=Europe/London:20270823T180000
DTSTAMP:20260425T124650
CREATED:20240306T200528Z
LAST-MODIFIED:20240306T200528Z
UID:10004522-1819040400-1819044000@garthma.wales
SUMMARY:Quiz Night (by Zoom)
DESCRIPTION:This is a reminder about our quiz this evening at 5pm.  It is held every Monday evening and is a a fun quiz\, there are no prizes for being first or last! \nLasting about an hour there are usually about six rounds on a wide variety of topics. If you wish to have more details on this event\, please contact the Quizmaster. We look forward to seeing you \n  \n 
URL:https://garthma.wales/events/quiz-night-by-zoom-2/2027-08-23/
LOCATION:St Catwg’s Church\, Pentyrch\, Church Road\, Pentyrch\, CF15 9QF\, United Kingdom
ATTACH;FMTTYPE=image/png:https://garthma.wales/wp-content/uploads/2023/08/Quiz-NIght-Logo-e1696674324514.png
ORGANIZER;CN="Zoom Quizmaster":MAILTO:rees.pentyrch@hotmail.co.uk
END:VEVENT
BEGIN:VEVENT
DTSTART;TZID=Europe/London:20270824T100000
DTEND;TZID=Europe/London:20270824T110000
DTSTAMP:20260425T124650
CREATED:20250325T114024Z
LAST-MODIFIED:20260225T135435Z
UID:10008636-1819101600-1819105200@garthma.wales
SUMMARY:Holy Eucharist - St. David's Church
DESCRIPTION:Holy Eucharist Service held at St. David’s Church\, Groesfaen at 10.00am.
URL:https://garthma.wales/events/midweek-worship-2-2-2/2027-08-24/
LOCATION:St David’s Church\, Groesfaen\, Llantrisant Road\, Groesfaen\, Pontyclun\, CF72 8NS\, United Kingdom
CATEGORIES:Mid Week Worship
ATTACH;FMTTYPE=image/jpeg:https://garthma.wales/wp-content/uploads/2023/01/Altar-Window-rotated.jpg
END:VEVENT
BEGIN:VEVENT
DTSTART;TZID=Europe/London:20270829T093000
DTEND;TZID=Europe/London:20270829T103000
DTSTAMP:20260425T124650
CREATED:20230828T114824Z
LAST-MODIFIED:20251108T122548Z
UID:10009553-1819531800-1819535400@garthma.wales
SUMMARY:Holy Eucharist - St. David's Church
DESCRIPTION:Holy Eucharist Service held at St. David’s Church\, Groesfaen. \nPlease note on the first Sunday of the month there is no service in St. David’s Church\, as there will be the Informal All Age Service which happens at Creigiau Church Hall at 10.30am
URL:https://garthma.wales/events/sunday-eucharist-3-2/2027-08-29/
LOCATION:St David’s Church\, Groesfaen\, Llantrisant Road\, Groesfaen\, Pontyclun\, CF72 8NS\, United Kingdom
CATEGORIES:Sunday Worship
ATTACH;FMTTYPE=image/jpeg:https://garthma.wales/wp-content/uploads/2023/01/Altar-Window-rotated.jpg
END:VEVENT
BEGIN:VEVENT
DTSTART;TZID=Europe/London:20270830T170000
DTEND;TZID=Europe/London:20270830T180000
DTSTAMP:20260425T124650
CREATED:20240306T200528Z
LAST-MODIFIED:20240306T200528Z
UID:10004523-1819645200-1819648800@garthma.wales
SUMMARY:Quiz Night (by Zoom)
DESCRIPTION:This is a reminder about our quiz this evening at 5pm.  It is held every Monday evening and is a a fun quiz\, there are no prizes for being first or last! \nLasting about an hour there are usually about six rounds on a wide variety of topics. If you wish to have more details on this event\, please contact the Quizmaster. We look forward to seeing you \n  \n 
URL:https://garthma.wales/events/quiz-night-by-zoom-2/2027-08-30/
LOCATION:St Catwg’s Church\, Pentyrch\, Church Road\, Pentyrch\, CF15 9QF\, United Kingdom
ATTACH;FMTTYPE=image/png:https://garthma.wales/wp-content/uploads/2023/08/Quiz-NIght-Logo-e1696674324514.png
ORGANIZER;CN="Zoom Quizmaster":MAILTO:rees.pentyrch@hotmail.co.uk
END:VEVENT
BEGIN:VEVENT
DTSTART;TZID=Europe/London:20270831T100000
DTEND;TZID=Europe/London:20270831T110000
DTSTAMP:20260425T124650
CREATED:20250325T114024Z
LAST-MODIFIED:20260225T135435Z
UID:10008637-1819706400-1819710000@garthma.wales
SUMMARY:Holy Eucharist - St. David's Church
DESCRIPTION:Holy Eucharist Service held at St. David’s Church\, Groesfaen at 10.00am.
URL:https://garthma.wales/events/midweek-worship-2-2-2/2027-08-31/
LOCATION:St David’s Church\, Groesfaen\, Llantrisant Road\, Groesfaen\, Pontyclun\, CF72 8NS\, United Kingdom
CATEGORIES:Mid Week Worship
ATTACH;FMTTYPE=image/jpeg:https://garthma.wales/wp-content/uploads/2023/01/Altar-Window-rotated.jpg
END:VEVENT
BEGIN:VEVENT
DTSTART;TZID=Europe/London:20270906T170000
DTEND;TZID=Europe/London:20270906T180000
DTSTAMP:20260425T124651
CREATED:20240306T200528Z
LAST-MODIFIED:20240306T200528Z
UID:10004524-1820250000-1820253600@garthma.wales
SUMMARY:Quiz Night (by Zoom)
DESCRIPTION:This is a reminder about our quiz this evening at 5pm.  It is held every Monday evening and is a a fun quiz\, there are no prizes for being first or last! \nLasting about an hour there are usually about six rounds on a wide variety of topics. If you wish to have more details on this event\, please contact the Quizmaster. We look forward to seeing you \n  \n 
URL:https://garthma.wales/events/quiz-night-by-zoom-2/2027-09-06/
LOCATION:St Catwg’s Church\, Pentyrch\, Church Road\, Pentyrch\, CF15 9QF\, United Kingdom
ATTACH;FMTTYPE=image/png:https://garthma.wales/wp-content/uploads/2023/08/Quiz-NIght-Logo-e1696674324514.png
ORGANIZER;CN="Zoom Quizmaster":MAILTO:rees.pentyrch@hotmail.co.uk
END:VEVENT
BEGIN:VEVENT
DTSTART;TZID=Europe/London:20270907T100000
DTEND;TZID=Europe/London:20270907T110000
DTSTAMP:20260425T124651
CREATED:20250325T114024Z
LAST-MODIFIED:20260225T135435Z
UID:10008638-1820311200-1820314800@garthma.wales
SUMMARY:Holy Eucharist - St. David's Church
DESCRIPTION:Holy Eucharist Service held at St. David’s Church\, Groesfaen at 10.00am.
URL:https://garthma.wales/events/midweek-worship-2-2-2/2027-09-07/
LOCATION:St David’s Church\, Groesfaen\, Llantrisant Road\, Groesfaen\, Pontyclun\, CF72 8NS\, United Kingdom
CATEGORIES:Mid Week Worship
ATTACH;FMTTYPE=image/jpeg:https://garthma.wales/wp-content/uploads/2023/01/Altar-Window-rotated.jpg
END:VEVENT
BEGIN:VEVENT
DTSTART;TZID=Europe/London:20270912T093000
DTEND;TZID=Europe/London:20270912T103000
DTSTAMP:20260425T124651
CREATED:20230828T114824Z
LAST-MODIFIED:20251108T122548Z
UID:10009554-1820741400-1820745000@garthma.wales
SUMMARY:Holy Eucharist - St. David's Church
DESCRIPTION:Holy Eucharist Service held at St. David’s Church\, Groesfaen. \nPlease note on the first Sunday of the month there is no service in St. David’s Church\, as there will be the Informal All Age Service which happens at Creigiau Church Hall at 10.30am
URL:https://garthma.wales/events/sunday-eucharist-3-2/2027-09-12/
LOCATION:St David’s Church\, Groesfaen\, Llantrisant Road\, Groesfaen\, Pontyclun\, CF72 8NS\, United Kingdom
CATEGORIES:Sunday Worship
ATTACH;FMTTYPE=image/jpeg:https://garthma.wales/wp-content/uploads/2023/01/Altar-Window-rotated.jpg
END:VEVENT
BEGIN:VEVENT
DTSTART;TZID=Europe/London:20270913T170000
DTEND;TZID=Europe/London:20270913T180000
DTSTAMP:20260425T124651
CREATED:20240306T200528Z
LAST-MODIFIED:20240306T200528Z
UID:10004525-1820854800-1820858400@garthma.wales
SUMMARY:Quiz Night (by Zoom)
DESCRIPTION:This is a reminder about our quiz this evening at 5pm.  It is held every Monday evening and is a a fun quiz\, there are no prizes for being first or last! \nLasting about an hour there are usually about six rounds on a wide variety of topics. If you wish to have more details on this event\, please contact the Quizmaster. We look forward to seeing you \n  \n 
URL:https://garthma.wales/events/quiz-night-by-zoom-2/2027-09-13/
LOCATION:St Catwg’s Church\, Pentyrch\, Church Road\, Pentyrch\, CF15 9QF\, United Kingdom
ATTACH;FMTTYPE=image/png:https://garthma.wales/wp-content/uploads/2023/08/Quiz-NIght-Logo-e1696674324514.png
ORGANIZER;CN="Zoom Quizmaster":MAILTO:rees.pentyrch@hotmail.co.uk
END:VEVENT
BEGIN:VEVENT
DTSTART;TZID=Europe/London:20270914T100000
DTEND;TZID=Europe/London:20270914T110000
DTSTAMP:20260425T124651
CREATED:20250325T114024Z
LAST-MODIFIED:20260225T135435Z
UID:10008639-1820916000-1820919600@garthma.wales
SUMMARY:Holy Eucharist - St. David's Church
DESCRIPTION:Holy Eucharist Service held at St. David’s Church\, Groesfaen at 10.00am.
URL:https://garthma.wales/events/midweek-worship-2-2-2/2027-09-14/
LOCATION:St David’s Church\, Groesfaen\, Llantrisant Road\, Groesfaen\, Pontyclun\, CF72 8NS\, United Kingdom
CATEGORIES:Mid Week Worship
ATTACH;FMTTYPE=image/jpeg:https://garthma.wales/wp-content/uploads/2023/01/Altar-Window-rotated.jpg
END:VEVENT
BEGIN:VEVENT
DTSTART;TZID=Europe/London:20270919T093000
DTEND;TZID=Europe/London:20270919T103000
DTSTAMP:20260425T124651
CREATED:20230828T114824Z
LAST-MODIFIED:20251108T122548Z
UID:10009555-1821346200-1821349800@garthma.wales
SUMMARY:Holy Eucharist - St. David's Church
DESCRIPTION:Holy Eucharist Service held at St. David’s Church\, Groesfaen. \nPlease note on the first Sunday of the month there is no service in St. David’s Church\, as there will be the Informal All Age Service which happens at Creigiau Church Hall at 10.30am
URL:https://garthma.wales/events/sunday-eucharist-3-2/2027-09-19/
LOCATION:St David’s Church\, Groesfaen\, Llantrisant Road\, Groesfaen\, Pontyclun\, CF72 8NS\, United Kingdom
CATEGORIES:Sunday Worship
ATTACH;FMTTYPE=image/jpeg:https://garthma.wales/wp-content/uploads/2023/01/Altar-Window-rotated.jpg
END:VEVENT
BEGIN:VEVENT
DTSTART;TZID=Europe/London:20270920T170000
DTEND;TZID=Europe/London:20270920T180000
DTSTAMP:20260425T124651
CREATED:20240306T200528Z
LAST-MODIFIED:20240306T200528Z
UID:10004526-1821459600-1821463200@garthma.wales
SUMMARY:Quiz Night (by Zoom)
DESCRIPTION:This is a reminder about our quiz this evening at 5pm.  It is held every Monday evening and is a a fun quiz\, there are no prizes for being first or last! \nLasting about an hour there are usually about six rounds on a wide variety of topics. If you wish to have more details on this event\, please contact the Quizmaster. We look forward to seeing you \n  \n 
URL:https://garthma.wales/events/quiz-night-by-zoom-2/2027-09-20/
LOCATION:St Catwg’s Church\, Pentyrch\, Church Road\, Pentyrch\, CF15 9QF\, United Kingdom
ATTACH;FMTTYPE=image/png:https://garthma.wales/wp-content/uploads/2023/08/Quiz-NIght-Logo-e1696674324514.png
ORGANIZER;CN="Zoom Quizmaster":MAILTO:rees.pentyrch@hotmail.co.uk
END:VEVENT
BEGIN:VEVENT
DTSTART;TZID=Europe/London:20270921T100000
DTEND;TZID=Europe/London:20270921T110000
DTSTAMP:20260425T124651
CREATED:20250325T114024Z
LAST-MODIFIED:20260225T135435Z
UID:10008640-1821520800-1821524400@garthma.wales
SUMMARY:Holy Eucharist - St. David's Church
DESCRIPTION:Holy Eucharist Service held at St. David’s Church\, Groesfaen at 10.00am.
URL:https://garthma.wales/events/midweek-worship-2-2-2/2027-09-21/
LOCATION:St David’s Church\, Groesfaen\, Llantrisant Road\, Groesfaen\, Pontyclun\, CF72 8NS\, United Kingdom
CATEGORIES:Mid Week Worship
ATTACH;FMTTYPE=image/jpeg:https://garthma.wales/wp-content/uploads/2023/01/Altar-Window-rotated.jpg
END:VEVENT
BEGIN:VEVENT
DTSTART;TZID=Europe/London:20270926T093000
DTEND;TZID=Europe/London:20270926T103000
DTSTAMP:20260425T124651
CREATED:20230828T114824Z
LAST-MODIFIED:20251108T122548Z
UID:10009556-1821951000-1821954600@garthma.wales
SUMMARY:Holy Eucharist - St. David's Church
DESCRIPTION:Holy Eucharist Service held at St. David’s Church\, Groesfaen. \nPlease note on the first Sunday of the month there is no service in St. David’s Church\, as there will be the Informal All Age Service which happens at Creigiau Church Hall at 10.30am
URL:https://garthma.wales/events/sunday-eucharist-3-2/2027-09-26/
LOCATION:St David’s Church\, Groesfaen\, Llantrisant Road\, Groesfaen\, Pontyclun\, CF72 8NS\, United Kingdom
CATEGORIES:Sunday Worship
ATTACH;FMTTYPE=image/jpeg:https://garthma.wales/wp-content/uploads/2023/01/Altar-Window-rotated.jpg
END:VEVENT
BEGIN:VEVENT
DTSTART;TZID=Europe/London:20270927T170000
DTEND;TZID=Europe/London:20270927T180000
DTSTAMP:20260425T124651
CREATED:20240306T200528Z
LAST-MODIFIED:20240306T200528Z
UID:10004527-1822064400-1822068000@garthma.wales
SUMMARY:Quiz Night (by Zoom)
DESCRIPTION:This is a reminder about our quiz this evening at 5pm.  It is held every Monday evening and is a a fun quiz\, there are no prizes for being first or last! \nLasting about an hour there are usually about six rounds on a wide variety of topics. If you wish to have more details on this event\, please contact the Quizmaster. We look forward to seeing you \n  \n 
URL:https://garthma.wales/events/quiz-night-by-zoom-2/2027-09-27/
LOCATION:St Catwg’s Church\, Pentyrch\, Church Road\, Pentyrch\, CF15 9QF\, United Kingdom
ATTACH;FMTTYPE=image/png:https://garthma.wales/wp-content/uploads/2023/08/Quiz-NIght-Logo-e1696674324514.png
ORGANIZER;CN="Zoom Quizmaster":MAILTO:rees.pentyrch@hotmail.co.uk
END:VEVENT
BEGIN:VEVENT
DTSTART;TZID=Europe/London:20270928T100000
DTEND;TZID=Europe/London:20270928T110000
DTSTAMP:20260425T124651
CREATED:20250325T114024Z
LAST-MODIFIED:20260225T135435Z
UID:10008641-1822125600-1822129200@garthma.wales
SUMMARY:Holy Eucharist - St. David's Church
DESCRIPTION:Holy Eucharist Service held at St. David’s Church\, Groesfaen at 10.00am.
URL:https://garthma.wales/events/midweek-worship-2-2-2/2027-09-28/
LOCATION:St David’s Church\, Groesfaen\, Llantrisant Road\, Groesfaen\, Pontyclun\, CF72 8NS\, United Kingdom
CATEGORIES:Mid Week Worship
ATTACH;FMTTYPE=image/jpeg:https://garthma.wales/wp-content/uploads/2023/01/Altar-Window-rotated.jpg
END:VEVENT
BEGIN:VEVENT
DTSTART;TZID=Europe/London:20271004T170000
DTEND;TZID=Europe/London:20271004T180000
DTSTAMP:20260425T124651
CREATED:20240306T200528Z
LAST-MODIFIED:20240306T200528Z
UID:10004528-1822669200-1822672800@garthma.wales
SUMMARY:Quiz Night (by Zoom)
DESCRIPTION:This is a reminder about our quiz this evening at 5pm.  It is held every Monday evening and is a a fun quiz\, there are no prizes for being first or last! \nLasting about an hour there are usually about six rounds on a wide variety of topics. If you wish to have more details on this event\, please contact the Quizmaster. We look forward to seeing you \n  \n 
URL:https://garthma.wales/events/quiz-night-by-zoom-2/2027-10-04/
LOCATION:St Catwg’s Church\, Pentyrch\, Church Road\, Pentyrch\, CF15 9QF\, United Kingdom
ATTACH;FMTTYPE=image/png:https://garthma.wales/wp-content/uploads/2023/08/Quiz-NIght-Logo-e1696674324514.png
ORGANIZER;CN="Zoom Quizmaster":MAILTO:rees.pentyrch@hotmail.co.uk
END:VEVENT
BEGIN:VEVENT
DTSTART;TZID=Europe/London:20271005T100000
DTEND;TZID=Europe/London:20271005T110000
DTSTAMP:20260425T124651
CREATED:20250325T114024Z
LAST-MODIFIED:20260225T135435Z
UID:10008642-1822730400-1822734000@garthma.wales
SUMMARY:Holy Eucharist - St. David's Church
DESCRIPTION:Holy Eucharist Service held at St. David’s Church\, Groesfaen at 10.00am.
URL:https://garthma.wales/events/midweek-worship-2-2-2/2027-10-05/
LOCATION:St David’s Church\, Groesfaen\, Llantrisant Road\, Groesfaen\, Pontyclun\, CF72 8NS\, United Kingdom
CATEGORIES:Mid Week Worship
ATTACH;FMTTYPE=image/jpeg:https://garthma.wales/wp-content/uploads/2023/01/Altar-Window-rotated.jpg
END:VEVENT
END:VCALENDAR