BEGIN:VCALENDAR
VERSION:2.0
PRODID:-//The Garth Ministry Area - ECPv6.15.20//NONSGML v1.0//EN
CALSCALE:GREGORIAN
METHOD:PUBLISH
X-WR-CALNAME:The Garth Ministry Area
X-ORIGINAL-URL:https://garthma.wales
X-WR-CALDESC:Events for The Garth Ministry Area
REFRESH-INTERVAL;VALUE=DURATION:PT1H
X-Robots-Tag:noindex
X-PUBLISHED-TTL:PT1H
BEGIN:VTIMEZONE
TZID:Europe/London
BEGIN:DAYLIGHT
TZOFFSETFROM:+0000
TZOFFSETTO:+0100
TZNAME:BST
DTSTART:20270328T010000
END:DAYLIGHT
BEGIN:STANDARD
TZOFFSETFROM:+0100
TZOFFSETTO:+0000
TZNAME:GMT
DTSTART:20271031T010000
END:STANDARD
BEGIN:DAYLIGHT
TZOFFSETFROM:+0000
TZOFFSETTO:+0100
TZNAME:BST
DTSTART:20280326T010000
END:DAYLIGHT
BEGIN:STANDARD
TZOFFSETFROM:+0100
TZOFFSETTO:+0000
TZNAME:GMT
DTSTART:20281029T010000
END:STANDARD
BEGIN:DAYLIGHT
TZOFFSETFROM:+0000
TZOFFSETTO:+0100
TZNAME:BST
DTSTART:20290325T010000
END:DAYLIGHT
BEGIN:STANDARD
TZOFFSETFROM:+0100
TZOFFSETTO:+0000
TZNAME:GMT
DTSTART:20291028T010000
END:STANDARD
END:VTIMEZONE
BEGIN:VEVENT
DTSTART;TZID=Europe/London:20280326T080000
DTEND;TZID=Europe/London:20280326T090000
DTSTAMP:20260422T181709
CREATED:20241119T201457Z
LAST-MODIFIED:20251106T205311Z
UID:10005267-1837670400-1837674000@garthma.wales
SUMMARY:Early Eucharist - Christ Church
DESCRIPTION:A simple said service including a celebration of the Eucharistic Feast.
URL:https://garthma.wales/events/eary-eucharist-2/2028-03-26/
LOCATION:Christ Church\, Radyr\, Heol Isaf\, Radyr\, Cardiff\, CF15 8DY\, United Kingdom
CATEGORIES:Sunday Worship
ATTACH;FMTTYPE=image/jpeg:https://garthma.wales/wp-content/uploads/2023/01/Christ-Church.jpg
END:VEVENT
BEGIN:VEVENT
DTSTART;TZID=Europe/London:20280326T110000
DTEND;TZID=Europe/London:20280326T120000
DTSTAMP:20260422T181709
CREATED:20260115T155006Z
LAST-MODIFIED:20260115T155007Z
UID:10009023-1837681200-1837684800@garthma.wales
SUMMARY:Holy Eucharist with Sunday Club - Christ Church
DESCRIPTION:Holy Eucharist in the Main Church.\nSunday Club meet in the New School Rooms
URL:https://garthma.wales/events/sung-eucharist-with-sunday-club-4/2028-03-26/
LOCATION:Christ Church\, Radyr\, Heol Isaf\, Radyr\, Cardiff\, CF15 8DY\, United Kingdom
CATEGORIES:Sunday Worship
ATTACH;FMTTYPE=image/jpeg:https://garthma.wales/wp-content/uploads/2023/01/Christ-Church.jpg
END:VEVENT
BEGIN:VEVENT
DTSTART;TZID=Europe/London:20280329T100000
DTEND;TZID=Europe/London:20280329T110000
DTSTAMP:20260422T181709
CREATED:20250325T113535Z
LAST-MODIFIED:20251108T124032Z
UID:10007887-1837936800-1837940400@garthma.wales
SUMMARY:Holy Eucharist - Christ Church
DESCRIPTION:Join us for a Holy Eucharist service in Christ Church\, Radyr.
URL:https://garthma.wales/events/midweek-eucharist-6/2028-03-29/
LOCATION:Christ Church\, Radyr\, Heol Isaf\, Radyr\, Cardiff\, CF15 8DY\, United Kingdom
CATEGORIES:Mid Week Worship
ATTACH;FMTTYPE=image/jpeg:https://garthma.wales/wp-content/uploads/2023/01/Christ-Church.jpg
END:VEVENT
BEGIN:VEVENT
DTSTART;TZID=Europe/London:20280402T080000
DTEND;TZID=Europe/London:20280402T090000
DTSTAMP:20260422T181709
CREATED:20241119T201457Z
LAST-MODIFIED:20251106T205311Z
UID:10005268-1838275200-1838278800@garthma.wales
SUMMARY:Early Eucharist - Christ Church
DESCRIPTION:A simple said service including a celebration of the Eucharistic Feast.
URL:https://garthma.wales/events/eary-eucharist-2/2028-04-02/
LOCATION:Christ Church\, Radyr\, Heol Isaf\, Radyr\, Cardiff\, CF15 8DY\, United Kingdom
CATEGORIES:Sunday Worship
ATTACH;FMTTYPE=image/jpeg:https://garthma.wales/wp-content/uploads/2023/01/Christ-Church.jpg
END:VEVENT
BEGIN:VEVENT
DTSTART;TZID=Europe/London:20280402T110000
DTEND;TZID=Europe/London:20280402T120000
DTSTAMP:20260422T181709
CREATED:20260115T155006Z
LAST-MODIFIED:20260115T155007Z
UID:10009024-1838286000-1838289600@garthma.wales
SUMMARY:Holy Eucharist with Sunday Club - Christ Church
DESCRIPTION:Holy Eucharist in the Main Church.\nSunday Club meet in the New School Rooms
URL:https://garthma.wales/events/sung-eucharist-with-sunday-club-4/2028-04-02/
LOCATION:Christ Church\, Radyr\, Heol Isaf\, Radyr\, Cardiff\, CF15 8DY\, United Kingdom
CATEGORIES:Sunday Worship
ATTACH;FMTTYPE=image/jpeg:https://garthma.wales/wp-content/uploads/2023/01/Christ-Church.jpg
END:VEVENT
BEGIN:VEVENT
DTSTART;TZID=Europe/London:20280405T100000
DTEND;TZID=Europe/London:20280405T110000
DTSTAMP:20260422T181709
CREATED:20250325T113535Z
LAST-MODIFIED:20251108T124032Z
UID:10007888-1838541600-1838545200@garthma.wales
SUMMARY:Holy Eucharist - Christ Church
DESCRIPTION:Join us for a Holy Eucharist service in Christ Church\, Radyr.
URL:https://garthma.wales/events/midweek-eucharist-6/2028-04-05/
LOCATION:Christ Church\, Radyr\, Heol Isaf\, Radyr\, Cardiff\, CF15 8DY\, United Kingdom
CATEGORIES:Mid Week Worship
ATTACH;FMTTYPE=image/jpeg:https://garthma.wales/wp-content/uploads/2023/01/Christ-Church.jpg
END:VEVENT
BEGIN:VEVENT
DTSTART;TZID=Europe/London:20280409T080000
DTEND;TZID=Europe/London:20280409T090000
DTSTAMP:20260422T181709
CREATED:20241119T201457Z
LAST-MODIFIED:20251106T205311Z
UID:10005269-1838880000-1838883600@garthma.wales
SUMMARY:Early Eucharist - Christ Church
DESCRIPTION:A simple said service including a celebration of the Eucharistic Feast.
URL:https://garthma.wales/events/eary-eucharist-2/2028-04-09/
LOCATION:Christ Church\, Radyr\, Heol Isaf\, Radyr\, Cardiff\, CF15 8DY\, United Kingdom
CATEGORIES:Sunday Worship
ATTACH;FMTTYPE=image/jpeg:https://garthma.wales/wp-content/uploads/2023/01/Christ-Church.jpg
END:VEVENT
BEGIN:VEVENT
DTSTART;TZID=Europe/London:20280409T110000
DTEND;TZID=Europe/London:20280409T120000
DTSTAMP:20260422T181709
CREATED:20260115T155006Z
LAST-MODIFIED:20260115T155007Z
UID:10009025-1838890800-1838894400@garthma.wales
SUMMARY:Holy Eucharist with Sunday Club - Christ Church
DESCRIPTION:Holy Eucharist in the Main Church.\nSunday Club meet in the New School Rooms
URL:https://garthma.wales/events/sung-eucharist-with-sunday-club-4/2028-04-09/
LOCATION:Christ Church\, Radyr\, Heol Isaf\, Radyr\, Cardiff\, CF15 8DY\, United Kingdom
CATEGORIES:Sunday Worship
ATTACH;FMTTYPE=image/jpeg:https://garthma.wales/wp-content/uploads/2023/01/Christ-Church.jpg
END:VEVENT
BEGIN:VEVENT
DTSTART;TZID=Europe/London:20280412T100000
DTEND;TZID=Europe/London:20280412T110000
DTSTAMP:20260422T181709
CREATED:20250325T113535Z
LAST-MODIFIED:20251108T124032Z
UID:10007889-1839146400-1839150000@garthma.wales
SUMMARY:Holy Eucharist - Christ Church
DESCRIPTION:Join us for a Holy Eucharist service in Christ Church\, Radyr.
URL:https://garthma.wales/events/midweek-eucharist-6/2028-04-12/
LOCATION:Christ Church\, Radyr\, Heol Isaf\, Radyr\, Cardiff\, CF15 8DY\, United Kingdom
CATEGORIES:Mid Week Worship
ATTACH;FMTTYPE=image/jpeg:https://garthma.wales/wp-content/uploads/2023/01/Christ-Church.jpg
END:VEVENT
BEGIN:VEVENT
DTSTART;TZID=Europe/London:20280416T080000
DTEND;TZID=Europe/London:20280416T090000
DTSTAMP:20260422T181709
CREATED:20241119T201457Z
LAST-MODIFIED:20251106T205311Z
UID:10005270-1839484800-1839488400@garthma.wales
SUMMARY:Early Eucharist - Christ Church
DESCRIPTION:A simple said service including a celebration of the Eucharistic Feast.
URL:https://garthma.wales/events/eary-eucharist-2/2028-04-16/
LOCATION:Christ Church\, Radyr\, Heol Isaf\, Radyr\, Cardiff\, CF15 8DY\, United Kingdom
CATEGORIES:Sunday Worship
ATTACH;FMTTYPE=image/jpeg:https://garthma.wales/wp-content/uploads/2023/01/Christ-Church.jpg
END:VEVENT
BEGIN:VEVENT
DTSTART;TZID=Europe/London:20280416T110000
DTEND;TZID=Europe/London:20280416T120000
DTSTAMP:20260422T181709
CREATED:20260115T155006Z
LAST-MODIFIED:20260115T155007Z
UID:10009026-1839495600-1839499200@garthma.wales
SUMMARY:Holy Eucharist with Sunday Club - Christ Church
DESCRIPTION:Holy Eucharist in the Main Church.\nSunday Club meet in the New School Rooms
URL:https://garthma.wales/events/sung-eucharist-with-sunday-club-4/2028-04-16/
LOCATION:Christ Church\, Radyr\, Heol Isaf\, Radyr\, Cardiff\, CF15 8DY\, United Kingdom
CATEGORIES:Sunday Worship
ATTACH;FMTTYPE=image/jpeg:https://garthma.wales/wp-content/uploads/2023/01/Christ-Church.jpg
END:VEVENT
BEGIN:VEVENT
DTSTART;TZID=Europe/London:20280419T100000
DTEND;TZID=Europe/London:20280419T110000
DTSTAMP:20260422T181709
CREATED:20250325T113535Z
LAST-MODIFIED:20251108T124032Z
UID:10007890-1839751200-1839754800@garthma.wales
SUMMARY:Holy Eucharist - Christ Church
DESCRIPTION:Join us for a Holy Eucharist service in Christ Church\, Radyr.
URL:https://garthma.wales/events/midweek-eucharist-6/2028-04-19/
LOCATION:Christ Church\, Radyr\, Heol Isaf\, Radyr\, Cardiff\, CF15 8DY\, United Kingdom
CATEGORIES:Mid Week Worship
ATTACH;FMTTYPE=image/jpeg:https://garthma.wales/wp-content/uploads/2023/01/Christ-Church.jpg
END:VEVENT
BEGIN:VEVENT
DTSTART;TZID=Europe/London:20280423T080000
DTEND;TZID=Europe/London:20280423T090000
DTSTAMP:20260422T181709
CREATED:20241119T201457Z
LAST-MODIFIED:20251106T205311Z
UID:10005271-1840089600-1840093200@garthma.wales
SUMMARY:Early Eucharist - Christ Church
DESCRIPTION:A simple said service including a celebration of the Eucharistic Feast.
URL:https://garthma.wales/events/eary-eucharist-2/2028-04-23/
LOCATION:Christ Church\, Radyr\, Heol Isaf\, Radyr\, Cardiff\, CF15 8DY\, United Kingdom
CATEGORIES:Sunday Worship
ATTACH;FMTTYPE=image/jpeg:https://garthma.wales/wp-content/uploads/2023/01/Christ-Church.jpg
END:VEVENT
BEGIN:VEVENT
DTSTART;TZID=Europe/London:20280423T110000
DTEND;TZID=Europe/London:20280423T120000
DTSTAMP:20260422T181709
CREATED:20260115T155006Z
LAST-MODIFIED:20260115T155007Z
UID:10009027-1840100400-1840104000@garthma.wales
SUMMARY:Holy Eucharist with Sunday Club - Christ Church
DESCRIPTION:Holy Eucharist in the Main Church.\nSunday Club meet in the New School Rooms
URL:https://garthma.wales/events/sung-eucharist-with-sunday-club-4/2028-04-23/
LOCATION:Christ Church\, Radyr\, Heol Isaf\, Radyr\, Cardiff\, CF15 8DY\, United Kingdom
CATEGORIES:Sunday Worship
ATTACH;FMTTYPE=image/jpeg:https://garthma.wales/wp-content/uploads/2023/01/Christ-Church.jpg
END:VEVENT
BEGIN:VEVENT
DTSTART;TZID=Europe/London:20280426T100000
DTEND;TZID=Europe/London:20280426T110000
DTSTAMP:20260422T181709
CREATED:20250325T113535Z
LAST-MODIFIED:20251108T124032Z
UID:10007891-1840356000-1840359600@garthma.wales
SUMMARY:Holy Eucharist - Christ Church
DESCRIPTION:Join us for a Holy Eucharist service in Christ Church\, Radyr.
URL:https://garthma.wales/events/midweek-eucharist-6/2028-04-26/
LOCATION:Christ Church\, Radyr\, Heol Isaf\, Radyr\, Cardiff\, CF15 8DY\, United Kingdom
CATEGORIES:Mid Week Worship
ATTACH;FMTTYPE=image/jpeg:https://garthma.wales/wp-content/uploads/2023/01/Christ-Church.jpg
END:VEVENT
BEGIN:VEVENT
DTSTART;TZID=Europe/London:20280430T080000
DTEND;TZID=Europe/London:20280430T090000
DTSTAMP:20260422T181709
CREATED:20241119T201457Z
LAST-MODIFIED:20251106T205311Z
UID:10005272-1840694400-1840698000@garthma.wales
SUMMARY:Early Eucharist - Christ Church
DESCRIPTION:A simple said service including a celebration of the Eucharistic Feast.
URL:https://garthma.wales/events/eary-eucharist-2/2028-04-30/
LOCATION:Christ Church\, Radyr\, Heol Isaf\, Radyr\, Cardiff\, CF15 8DY\, United Kingdom
CATEGORIES:Sunday Worship
ATTACH;FMTTYPE=image/jpeg:https://garthma.wales/wp-content/uploads/2023/01/Christ-Church.jpg
END:VEVENT
BEGIN:VEVENT
DTSTART;TZID=Europe/London:20280430T110000
DTEND;TZID=Europe/London:20280430T120000
DTSTAMP:20260422T181709
CREATED:20260115T155006Z
LAST-MODIFIED:20260115T155007Z
UID:10009028-1840705200-1840708800@garthma.wales
SUMMARY:Holy Eucharist with Sunday Club - Christ Church
DESCRIPTION:Holy Eucharist in the Main Church.\nSunday Club meet in the New School Rooms
URL:https://garthma.wales/events/sung-eucharist-with-sunday-club-4/2028-04-30/
LOCATION:Christ Church\, Radyr\, Heol Isaf\, Radyr\, Cardiff\, CF15 8DY\, United Kingdom
CATEGORIES:Sunday Worship
ATTACH;FMTTYPE=image/jpeg:https://garthma.wales/wp-content/uploads/2023/01/Christ-Church.jpg
END:VEVENT
BEGIN:VEVENT
DTSTART;TZID=Europe/London:20280503T100000
DTEND;TZID=Europe/London:20280503T110000
DTSTAMP:20260422T181709
CREATED:20250325T113535Z
LAST-MODIFIED:20251108T124032Z
UID:10007892-1840960800-1840964400@garthma.wales
SUMMARY:Holy Eucharist - Christ Church
DESCRIPTION:Join us for a Holy Eucharist service in Christ Church\, Radyr.
URL:https://garthma.wales/events/midweek-eucharist-6/2028-05-03/
LOCATION:Christ Church\, Radyr\, Heol Isaf\, Radyr\, Cardiff\, CF15 8DY\, United Kingdom
CATEGORIES:Mid Week Worship
ATTACH;FMTTYPE=image/jpeg:https://garthma.wales/wp-content/uploads/2023/01/Christ-Church.jpg
END:VEVENT
BEGIN:VEVENT
DTSTART;TZID=Europe/London:20280507T080000
DTEND;TZID=Europe/London:20280507T090000
DTSTAMP:20260422T181709
CREATED:20241119T201457Z
LAST-MODIFIED:20251106T205311Z
UID:10005273-1841299200-1841302800@garthma.wales
SUMMARY:Early Eucharist - Christ Church
DESCRIPTION:A simple said service including a celebration of the Eucharistic Feast.
URL:https://garthma.wales/events/eary-eucharist-2/2028-05-07/
LOCATION:Christ Church\, Radyr\, Heol Isaf\, Radyr\, Cardiff\, CF15 8DY\, United Kingdom
CATEGORIES:Sunday Worship
ATTACH;FMTTYPE=image/jpeg:https://garthma.wales/wp-content/uploads/2023/01/Christ-Church.jpg
END:VEVENT
BEGIN:VEVENT
DTSTART;TZID=Europe/London:20280507T110000
DTEND;TZID=Europe/London:20280507T120000
DTSTAMP:20260422T181709
CREATED:20260115T155006Z
LAST-MODIFIED:20260115T155007Z
UID:10009029-1841310000-1841313600@garthma.wales
SUMMARY:Holy Eucharist with Sunday Club - Christ Church
DESCRIPTION:Holy Eucharist in the Main Church.\nSunday Club meet in the New School Rooms
URL:https://garthma.wales/events/sung-eucharist-with-sunday-club-4/2028-05-07/
LOCATION:Christ Church\, Radyr\, Heol Isaf\, Radyr\, Cardiff\, CF15 8DY\, United Kingdom
CATEGORIES:Sunday Worship
ATTACH;FMTTYPE=image/jpeg:https://garthma.wales/wp-content/uploads/2023/01/Christ-Church.jpg
END:VEVENT
BEGIN:VEVENT
DTSTART;TZID=Europe/London:20280510T100000
DTEND;TZID=Europe/London:20280510T110000
DTSTAMP:20260422T181709
CREATED:20250325T113535Z
LAST-MODIFIED:20251108T124032Z
UID:10007893-1841565600-1841569200@garthma.wales
SUMMARY:Holy Eucharist - Christ Church
DESCRIPTION:Join us for a Holy Eucharist service in Christ Church\, Radyr.
URL:https://garthma.wales/events/midweek-eucharist-6/2028-05-10/
LOCATION:Christ Church\, Radyr\, Heol Isaf\, Radyr\, Cardiff\, CF15 8DY\, United Kingdom
CATEGORIES:Mid Week Worship
ATTACH;FMTTYPE=image/jpeg:https://garthma.wales/wp-content/uploads/2023/01/Christ-Church.jpg
END:VEVENT
BEGIN:VEVENT
DTSTART;TZID=Europe/London:20280514T080000
DTEND;TZID=Europe/London:20280514T090000
DTSTAMP:20260422T181709
CREATED:20241119T201457Z
LAST-MODIFIED:20251106T205311Z
UID:10005274-1841904000-1841907600@garthma.wales
SUMMARY:Early Eucharist - Christ Church
DESCRIPTION:A simple said service including a celebration of the Eucharistic Feast.
URL:https://garthma.wales/events/eary-eucharist-2/2028-05-14/
LOCATION:Christ Church\, Radyr\, Heol Isaf\, Radyr\, Cardiff\, CF15 8DY\, United Kingdom
CATEGORIES:Sunday Worship
ATTACH;FMTTYPE=image/jpeg:https://garthma.wales/wp-content/uploads/2023/01/Christ-Church.jpg
END:VEVENT
BEGIN:VEVENT
DTSTART;TZID=Europe/London:20280514T110000
DTEND;TZID=Europe/London:20280514T120000
DTSTAMP:20260422T181709
CREATED:20260115T155006Z
LAST-MODIFIED:20260115T155007Z
UID:10009030-1841914800-1841918400@garthma.wales
SUMMARY:Holy Eucharist with Sunday Club - Christ Church
DESCRIPTION:Holy Eucharist in the Main Church.\nSunday Club meet in the New School Rooms
URL:https://garthma.wales/events/sung-eucharist-with-sunday-club-4/2028-05-14/
LOCATION:Christ Church\, Radyr\, Heol Isaf\, Radyr\, Cardiff\, CF15 8DY\, United Kingdom
CATEGORIES:Sunday Worship
ATTACH;FMTTYPE=image/jpeg:https://garthma.wales/wp-content/uploads/2023/01/Christ-Church.jpg
END:VEVENT
BEGIN:VEVENT
DTSTART;TZID=Europe/London:20280517T100000
DTEND;TZID=Europe/London:20280517T110000
DTSTAMP:20260422T181709
CREATED:20250325T113535Z
LAST-MODIFIED:20251108T124032Z
UID:10007894-1842170400-1842174000@garthma.wales
SUMMARY:Holy Eucharist - Christ Church
DESCRIPTION:Join us for a Holy Eucharist service in Christ Church\, Radyr.
URL:https://garthma.wales/events/midweek-eucharist-6/2028-05-17/
LOCATION:Christ Church\, Radyr\, Heol Isaf\, Radyr\, Cardiff\, CF15 8DY\, United Kingdom
CATEGORIES:Mid Week Worship
ATTACH;FMTTYPE=image/jpeg:https://garthma.wales/wp-content/uploads/2023/01/Christ-Church.jpg
END:VEVENT
BEGIN:VEVENT
DTSTART;TZID=Europe/London:20280521T080000
DTEND;TZID=Europe/London:20280521T090000
DTSTAMP:20260422T181709
CREATED:20241119T201457Z
LAST-MODIFIED:20251106T205311Z
UID:10005275-1842508800-1842512400@garthma.wales
SUMMARY:Early Eucharist - Christ Church
DESCRIPTION:A simple said service including a celebration of the Eucharistic Feast.
URL:https://garthma.wales/events/eary-eucharist-2/2028-05-21/
LOCATION:Christ Church\, Radyr\, Heol Isaf\, Radyr\, Cardiff\, CF15 8DY\, United Kingdom
CATEGORIES:Sunday Worship
ATTACH;FMTTYPE=image/jpeg:https://garthma.wales/wp-content/uploads/2023/01/Christ-Church.jpg
END:VEVENT
BEGIN:VEVENT
DTSTART;TZID=Europe/London:20280521T110000
DTEND;TZID=Europe/London:20280521T120000
DTSTAMP:20260422T181709
CREATED:20260115T155006Z
LAST-MODIFIED:20260115T155007Z
UID:10009031-1842519600-1842523200@garthma.wales
SUMMARY:Holy Eucharist with Sunday Club - Christ Church
DESCRIPTION:Holy Eucharist in the Main Church.\nSunday Club meet in the New School Rooms
URL:https://garthma.wales/events/sung-eucharist-with-sunday-club-4/2028-05-21/
LOCATION:Christ Church\, Radyr\, Heol Isaf\, Radyr\, Cardiff\, CF15 8DY\, United Kingdom
CATEGORIES:Sunday Worship
ATTACH;FMTTYPE=image/jpeg:https://garthma.wales/wp-content/uploads/2023/01/Christ-Church.jpg
END:VEVENT
BEGIN:VEVENT
DTSTART;TZID=Europe/London:20280524T100000
DTEND;TZID=Europe/London:20280524T110000
DTSTAMP:20260422T181709
CREATED:20250325T113535Z
LAST-MODIFIED:20251108T124032Z
UID:10007895-1842775200-1842778800@garthma.wales
SUMMARY:Holy Eucharist - Christ Church
DESCRIPTION:Join us for a Holy Eucharist service in Christ Church\, Radyr.
URL:https://garthma.wales/events/midweek-eucharist-6/2028-05-24/
LOCATION:Christ Church\, Radyr\, Heol Isaf\, Radyr\, Cardiff\, CF15 8DY\, United Kingdom
CATEGORIES:Mid Week Worship
ATTACH;FMTTYPE=image/jpeg:https://garthma.wales/wp-content/uploads/2023/01/Christ-Church.jpg
END:VEVENT
BEGIN:VEVENT
DTSTART;TZID=Europe/London:20280528T080000
DTEND;TZID=Europe/London:20280528T090000
DTSTAMP:20260422T181709
CREATED:20241119T201457Z
LAST-MODIFIED:20251106T205311Z
UID:10005276-1843113600-1843117200@garthma.wales
SUMMARY:Early Eucharist - Christ Church
DESCRIPTION:A simple said service including a celebration of the Eucharistic Feast.
URL:https://garthma.wales/events/eary-eucharist-2/2028-05-28/
LOCATION:Christ Church\, Radyr\, Heol Isaf\, Radyr\, Cardiff\, CF15 8DY\, United Kingdom
CATEGORIES:Sunday Worship
ATTACH;FMTTYPE=image/jpeg:https://garthma.wales/wp-content/uploads/2023/01/Christ-Church.jpg
END:VEVENT
BEGIN:VEVENT
DTSTART;TZID=Europe/London:20280528T110000
DTEND;TZID=Europe/London:20280528T120000
DTSTAMP:20260422T181709
CREATED:20260115T155006Z
LAST-MODIFIED:20260115T155007Z
UID:10009032-1843124400-1843128000@garthma.wales
SUMMARY:Holy Eucharist with Sunday Club - Christ Church
DESCRIPTION:Holy Eucharist in the Main Church.\nSunday Club meet in the New School Rooms
URL:https://garthma.wales/events/sung-eucharist-with-sunday-club-4/2028-05-28/
LOCATION:Christ Church\, Radyr\, Heol Isaf\, Radyr\, Cardiff\, CF15 8DY\, United Kingdom
CATEGORIES:Sunday Worship
ATTACH;FMTTYPE=image/jpeg:https://garthma.wales/wp-content/uploads/2023/01/Christ-Church.jpg
END:VEVENT
BEGIN:VEVENT
DTSTART;TZID=Europe/London:20280531T100000
DTEND;TZID=Europe/London:20280531T110000
DTSTAMP:20260422T181709
CREATED:20250325T113535Z
LAST-MODIFIED:20251108T124032Z
UID:10007896-1843380000-1843383600@garthma.wales
SUMMARY:Holy Eucharist - Christ Church
DESCRIPTION:Join us for a Holy Eucharist service in Christ Church\, Radyr.
URL:https://garthma.wales/events/midweek-eucharist-6/2028-05-31/
LOCATION:Christ Church\, Radyr\, Heol Isaf\, Radyr\, Cardiff\, CF15 8DY\, United Kingdom
CATEGORIES:Mid Week Worship
ATTACH;FMTTYPE=image/jpeg:https://garthma.wales/wp-content/uploads/2023/01/Christ-Church.jpg
END:VEVENT
END:VCALENDAR