BEGIN:VCALENDAR
VERSION:2.0
PRODID:-//The Garth Ministry Area - ECPv6.15.20//NONSGML v1.0//EN
CALSCALE:GREGORIAN
METHOD:PUBLISH
X-WR-CALNAME:The Garth Ministry Area
X-ORIGINAL-URL:https://garthma.wales
X-WR-CALDESC:Events for The Garth Ministry Area
REFRESH-INTERVAL;VALUE=DURATION:PT1H
X-Robots-Tag:noindex
X-PUBLISHED-TTL:PT1H
BEGIN:VTIMEZONE
TZID:Europe/London
BEGIN:DAYLIGHT
TZOFFSETFROM:+0000
TZOFFSETTO:+0100
TZNAME:BST
DTSTART:20260329T010000
END:DAYLIGHT
BEGIN:STANDARD
TZOFFSETFROM:+0100
TZOFFSETTO:+0000
TZNAME:GMT
DTSTART:20261025T010000
END:STANDARD
BEGIN:DAYLIGHT
TZOFFSETFROM:+0000
TZOFFSETTO:+0100
TZNAME:BST
DTSTART:20270328T010000
END:DAYLIGHT
BEGIN:STANDARD
TZOFFSETFROM:+0100
TZOFFSETTO:+0000
TZNAME:GMT
DTSTART:20271031T010000
END:STANDARD
BEGIN:DAYLIGHT
TZOFFSETFROM:+0000
TZOFFSETTO:+0100
TZNAME:BST
DTSTART:20280326T010000
END:DAYLIGHT
BEGIN:STANDARD
TZOFFSETFROM:+0100
TZOFFSETTO:+0000
TZNAME:GMT
DTSTART:20281029T010000
END:STANDARD
BEGIN:DAYLIGHT
TZOFFSETFROM:+0000
TZOFFSETTO:+0100
TZNAME:BST
DTSTART:20290325T010000
END:DAYLIGHT
BEGIN:STANDARD
TZOFFSETFROM:+0100
TZOFFSETTO:+0000
TZNAME:GMT
DTSTART:20291028T010000
END:STANDARD
END:VTIMEZONE
BEGIN:VEVENT
DTSTART;TZID=Europe/London:20271229T100000
DTEND;TZID=Europe/London:20271229T110000
DTSTAMP:20260422T075508
CREATED:20250325T113535Z
LAST-MODIFIED:20251108T124032Z
UID:10007874-1830074400-1830078000@garthma.wales
SUMMARY:Holy Eucharist - Christ Church
DESCRIPTION:Join us for a Holy Eucharist service in Christ Church\, Radyr.
URL:https://garthma.wales/events/midweek-eucharist-6/2027-12-29/
LOCATION:Christ Church\, Radyr\, Heol Isaf\, Radyr\, Cardiff\, CF15 8DY\, United Kingdom
CATEGORIES:Mid Week Worship
ATTACH;FMTTYPE=image/jpeg:https://garthma.wales/wp-content/uploads/2023/01/Christ-Church.jpg
END:VEVENT
BEGIN:VEVENT
DTSTART;TZID=Europe/London:20280102T080000
DTEND;TZID=Europe/London:20280102T090000
DTSTAMP:20260422T075508
CREATED:20241119T201457Z
LAST-MODIFIED:20251106T205311Z
UID:10005255-1830412800-1830416400@garthma.wales
SUMMARY:Early Eucharist - Christ Church
DESCRIPTION:A simple said service including a celebration of the Eucharistic Feast.
URL:https://garthma.wales/events/eary-eucharist-2/2028-01-02/
LOCATION:Christ Church\, Radyr\, Heol Isaf\, Radyr\, Cardiff\, CF15 8DY\, United Kingdom
CATEGORIES:Sunday Worship
ATTACH;FMTTYPE=image/jpeg:https://garthma.wales/wp-content/uploads/2023/01/Christ-Church.jpg
END:VEVENT
BEGIN:VEVENT
DTSTART;TZID=Europe/London:20280102T110000
DTEND;TZID=Europe/London:20280102T120000
DTSTAMP:20260422T075508
CREATED:20260115T155006Z
LAST-MODIFIED:20260115T155007Z
UID:10009011-1830423600-1830427200@garthma.wales
SUMMARY:Holy Eucharist with Sunday Club - Christ Church
DESCRIPTION:Holy Eucharist in the Main Church.\nSunday Club meet in the New School Rooms
URL:https://garthma.wales/events/sung-eucharist-with-sunday-club-4/2028-01-02/
LOCATION:Christ Church\, Radyr\, Heol Isaf\, Radyr\, Cardiff\, CF15 8DY\, United Kingdom
CATEGORIES:Sunday Worship
ATTACH;FMTTYPE=image/jpeg:https://garthma.wales/wp-content/uploads/2023/01/Christ-Church.jpg
END:VEVENT
BEGIN:VEVENT
DTSTART;TZID=Europe/London:20280105T100000
DTEND;TZID=Europe/London:20280105T110000
DTSTAMP:20260422T075508
CREATED:20250325T113535Z
LAST-MODIFIED:20251108T124032Z
UID:10007875-1830679200-1830682800@garthma.wales
SUMMARY:Holy Eucharist - Christ Church
DESCRIPTION:Join us for a Holy Eucharist service in Christ Church\, Radyr.
URL:https://garthma.wales/events/midweek-eucharist-6/2028-01-05/
LOCATION:Christ Church\, Radyr\, Heol Isaf\, Radyr\, Cardiff\, CF15 8DY\, United Kingdom
CATEGORIES:Mid Week Worship
ATTACH;FMTTYPE=image/jpeg:https://garthma.wales/wp-content/uploads/2023/01/Christ-Church.jpg
END:VEVENT
BEGIN:VEVENT
DTSTART;TZID=Europe/London:20280109T080000
DTEND;TZID=Europe/London:20280109T090000
DTSTAMP:20260422T075508
CREATED:20241119T201457Z
LAST-MODIFIED:20251106T205311Z
UID:10005256-1831017600-1831021200@garthma.wales
SUMMARY:Early Eucharist - Christ Church
DESCRIPTION:A simple said service including a celebration of the Eucharistic Feast.
URL:https://garthma.wales/events/eary-eucharist-2/2028-01-09/
LOCATION:Christ Church\, Radyr\, Heol Isaf\, Radyr\, Cardiff\, CF15 8DY\, United Kingdom
CATEGORIES:Sunday Worship
ATTACH;FMTTYPE=image/jpeg:https://garthma.wales/wp-content/uploads/2023/01/Christ-Church.jpg
END:VEVENT
BEGIN:VEVENT
DTSTART;TZID=Europe/London:20280109T110000
DTEND;TZID=Europe/London:20280109T120000
DTSTAMP:20260422T075508
CREATED:20260115T155006Z
LAST-MODIFIED:20260115T155007Z
UID:10009012-1831028400-1831032000@garthma.wales
SUMMARY:Holy Eucharist with Sunday Club - Christ Church
DESCRIPTION:Holy Eucharist in the Main Church.\nSunday Club meet in the New School Rooms
URL:https://garthma.wales/events/sung-eucharist-with-sunday-club-4/2028-01-09/
LOCATION:Christ Church\, Radyr\, Heol Isaf\, Radyr\, Cardiff\, CF15 8DY\, United Kingdom
CATEGORIES:Sunday Worship
ATTACH;FMTTYPE=image/jpeg:https://garthma.wales/wp-content/uploads/2023/01/Christ-Church.jpg
END:VEVENT
BEGIN:VEVENT
DTSTART;TZID=Europe/London:20280112T100000
DTEND;TZID=Europe/London:20280112T110000
DTSTAMP:20260422T075508
CREATED:20250325T113535Z
LAST-MODIFIED:20251108T124032Z
UID:10007876-1831284000-1831287600@garthma.wales
SUMMARY:Holy Eucharist - Christ Church
DESCRIPTION:Join us for a Holy Eucharist service in Christ Church\, Radyr.
URL:https://garthma.wales/events/midweek-eucharist-6/2028-01-12/
LOCATION:Christ Church\, Radyr\, Heol Isaf\, Radyr\, Cardiff\, CF15 8DY\, United Kingdom
CATEGORIES:Mid Week Worship
ATTACH;FMTTYPE=image/jpeg:https://garthma.wales/wp-content/uploads/2023/01/Christ-Church.jpg
END:VEVENT
BEGIN:VEVENT
DTSTART;TZID=Europe/London:20280116T080000
DTEND;TZID=Europe/London:20280116T090000
DTSTAMP:20260422T075508
CREATED:20241119T201457Z
LAST-MODIFIED:20251106T205311Z
UID:10005257-1831622400-1831626000@garthma.wales
SUMMARY:Early Eucharist - Christ Church
DESCRIPTION:A simple said service including a celebration of the Eucharistic Feast.
URL:https://garthma.wales/events/eary-eucharist-2/2028-01-16/
LOCATION:Christ Church\, Radyr\, Heol Isaf\, Radyr\, Cardiff\, CF15 8DY\, United Kingdom
CATEGORIES:Sunday Worship
ATTACH;FMTTYPE=image/jpeg:https://garthma.wales/wp-content/uploads/2023/01/Christ-Church.jpg
END:VEVENT
BEGIN:VEVENT
DTSTART;TZID=Europe/London:20280116T110000
DTEND;TZID=Europe/London:20280116T120000
DTSTAMP:20260422T075508
CREATED:20260115T155006Z
LAST-MODIFIED:20260115T155007Z
UID:10009013-1831633200-1831636800@garthma.wales
SUMMARY:Holy Eucharist with Sunday Club - Christ Church
DESCRIPTION:Holy Eucharist in the Main Church.\nSunday Club meet in the New School Rooms
URL:https://garthma.wales/events/sung-eucharist-with-sunday-club-4/2028-01-16/
LOCATION:Christ Church\, Radyr\, Heol Isaf\, Radyr\, Cardiff\, CF15 8DY\, United Kingdom
CATEGORIES:Sunday Worship
ATTACH;FMTTYPE=image/jpeg:https://garthma.wales/wp-content/uploads/2023/01/Christ-Church.jpg
END:VEVENT
BEGIN:VEVENT
DTSTART;TZID=Europe/London:20280119T100000
DTEND;TZID=Europe/London:20280119T110000
DTSTAMP:20260422T075508
CREATED:20250325T113535Z
LAST-MODIFIED:20251108T124032Z
UID:10007877-1831888800-1831892400@garthma.wales
SUMMARY:Holy Eucharist - Christ Church
DESCRIPTION:Join us for a Holy Eucharist service in Christ Church\, Radyr.
URL:https://garthma.wales/events/midweek-eucharist-6/2028-01-19/
LOCATION:Christ Church\, Radyr\, Heol Isaf\, Radyr\, Cardiff\, CF15 8DY\, United Kingdom
CATEGORIES:Mid Week Worship
ATTACH;FMTTYPE=image/jpeg:https://garthma.wales/wp-content/uploads/2023/01/Christ-Church.jpg
END:VEVENT
BEGIN:VEVENT
DTSTART;TZID=Europe/London:20280123T080000
DTEND;TZID=Europe/London:20280123T090000
DTSTAMP:20260422T075508
CREATED:20241119T201457Z
LAST-MODIFIED:20251106T205311Z
UID:10005258-1832227200-1832230800@garthma.wales
SUMMARY:Early Eucharist - Christ Church
DESCRIPTION:A simple said service including a celebration of the Eucharistic Feast.
URL:https://garthma.wales/events/eary-eucharist-2/2028-01-23/
LOCATION:Christ Church\, Radyr\, Heol Isaf\, Radyr\, Cardiff\, CF15 8DY\, United Kingdom
CATEGORIES:Sunday Worship
ATTACH;FMTTYPE=image/jpeg:https://garthma.wales/wp-content/uploads/2023/01/Christ-Church.jpg
END:VEVENT
BEGIN:VEVENT
DTSTART;TZID=Europe/London:20280123T110000
DTEND;TZID=Europe/London:20280123T120000
DTSTAMP:20260422T075508
CREATED:20260115T155006Z
LAST-MODIFIED:20260115T155007Z
UID:10009014-1832238000-1832241600@garthma.wales
SUMMARY:Holy Eucharist with Sunday Club - Christ Church
DESCRIPTION:Holy Eucharist in the Main Church.\nSunday Club meet in the New School Rooms
URL:https://garthma.wales/events/sung-eucharist-with-sunday-club-4/2028-01-23/
LOCATION:Christ Church\, Radyr\, Heol Isaf\, Radyr\, Cardiff\, CF15 8DY\, United Kingdom
CATEGORIES:Sunday Worship
ATTACH;FMTTYPE=image/jpeg:https://garthma.wales/wp-content/uploads/2023/01/Christ-Church.jpg
END:VEVENT
BEGIN:VEVENT
DTSTART;TZID=Europe/London:20280126T100000
DTEND;TZID=Europe/London:20280126T110000
DTSTAMP:20260422T075508
CREATED:20250325T113535Z
LAST-MODIFIED:20251108T124032Z
UID:10007878-1832493600-1832497200@garthma.wales
SUMMARY:Holy Eucharist - Christ Church
DESCRIPTION:Join us for a Holy Eucharist service in Christ Church\, Radyr.
URL:https://garthma.wales/events/midweek-eucharist-6/2028-01-26/
LOCATION:Christ Church\, Radyr\, Heol Isaf\, Radyr\, Cardiff\, CF15 8DY\, United Kingdom
CATEGORIES:Mid Week Worship
ATTACH;FMTTYPE=image/jpeg:https://garthma.wales/wp-content/uploads/2023/01/Christ-Church.jpg
END:VEVENT
BEGIN:VEVENT
DTSTART;TZID=Europe/London:20280130T080000
DTEND;TZID=Europe/London:20280130T090000
DTSTAMP:20260422T075508
CREATED:20241119T201457Z
LAST-MODIFIED:20251106T205311Z
UID:10005259-1832832000-1832835600@garthma.wales
SUMMARY:Early Eucharist - Christ Church
DESCRIPTION:A simple said service including a celebration of the Eucharistic Feast.
URL:https://garthma.wales/events/eary-eucharist-2/2028-01-30/
LOCATION:Christ Church\, Radyr\, Heol Isaf\, Radyr\, Cardiff\, CF15 8DY\, United Kingdom
CATEGORIES:Sunday Worship
ATTACH;FMTTYPE=image/jpeg:https://garthma.wales/wp-content/uploads/2023/01/Christ-Church.jpg
END:VEVENT
BEGIN:VEVENT
DTSTART;TZID=Europe/London:20280130T110000
DTEND;TZID=Europe/London:20280130T120000
DTSTAMP:20260422T075508
CREATED:20260115T155006Z
LAST-MODIFIED:20260115T155007Z
UID:10009015-1832842800-1832846400@garthma.wales
SUMMARY:Holy Eucharist with Sunday Club - Christ Church
DESCRIPTION:Holy Eucharist in the Main Church.\nSunday Club meet in the New School Rooms
URL:https://garthma.wales/events/sung-eucharist-with-sunday-club-4/2028-01-30/
LOCATION:Christ Church\, Radyr\, Heol Isaf\, Radyr\, Cardiff\, CF15 8DY\, United Kingdom
CATEGORIES:Sunday Worship
ATTACH;FMTTYPE=image/jpeg:https://garthma.wales/wp-content/uploads/2023/01/Christ-Church.jpg
END:VEVENT
BEGIN:VEVENT
DTSTART;TZID=Europe/London:20280202T100000
DTEND;TZID=Europe/London:20280202T110000
DTSTAMP:20260422T075508
CREATED:20250325T113535Z
LAST-MODIFIED:20251108T124032Z
UID:10007879-1833098400-1833102000@garthma.wales
SUMMARY:Holy Eucharist - Christ Church
DESCRIPTION:Join us for a Holy Eucharist service in Christ Church\, Radyr.
URL:https://garthma.wales/events/midweek-eucharist-6/2028-02-02/
LOCATION:Christ Church\, Radyr\, Heol Isaf\, Radyr\, Cardiff\, CF15 8DY\, United Kingdom
CATEGORIES:Mid Week Worship
ATTACH;FMTTYPE=image/jpeg:https://garthma.wales/wp-content/uploads/2023/01/Christ-Church.jpg
END:VEVENT
BEGIN:VEVENT
DTSTART;TZID=Europe/London:20280206T080000
DTEND;TZID=Europe/London:20280206T090000
DTSTAMP:20260422T075508
CREATED:20241119T201457Z
LAST-MODIFIED:20251106T205311Z
UID:10005260-1833436800-1833440400@garthma.wales
SUMMARY:Early Eucharist - Christ Church
DESCRIPTION:A simple said service including a celebration of the Eucharistic Feast.
URL:https://garthma.wales/events/eary-eucharist-2/2028-02-06/
LOCATION:Christ Church\, Radyr\, Heol Isaf\, Radyr\, Cardiff\, CF15 8DY\, United Kingdom
CATEGORIES:Sunday Worship
ATTACH;FMTTYPE=image/jpeg:https://garthma.wales/wp-content/uploads/2023/01/Christ-Church.jpg
END:VEVENT
BEGIN:VEVENT
DTSTART;TZID=Europe/London:20280206T110000
DTEND;TZID=Europe/London:20280206T120000
DTSTAMP:20260422T075508
CREATED:20260115T155006Z
LAST-MODIFIED:20260115T155007Z
UID:10009016-1833447600-1833451200@garthma.wales
SUMMARY:Holy Eucharist with Sunday Club - Christ Church
DESCRIPTION:Holy Eucharist in the Main Church.\nSunday Club meet in the New School Rooms
URL:https://garthma.wales/events/sung-eucharist-with-sunday-club-4/2028-02-06/
LOCATION:Christ Church\, Radyr\, Heol Isaf\, Radyr\, Cardiff\, CF15 8DY\, United Kingdom
CATEGORIES:Sunday Worship
ATTACH;FMTTYPE=image/jpeg:https://garthma.wales/wp-content/uploads/2023/01/Christ-Church.jpg
END:VEVENT
BEGIN:VEVENT
DTSTART;TZID=Europe/London:20280209T100000
DTEND;TZID=Europe/London:20280209T110000
DTSTAMP:20260422T075508
CREATED:20250325T113535Z
LAST-MODIFIED:20251108T124032Z
UID:10007880-1833703200-1833706800@garthma.wales
SUMMARY:Holy Eucharist - Christ Church
DESCRIPTION:Join us for a Holy Eucharist service in Christ Church\, Radyr.
URL:https://garthma.wales/events/midweek-eucharist-6/2028-02-09/
LOCATION:Christ Church\, Radyr\, Heol Isaf\, Radyr\, Cardiff\, CF15 8DY\, United Kingdom
CATEGORIES:Mid Week Worship
ATTACH;FMTTYPE=image/jpeg:https://garthma.wales/wp-content/uploads/2023/01/Christ-Church.jpg
END:VEVENT
BEGIN:VEVENT
DTSTART;TZID=Europe/London:20280213T080000
DTEND;TZID=Europe/London:20280213T090000
DTSTAMP:20260422T075508
CREATED:20241119T201457Z
LAST-MODIFIED:20251106T205311Z
UID:10005261-1834041600-1834045200@garthma.wales
SUMMARY:Early Eucharist - Christ Church
DESCRIPTION:A simple said service including a celebration of the Eucharistic Feast.
URL:https://garthma.wales/events/eary-eucharist-2/2028-02-13/
LOCATION:Christ Church\, Radyr\, Heol Isaf\, Radyr\, Cardiff\, CF15 8DY\, United Kingdom
CATEGORIES:Sunday Worship
ATTACH;FMTTYPE=image/jpeg:https://garthma.wales/wp-content/uploads/2023/01/Christ-Church.jpg
END:VEVENT
BEGIN:VEVENT
DTSTART;TZID=Europe/London:20280213T110000
DTEND;TZID=Europe/London:20280213T120000
DTSTAMP:20260422T075508
CREATED:20260115T155006Z
LAST-MODIFIED:20260115T155007Z
UID:10009017-1834052400-1834056000@garthma.wales
SUMMARY:Holy Eucharist with Sunday Club - Christ Church
DESCRIPTION:Holy Eucharist in the Main Church.\nSunday Club meet in the New School Rooms
URL:https://garthma.wales/events/sung-eucharist-with-sunday-club-4/2028-02-13/
LOCATION:Christ Church\, Radyr\, Heol Isaf\, Radyr\, Cardiff\, CF15 8DY\, United Kingdom
CATEGORIES:Sunday Worship
ATTACH;FMTTYPE=image/jpeg:https://garthma.wales/wp-content/uploads/2023/01/Christ-Church.jpg
END:VEVENT
BEGIN:VEVENT
DTSTART;TZID=Europe/London:20280216T100000
DTEND;TZID=Europe/London:20280216T110000
DTSTAMP:20260422T075508
CREATED:20250325T113535Z
LAST-MODIFIED:20251108T124032Z
UID:10007881-1834308000-1834311600@garthma.wales
SUMMARY:Holy Eucharist - Christ Church
DESCRIPTION:Join us for a Holy Eucharist service in Christ Church\, Radyr.
URL:https://garthma.wales/events/midweek-eucharist-6/2028-02-16/
LOCATION:Christ Church\, Radyr\, Heol Isaf\, Radyr\, Cardiff\, CF15 8DY\, United Kingdom
CATEGORIES:Mid Week Worship
ATTACH;FMTTYPE=image/jpeg:https://garthma.wales/wp-content/uploads/2023/01/Christ-Church.jpg
END:VEVENT
BEGIN:VEVENT
DTSTART;TZID=Europe/London:20280220T080000
DTEND;TZID=Europe/London:20280220T090000
DTSTAMP:20260422T075508
CREATED:20241119T201457Z
LAST-MODIFIED:20251106T205311Z
UID:10005262-1834646400-1834650000@garthma.wales
SUMMARY:Early Eucharist - Christ Church
DESCRIPTION:A simple said service including a celebration of the Eucharistic Feast.
URL:https://garthma.wales/events/eary-eucharist-2/2028-02-20/
LOCATION:Christ Church\, Radyr\, Heol Isaf\, Radyr\, Cardiff\, CF15 8DY\, United Kingdom
CATEGORIES:Sunday Worship
ATTACH;FMTTYPE=image/jpeg:https://garthma.wales/wp-content/uploads/2023/01/Christ-Church.jpg
END:VEVENT
BEGIN:VEVENT
DTSTART;TZID=Europe/London:20280220T110000
DTEND;TZID=Europe/London:20280220T120000
DTSTAMP:20260422T075508
CREATED:20260115T155006Z
LAST-MODIFIED:20260115T155007Z
UID:10009018-1834657200-1834660800@garthma.wales
SUMMARY:Holy Eucharist with Sunday Club - Christ Church
DESCRIPTION:Holy Eucharist in the Main Church.\nSunday Club meet in the New School Rooms
URL:https://garthma.wales/events/sung-eucharist-with-sunday-club-4/2028-02-20/
LOCATION:Christ Church\, Radyr\, Heol Isaf\, Radyr\, Cardiff\, CF15 8DY\, United Kingdom
CATEGORIES:Sunday Worship
ATTACH;FMTTYPE=image/jpeg:https://garthma.wales/wp-content/uploads/2023/01/Christ-Church.jpg
END:VEVENT
BEGIN:VEVENT
DTSTART;TZID=Europe/London:20280223T100000
DTEND;TZID=Europe/London:20280223T110000
DTSTAMP:20260422T075508
CREATED:20250325T113535Z
LAST-MODIFIED:20251108T124032Z
UID:10007882-1834912800-1834916400@garthma.wales
SUMMARY:Holy Eucharist - Christ Church
DESCRIPTION:Join us for a Holy Eucharist service in Christ Church\, Radyr.
URL:https://garthma.wales/events/midweek-eucharist-6/2028-02-23/
LOCATION:Christ Church\, Radyr\, Heol Isaf\, Radyr\, Cardiff\, CF15 8DY\, United Kingdom
CATEGORIES:Mid Week Worship
ATTACH;FMTTYPE=image/jpeg:https://garthma.wales/wp-content/uploads/2023/01/Christ-Church.jpg
END:VEVENT
BEGIN:VEVENT
DTSTART;TZID=Europe/London:20280227T080000
DTEND;TZID=Europe/London:20280227T090000
DTSTAMP:20260422T075508
CREATED:20241119T201457Z
LAST-MODIFIED:20251106T205311Z
UID:10005263-1835251200-1835254800@garthma.wales
SUMMARY:Early Eucharist - Christ Church
DESCRIPTION:A simple said service including a celebration of the Eucharistic Feast.
URL:https://garthma.wales/events/eary-eucharist-2/2028-02-27/
LOCATION:Christ Church\, Radyr\, Heol Isaf\, Radyr\, Cardiff\, CF15 8DY\, United Kingdom
CATEGORIES:Sunday Worship
ATTACH;FMTTYPE=image/jpeg:https://garthma.wales/wp-content/uploads/2023/01/Christ-Church.jpg
END:VEVENT
BEGIN:VEVENT
DTSTART;TZID=Europe/London:20280227T110000
DTEND;TZID=Europe/London:20280227T120000
DTSTAMP:20260422T075508
CREATED:20260115T155006Z
LAST-MODIFIED:20260115T155007Z
UID:10009019-1835262000-1835265600@garthma.wales
SUMMARY:Holy Eucharist with Sunday Club - Christ Church
DESCRIPTION:Holy Eucharist in the Main Church.\nSunday Club meet in the New School Rooms
URL:https://garthma.wales/events/sung-eucharist-with-sunday-club-4/2028-02-27/
LOCATION:Christ Church\, Radyr\, Heol Isaf\, Radyr\, Cardiff\, CF15 8DY\, United Kingdom
CATEGORIES:Sunday Worship
ATTACH;FMTTYPE=image/jpeg:https://garthma.wales/wp-content/uploads/2023/01/Christ-Church.jpg
END:VEVENT
BEGIN:VEVENT
DTSTART;TZID=Europe/London:20280301T100000
DTEND;TZID=Europe/London:20280301T110000
DTSTAMP:20260422T075508
CREATED:20250325T113535Z
LAST-MODIFIED:20251108T124032Z
UID:10007883-1835517600-1835521200@garthma.wales
SUMMARY:Holy Eucharist - Christ Church
DESCRIPTION:Join us for a Holy Eucharist service in Christ Church\, Radyr.
URL:https://garthma.wales/events/midweek-eucharist-6/2028-03-01/
LOCATION:Christ Church\, Radyr\, Heol Isaf\, Radyr\, Cardiff\, CF15 8DY\, United Kingdom
CATEGORIES:Mid Week Worship
ATTACH;FMTTYPE=image/jpeg:https://garthma.wales/wp-content/uploads/2023/01/Christ-Church.jpg
END:VEVENT
BEGIN:VEVENT
DTSTART;TZID=Europe/London:20280305T080000
DTEND;TZID=Europe/London:20280305T090000
DTSTAMP:20260422T075508
CREATED:20241119T201457Z
LAST-MODIFIED:20251106T205311Z
UID:10005264-1835856000-1835859600@garthma.wales
SUMMARY:Early Eucharist - Christ Church
DESCRIPTION:A simple said service including a celebration of the Eucharistic Feast.
URL:https://garthma.wales/events/eary-eucharist-2/2028-03-05/
LOCATION:Christ Church\, Radyr\, Heol Isaf\, Radyr\, Cardiff\, CF15 8DY\, United Kingdom
CATEGORIES:Sunday Worship
ATTACH;FMTTYPE=image/jpeg:https://garthma.wales/wp-content/uploads/2023/01/Christ-Church.jpg
END:VEVENT
BEGIN:VEVENT
DTSTART;TZID=Europe/London:20280305T110000
DTEND;TZID=Europe/London:20280305T120000
DTSTAMP:20260422T075508
CREATED:20260115T155006Z
LAST-MODIFIED:20260115T155007Z
UID:10009020-1835866800-1835870400@garthma.wales
SUMMARY:Holy Eucharist with Sunday Club - Christ Church
DESCRIPTION:Holy Eucharist in the Main Church.\nSunday Club meet in the New School Rooms
URL:https://garthma.wales/events/sung-eucharist-with-sunday-club-4/2028-03-05/
LOCATION:Christ Church\, Radyr\, Heol Isaf\, Radyr\, Cardiff\, CF15 8DY\, United Kingdom
CATEGORIES:Sunday Worship
ATTACH;FMTTYPE=image/jpeg:https://garthma.wales/wp-content/uploads/2023/01/Christ-Church.jpg
END:VEVENT
END:VCALENDAR