BEGIN:VCALENDAR
VERSION:2.0
PRODID:-//The Garth Ministry Area - ECPv6.15.20//NONSGML v1.0//EN
CALSCALE:GREGORIAN
METHOD:PUBLISH
X-ORIGINAL-URL:https://garthma.wales
X-WR-CALDESC:Events for The Garth Ministry Area
REFRESH-INTERVAL;VALUE=DURATION:PT1H
X-Robots-Tag:noindex
X-PUBLISHED-TTL:PT1H
BEGIN:VTIMEZONE
TZID:Europe/London
BEGIN:DAYLIGHT
TZOFFSETFROM:+0000
TZOFFSETTO:+0100
TZNAME:BST
DTSTART:20230326T010000
END:DAYLIGHT
BEGIN:STANDARD
TZOFFSETFROM:+0100
TZOFFSETTO:+0000
TZNAME:GMT
DTSTART:20231029T010000
END:STANDARD
BEGIN:DAYLIGHT
TZOFFSETFROM:+0000
TZOFFSETTO:+0100
TZNAME:BST
DTSTART:20240331T010000
END:DAYLIGHT
BEGIN:STANDARD
TZOFFSETFROM:+0100
TZOFFSETTO:+0000
TZNAME:GMT
DTSTART:20241027T010000
END:STANDARD
BEGIN:DAYLIGHT
TZOFFSETFROM:+0000
TZOFFSETTO:+0100
TZNAME:BST
DTSTART:20250330T010000
END:DAYLIGHT
BEGIN:STANDARD
TZOFFSETFROM:+0100
TZOFFSETTO:+0000
TZNAME:GMT
DTSTART:20251026T010000
END:STANDARD
END:VTIMEZONE
BEGIN:VEVENT
DTSTART;TZID=Europe/London:20241110T110000
DTEND;TZID=Europe/London:20241110T120000
DTSTAMP:20260422T204504
CREATED:20230116T211013Z
LAST-MODIFIED:20251106T205712Z
UID:10000199-1731236400-1731240000@garthma.wales
SUMMARY:Holy Eucharist with Sunday Club - Christ Church
DESCRIPTION:Holy Eucharist in the Main Church.\nSunday Club meet in the New School Rooms
URL:https://garthma.wales/events/sung-eucharist-with-sunday-club/2024-11-10/
LOCATION:Christ Church\, Radyr\, Heol Isaf\, Radyr\, Cardiff\, CF15 8DY\, United Kingdom
CATEGORIES:Sunday Worship
ATTACH;FMTTYPE=image/jpeg:https://garthma.wales/wp-content/uploads/2023/01/Christ-Church.jpg
END:VEVENT
BEGIN:VEVENT
DTSTART;TZID=Europe/London:20241110T080000
DTEND;TZID=Europe/London:20241110T090000
DTSTAMP:20260422T204504
CREATED:20230116T210821Z
LAST-MODIFIED:20240601T090643Z
UID:10000098-1731225600-1731229200@garthma.wales
SUMMARY:Early Eucharist - Christ Church
DESCRIPTION:A simple said service including a celebration of the Eucharistic Feast.
URL:https://garthma.wales/events/eary-eucharist/2024-11-10/
LOCATION:Christ Church\, Radyr\, Heol Isaf\, Radyr\, Cardiff\, CF15 8DY\, United Kingdom
CATEGORIES:Sunday Worship
ATTACH;FMTTYPE=image/jpeg:https://garthma.wales/wp-content/uploads/2023/01/Christ-Church.jpg
END:VEVENT
BEGIN:VEVENT
DTSTART;TZID=Europe/London:20241106T093000
DTEND;TZID=Europe/London:20241106T103000
DTSTAMP:20260422T204504
CREATED:20230116T211122Z
LAST-MODIFIED:20230808T185650Z
UID:10000298-1730885400-1730889000@garthma.wales
SUMMARY:Holy Eucharist - Christ Church
DESCRIPTION:In the Lady Chapel of Christ Church\, Radyr
URL:https://garthma.wales/events/midweek-eucharist/2024-11-06/
LOCATION:Christ Church\, Radyr\, Heol Isaf\, Radyr\, Cardiff\, CF15 8DY\, United Kingdom
CATEGORIES:Mid Week Worship
ATTACH;FMTTYPE=image/jpeg:https://garthma.wales/wp-content/uploads/2023/01/Christ-Church.jpg
END:VEVENT
BEGIN:VEVENT
DTSTART;TZID=Europe/London:20241103T170000
DTEND;TZID=Europe/London:20241103T180000
DTSTAMP:20260422T204504
CREATED:20241027T180919Z
LAST-MODIFIED:20241027T180919Z
UID:10005070-1730653200-1730656800@garthma.wales
SUMMARY:All Souls Service - Christ Church
DESCRIPTION:November is a time for remembrance. For brave men and women who gave the ultimate sacrifice to keep us safe in the wars of the past\, and also for us as individuals\, to particularly remember our friends and family who have died. \nPlease join us for our All Souls service this evening.
URL:https://garthma.wales/events/all-souls-service-christ-church/
LOCATION:Christ Church\, Radyr\, Heol Isaf\, Radyr\, Cardiff\, CF15 8DY\, United Kingdom
ATTACH;FMTTYPE=image/jpeg:https://garthma.wales/wp-content/uploads/2024/10/candle-2.jpg
END:VEVENT
BEGIN:VEVENT
DTSTART;TZID=Europe/London:20241103T110000
DTEND;TZID=Europe/London:20241103T120000
DTSTAMP:20260422T204504
CREATED:20230116T211013Z
LAST-MODIFIED:20251106T205712Z
UID:10000198-1730631600-1730635200@garthma.wales
SUMMARY:Holy Eucharist with Sunday Club - Christ Church
DESCRIPTION:Holy Eucharist in the Main Church.\nSunday Club meet in the New School Rooms
URL:https://garthma.wales/events/sung-eucharist-with-sunday-club/2024-11-03/
LOCATION:Christ Church\, Radyr\, Heol Isaf\, Radyr\, Cardiff\, CF15 8DY\, United Kingdom
CATEGORIES:Sunday Worship
ATTACH;FMTTYPE=image/jpeg:https://garthma.wales/wp-content/uploads/2023/01/Christ-Church.jpg
END:VEVENT
BEGIN:VEVENT
DTSTART;TZID=Europe/London:20241103T080000
DTEND;TZID=Europe/London:20241103T090000
DTSTAMP:20260422T204504
CREATED:20230116T210821Z
LAST-MODIFIED:20240601T090643Z
UID:10000097-1730620800-1730624400@garthma.wales
SUMMARY:Early Eucharist - Christ Church
DESCRIPTION:A simple said service including a celebration of the Eucharistic Feast.
URL:https://garthma.wales/events/eary-eucharist/2024-11-03/
LOCATION:Christ Church\, Radyr\, Heol Isaf\, Radyr\, Cardiff\, CF15 8DY\, United Kingdom
CATEGORIES:Sunday Worship
ATTACH;FMTTYPE=image/jpeg:https://garthma.wales/wp-content/uploads/2023/01/Christ-Church.jpg
END:VEVENT
BEGIN:VEVENT
DTSTART;TZID=Europe/London:20241030T093000
DTEND;TZID=Europe/London:20241030T103000
DTSTAMP:20260422T204504
CREATED:20230116T211122Z
LAST-MODIFIED:20230808T185650Z
UID:10000297-1730280600-1730284200@garthma.wales
SUMMARY:Holy Eucharist - Christ Church
DESCRIPTION:In the Lady Chapel of Christ Church\, Radyr
URL:https://garthma.wales/events/midweek-eucharist/2024-10-30/
LOCATION:Christ Church\, Radyr\, Heol Isaf\, Radyr\, Cardiff\, CF15 8DY\, United Kingdom
CATEGORIES:Mid Week Worship
ATTACH;FMTTYPE=image/jpeg:https://garthma.wales/wp-content/uploads/2023/01/Christ-Church.jpg
END:VEVENT
BEGIN:VEVENT
DTSTART;TZID=Europe/London:20241027T110000
DTEND;TZID=Europe/London:20241027T120000
DTSTAMP:20260422T204504
CREATED:20230116T211013Z
LAST-MODIFIED:20251106T205712Z
UID:10000197-1730026800-1730030400@garthma.wales
SUMMARY:Holy Eucharist with Sunday Club - Christ Church
DESCRIPTION:Holy Eucharist in the Main Church.\nSunday Club meet in the New School Rooms
URL:https://garthma.wales/events/sung-eucharist-with-sunday-club/2024-10-27/
LOCATION:Christ Church\, Radyr\, Heol Isaf\, Radyr\, Cardiff\, CF15 8DY\, United Kingdom
CATEGORIES:Sunday Worship
ATTACH;FMTTYPE=image/jpeg:https://garthma.wales/wp-content/uploads/2023/01/Christ-Church.jpg
END:VEVENT
BEGIN:VEVENT
DTSTART;TZID=Europe/London:20241027T080000
DTEND;TZID=Europe/London:20241027T090000
DTSTAMP:20260422T204504
CREATED:20230116T210821Z
LAST-MODIFIED:20240601T090643Z
UID:10000096-1730016000-1730019600@garthma.wales
SUMMARY:Early Eucharist - Christ Church
DESCRIPTION:A simple said service including a celebration of the Eucharistic Feast.
URL:https://garthma.wales/events/eary-eucharist/2024-10-27/
LOCATION:Christ Church\, Radyr\, Heol Isaf\, Radyr\, Cardiff\, CF15 8DY\, United Kingdom
CATEGORIES:Sunday Worship
ATTACH;FMTTYPE=image/jpeg:https://garthma.wales/wp-content/uploads/2023/01/Christ-Church.jpg
END:VEVENT
BEGIN:VEVENT
DTSTART;TZID=Europe/London:20241023T093000
DTEND;TZID=Europe/London:20241023T103000
DTSTAMP:20260422T204504
CREATED:20230116T211122Z
LAST-MODIFIED:20230808T185650Z
UID:10000296-1729675800-1729679400@garthma.wales
SUMMARY:Holy Eucharist - Christ Church
DESCRIPTION:In the Lady Chapel of Christ Church\, Radyr
URL:https://garthma.wales/events/midweek-eucharist/2024-10-23/
LOCATION:Christ Church\, Radyr\, Heol Isaf\, Radyr\, Cardiff\, CF15 8DY\, United Kingdom
CATEGORIES:Mid Week Worship
ATTACH;FMTTYPE=image/jpeg:https://garthma.wales/wp-content/uploads/2023/01/Christ-Church.jpg
END:VEVENT
BEGIN:VEVENT
DTSTART;TZID=Europe/London:20241020T110000
DTEND;TZID=Europe/London:20241020T120000
DTSTAMP:20260422T204504
CREATED:20230116T211013Z
LAST-MODIFIED:20251106T205712Z
UID:10000196-1729422000-1729425600@garthma.wales
SUMMARY:Holy Eucharist with Sunday Club - Christ Church
DESCRIPTION:Holy Eucharist in the Main Church.\nSunday Club meet in the New School Rooms
URL:https://garthma.wales/events/sung-eucharist-with-sunday-club/2024-10-20/
LOCATION:Christ Church\, Radyr\, Heol Isaf\, Radyr\, Cardiff\, CF15 8DY\, United Kingdom
CATEGORIES:Sunday Worship
ATTACH;FMTTYPE=image/jpeg:https://garthma.wales/wp-content/uploads/2023/01/Christ-Church.jpg
END:VEVENT
BEGIN:VEVENT
DTSTART;TZID=Europe/London:20241020T080000
DTEND;TZID=Europe/London:20241020T090000
DTSTAMP:20260422T204504
CREATED:20230116T210821Z
LAST-MODIFIED:20240601T090643Z
UID:10000095-1729411200-1729414800@garthma.wales
SUMMARY:Early Eucharist - Christ Church
DESCRIPTION:A simple said service including a celebration of the Eucharistic Feast.
URL:https://garthma.wales/events/eary-eucharist/2024-10-20/
LOCATION:Christ Church\, Radyr\, Heol Isaf\, Radyr\, Cardiff\, CF15 8DY\, United Kingdom
CATEGORIES:Sunday Worship
ATTACH;FMTTYPE=image/jpeg:https://garthma.wales/wp-content/uploads/2023/01/Christ-Church.jpg
END:VEVENT
BEGIN:VEVENT
DTSTART;TZID=Europe/London:20241016T093000
DTEND;TZID=Europe/London:20241016T103000
DTSTAMP:20260422T204504
CREATED:20230116T211122Z
LAST-MODIFIED:20230808T185650Z
UID:10000295-1729071000-1729074600@garthma.wales
SUMMARY:Holy Eucharist - Christ Church
DESCRIPTION:In the Lady Chapel of Christ Church\, Radyr
URL:https://garthma.wales/events/midweek-eucharist/2024-10-16/
LOCATION:Christ Church\, Radyr\, Heol Isaf\, Radyr\, Cardiff\, CF15 8DY\, United Kingdom
CATEGORIES:Mid Week Worship
ATTACH;FMTTYPE=image/jpeg:https://garthma.wales/wp-content/uploads/2023/01/Christ-Church.jpg
END:VEVENT
BEGIN:VEVENT
DTSTART;TZID=Europe/London:20241013T110000
DTEND;TZID=Europe/London:20241013T120000
DTSTAMP:20260422T204504
CREATED:20230116T211013Z
LAST-MODIFIED:20251106T205712Z
UID:10000195-1728817200-1728820800@garthma.wales
SUMMARY:Holy Eucharist with Sunday Club - Christ Church
DESCRIPTION:Holy Eucharist in the Main Church.\nSunday Club meet in the New School Rooms
URL:https://garthma.wales/events/sung-eucharist-with-sunday-club/2024-10-13/
LOCATION:Christ Church\, Radyr\, Heol Isaf\, Radyr\, Cardiff\, CF15 8DY\, United Kingdom
CATEGORIES:Sunday Worship
ATTACH;FMTTYPE=image/jpeg:https://garthma.wales/wp-content/uploads/2023/01/Christ-Church.jpg
END:VEVENT
BEGIN:VEVENT
DTSTART;TZID=Europe/London:20241013T080000
DTEND;TZID=Europe/London:20241013T090000
DTSTAMP:20260422T204504
CREATED:20230116T210821Z
LAST-MODIFIED:20240601T090643Z
UID:10000094-1728806400-1728810000@garthma.wales
SUMMARY:Early Eucharist - Christ Church
DESCRIPTION:A simple said service including a celebration of the Eucharistic Feast.
URL:https://garthma.wales/events/eary-eucharist/2024-10-13/
LOCATION:Christ Church\, Radyr\, Heol Isaf\, Radyr\, Cardiff\, CF15 8DY\, United Kingdom
CATEGORIES:Sunday Worship
ATTACH;FMTTYPE=image/jpeg:https://garthma.wales/wp-content/uploads/2023/01/Christ-Church.jpg
END:VEVENT
BEGIN:VEVENT
DTSTART;TZID=Europe/London:20241009T093000
DTEND;TZID=Europe/London:20241009T103000
DTSTAMP:20260422T204504
CREATED:20230116T211122Z
LAST-MODIFIED:20230808T185650Z
UID:10000294-1728466200-1728469800@garthma.wales
SUMMARY:Holy Eucharist - Christ Church
DESCRIPTION:In the Lady Chapel of Christ Church\, Radyr
URL:https://garthma.wales/events/midweek-eucharist/2024-10-09/
LOCATION:Christ Church\, Radyr\, Heol Isaf\, Radyr\, Cardiff\, CF15 8DY\, United Kingdom
CATEGORIES:Mid Week Worship
ATTACH;FMTTYPE=image/jpeg:https://garthma.wales/wp-content/uploads/2023/01/Christ-Church.jpg
END:VEVENT
BEGIN:VEVENT
DTSTART;TZID=Europe/London:20241008T193000
DTEND;TZID=Europe/London:20241008T213000
DTSTAMP:20260422T204504
CREATED:20240920T104701Z
LAST-MODIFIED:20240920T104701Z
UID:10005068-1728415800-1728423000@garthma.wales
SUMMARY:Circles and the Cross
DESCRIPTION:You are warmly invited to an evening with Loren Wilkinson\, a poet\, theologian and environmental activist\, whose new book Circles and the Cross\, explores the relationship between Christian faith and the human place in creation. Loren is Professor Emeritus of Interdisciplinary Studies and Philosophy at Regent College in Vancouver\, Canada and he lives and farms on a small island off the coast of British Columbia. As well as sharing his lifelong passion for environmental issues\, Loren will also show a film\, Making Peace with Creation\, which is based on the ideas in his book. \nWhere: Christchurch\, Radyr\, Cardiff CF15 8AL        When: 7.30 – 9.30 pm\, Tuesday 8th Oct. 2024      Contact: Iwan Russell-Jones\, 07905 400688
URL:https://garthma.wales/events/circles-and-the-cross/
LOCATION:Christ Church\, Radyr\, Heol Isaf\, Radyr\, Cardiff\, CF15 8DY\, United Kingdom
ATTACH;FMTTYPE=image/png:https://garthma.wales/wp-content/uploads/2024/09/Circles-and-the-Cross.png
END:VEVENT
BEGIN:VEVENT
DTSTART;TZID=Europe/London:20241006T110000
DTEND;TZID=Europe/London:20241006T120000
DTSTAMP:20260422T204504
CREATED:20230116T211013Z
LAST-MODIFIED:20251106T205712Z
UID:10000194-1728212400-1728216000@garthma.wales
SUMMARY:Holy Eucharist with Sunday Club - Christ Church
DESCRIPTION:Holy Eucharist in the Main Church.\nSunday Club meet in the New School Rooms
URL:https://garthma.wales/events/sung-eucharist-with-sunday-club/2024-10-06/
LOCATION:Christ Church\, Radyr\, Heol Isaf\, Radyr\, Cardiff\, CF15 8DY\, United Kingdom
CATEGORIES:Sunday Worship
ATTACH;FMTTYPE=image/jpeg:https://garthma.wales/wp-content/uploads/2023/01/Christ-Church.jpg
END:VEVENT
BEGIN:VEVENT
DTSTART;TZID=Europe/London:20241006T080000
DTEND;TZID=Europe/London:20241006T090000
DTSTAMP:20260422T204504
CREATED:20230116T210821Z
LAST-MODIFIED:20240601T090643Z
UID:10000093-1728201600-1728205200@garthma.wales
SUMMARY:Early Eucharist - Christ Church
DESCRIPTION:A simple said service including a celebration of the Eucharistic Feast.
URL:https://garthma.wales/events/eary-eucharist/2024-10-06/
LOCATION:Christ Church\, Radyr\, Heol Isaf\, Radyr\, Cardiff\, CF15 8DY\, United Kingdom
CATEGORIES:Sunday Worship
ATTACH;FMTTYPE=image/jpeg:https://garthma.wales/wp-content/uploads/2023/01/Christ-Church.jpg
END:VEVENT
BEGIN:VEVENT
DTSTART;TZID=Europe/London:20241002T093000
DTEND;TZID=Europe/London:20241002T103000
DTSTAMP:20260422T204504
CREATED:20230116T211122Z
LAST-MODIFIED:20230808T185650Z
UID:10000293-1727861400-1727865000@garthma.wales
SUMMARY:Holy Eucharist - Christ Church
DESCRIPTION:In the Lady Chapel of Christ Church\, Radyr
URL:https://garthma.wales/events/midweek-eucharist/2024-10-02/
LOCATION:Christ Church\, Radyr\, Heol Isaf\, Radyr\, Cardiff\, CF15 8DY\, United Kingdom
CATEGORIES:Mid Week Worship
ATTACH;FMTTYPE=image/jpeg:https://garthma.wales/wp-content/uploads/2023/01/Christ-Church.jpg
END:VEVENT
BEGIN:VEVENT
DTSTART;TZID=Europe/London:20240929T110000
DTEND;TZID=Europe/London:20240929T120000
DTSTAMP:20260422T204504
CREATED:20230116T211013Z
LAST-MODIFIED:20251106T205712Z
UID:10000193-1727607600-1727611200@garthma.wales
SUMMARY:Holy Eucharist with Sunday Club - Christ Church
DESCRIPTION:Holy Eucharist in the Main Church.\nSunday Club meet in the New School Rooms
URL:https://garthma.wales/events/sung-eucharist-with-sunday-club/2024-09-29/
LOCATION:Christ Church\, Radyr\, Heol Isaf\, Radyr\, Cardiff\, CF15 8DY\, United Kingdom
CATEGORIES:Sunday Worship
ATTACH;FMTTYPE=image/jpeg:https://garthma.wales/wp-content/uploads/2023/01/Christ-Church.jpg
END:VEVENT
BEGIN:VEVENT
DTSTART;TZID=Europe/London:20240929T080000
DTEND;TZID=Europe/London:20240929T090000
DTSTAMP:20260422T204504
CREATED:20230116T210821Z
LAST-MODIFIED:20240601T090643Z
UID:10000092-1727596800-1727600400@garthma.wales
SUMMARY:Early Eucharist - Christ Church
DESCRIPTION:A simple said service including a celebration of the Eucharistic Feast.
URL:https://garthma.wales/events/eary-eucharist/2024-09-29/
LOCATION:Christ Church\, Radyr\, Heol Isaf\, Radyr\, Cardiff\, CF15 8DY\, United Kingdom
CATEGORIES:Sunday Worship
ATTACH;FMTTYPE=image/jpeg:https://garthma.wales/wp-content/uploads/2023/01/Christ-Church.jpg
END:VEVENT
BEGIN:VEVENT
DTSTART;TZID=Europe/London:20240925T093000
DTEND;TZID=Europe/London:20240925T103000
DTSTAMP:20260422T204504
CREATED:20230116T211122Z
LAST-MODIFIED:20230808T185650Z
UID:10000292-1727256600-1727260200@garthma.wales
SUMMARY:Holy Eucharist - Christ Church
DESCRIPTION:In the Lady Chapel of Christ Church\, Radyr
URL:https://garthma.wales/events/midweek-eucharist/2024-09-25/
LOCATION:Christ Church\, Radyr\, Heol Isaf\, Radyr\, Cardiff\, CF15 8DY\, United Kingdom
CATEGORIES:Mid Week Worship
ATTACH;FMTTYPE=image/jpeg:https://garthma.wales/wp-content/uploads/2023/01/Christ-Church.jpg
END:VEVENT
BEGIN:VEVENT
DTSTART;TZID=Europe/London:20240922T110000
DTEND;TZID=Europe/London:20240922T120000
DTSTAMP:20260422T204504
CREATED:20230116T211013Z
LAST-MODIFIED:20251106T205712Z
UID:10000192-1727002800-1727006400@garthma.wales
SUMMARY:Holy Eucharist with Sunday Club - Christ Church
DESCRIPTION:Holy Eucharist in the Main Church.\nSunday Club meet in the New School Rooms
URL:https://garthma.wales/events/sung-eucharist-with-sunday-club/2024-09-22/
LOCATION:Christ Church\, Radyr\, Heol Isaf\, Radyr\, Cardiff\, CF15 8DY\, United Kingdom
CATEGORIES:Sunday Worship
ATTACH;FMTTYPE=image/jpeg:https://garthma.wales/wp-content/uploads/2023/01/Christ-Church.jpg
END:VEVENT
BEGIN:VEVENT
DTSTART;TZID=Europe/London:20240922T080000
DTEND;TZID=Europe/London:20240922T090000
DTSTAMP:20260422T204504
CREATED:20230116T210821Z
LAST-MODIFIED:20240601T090643Z
UID:10000091-1726992000-1726995600@garthma.wales
SUMMARY:Early Eucharist - Christ Church
DESCRIPTION:A simple said service including a celebration of the Eucharistic Feast.
URL:https://garthma.wales/events/eary-eucharist/2024-09-22/
LOCATION:Christ Church\, Radyr\, Heol Isaf\, Radyr\, Cardiff\, CF15 8DY\, United Kingdom
CATEGORIES:Sunday Worship
ATTACH;FMTTYPE=image/jpeg:https://garthma.wales/wp-content/uploads/2023/01/Christ-Church.jpg
END:VEVENT
BEGIN:VEVENT
DTSTART;TZID=Europe/London:20240918T093000
DTEND;TZID=Europe/London:20240918T103000
DTSTAMP:20260422T204504
CREATED:20230116T211122Z
LAST-MODIFIED:20230808T185650Z
UID:10000291-1726651800-1726655400@garthma.wales
SUMMARY:Holy Eucharist - Christ Church
DESCRIPTION:In the Lady Chapel of Christ Church\, Radyr
URL:https://garthma.wales/events/midweek-eucharist/2024-09-18/
LOCATION:Christ Church\, Radyr\, Heol Isaf\, Radyr\, Cardiff\, CF15 8DY\, United Kingdom
CATEGORIES:Mid Week Worship
ATTACH;FMTTYPE=image/jpeg:https://garthma.wales/wp-content/uploads/2023/01/Christ-Church.jpg
END:VEVENT
BEGIN:VEVENT
DTSTART;TZID=Europe/London:20240915T110000
DTEND;TZID=Europe/London:20240915T120000
DTSTAMP:20260422T204504
CREATED:20230116T211013Z
LAST-MODIFIED:20251106T205712Z
UID:10000191-1726398000-1726401600@garthma.wales
SUMMARY:Holy Eucharist with Sunday Club - Christ Church
DESCRIPTION:Holy Eucharist in the Main Church.\nSunday Club meet in the New School Rooms
URL:https://garthma.wales/events/sung-eucharist-with-sunday-club/2024-09-15/
LOCATION:Christ Church\, Radyr\, Heol Isaf\, Radyr\, Cardiff\, CF15 8DY\, United Kingdom
CATEGORIES:Sunday Worship
ATTACH;FMTTYPE=image/jpeg:https://garthma.wales/wp-content/uploads/2023/01/Christ-Church.jpg
END:VEVENT
BEGIN:VEVENT
DTSTART;TZID=Europe/London:20240915T080000
DTEND;TZID=Europe/London:20240915T090000
DTSTAMP:20260422T204505
CREATED:20230116T210821Z
LAST-MODIFIED:20240601T090643Z
UID:10000090-1726387200-1726390800@garthma.wales
SUMMARY:Early Eucharist - Christ Church
DESCRIPTION:A simple said service including a celebration of the Eucharistic Feast.
URL:https://garthma.wales/events/eary-eucharist/2024-09-15/
LOCATION:Christ Church\, Radyr\, Heol Isaf\, Radyr\, Cardiff\, CF15 8DY\, United Kingdom
CATEGORIES:Sunday Worship
ATTACH;FMTTYPE=image/jpeg:https://garthma.wales/wp-content/uploads/2023/01/Christ-Church.jpg
END:VEVENT
BEGIN:VEVENT
DTSTART;TZID=Europe/London:20240912T190000
DTEND;TZID=Europe/London:20240912T200000
DTSTAMP:20260422T204505
CREATED:20240902T142958Z
LAST-MODIFIED:20240902T143304Z
UID:10005067-1726167600-1726171200@garthma.wales
SUMMARY:Licencing Service (at Christ Church\, Radyr)
DESCRIPTION:Rev’d Mary Evans and Rev’d Edward Owen will begin their ministry among us on 12 September when they will be licensed along with the whole Ministry Team in a service at 7pm in Christ Church\, Radyr (the service will be streamed on our usual YouTube channel). Light refreshments will be served after the service in the New Schoolrooms. Please do come along to the service which we hope will gather people from across the Ministry Area as we worship together and pray for the future of all who live and work in our communities.
URL:https://garthma.wales/events/licencing-service/
LOCATION:Christ Church\, Radyr\, Heol Isaf\, Radyr\, Cardiff\, CF15 8DY\, United Kingdom
ATTACH;FMTTYPE=image/png:https://garthma.wales/wp-content/uploads/2024/09/garth-basic.png
END:VEVENT
BEGIN:VEVENT
DTSTART;TZID=Europe/London:20240911T093000
DTEND;TZID=Europe/London:20240911T103000
DTSTAMP:20260422T204505
CREATED:20230116T211122Z
LAST-MODIFIED:20230808T185650Z
UID:10000290-1726047000-1726050600@garthma.wales
SUMMARY:Holy Eucharist - Christ Church
DESCRIPTION:In the Lady Chapel of Christ Church\, Radyr
URL:https://garthma.wales/events/midweek-eucharist/2024-09-11/
LOCATION:Christ Church\, Radyr\, Heol Isaf\, Radyr\, Cardiff\, CF15 8DY\, United Kingdom
CATEGORIES:Mid Week Worship
ATTACH;FMTTYPE=image/jpeg:https://garthma.wales/wp-content/uploads/2023/01/Christ-Church.jpg
END:VEVENT
END:VCALENDAR