BEGIN:VCALENDAR
VERSION:2.0
PRODID:-//The Garth Ministry Area - ECPv6.15.20//NONSGML v1.0//EN
CALSCALE:GREGORIAN
METHOD:PUBLISH
X-ORIGINAL-URL:https://garthma.wales
X-WR-CALDESC:Events for The Garth Ministry Area
REFRESH-INTERVAL;VALUE=DURATION:PT1H
X-Robots-Tag:noindex
X-PUBLISHED-TTL:PT1H
BEGIN:VTIMEZONE
TZID:Europe/London
BEGIN:DAYLIGHT
TZOFFSETFROM:+0000
TZOFFSETTO:+0100
TZNAME:BST
DTSTART:20240331T010000
END:DAYLIGHT
BEGIN:STANDARD
TZOFFSETFROM:+0100
TZOFFSETTO:+0000
TZNAME:GMT
DTSTART:20241027T010000
END:STANDARD
BEGIN:DAYLIGHT
TZOFFSETFROM:+0000
TZOFFSETTO:+0100
TZNAME:BST
DTSTART:20250330T010000
END:DAYLIGHT
BEGIN:STANDARD
TZOFFSETFROM:+0100
TZOFFSETTO:+0000
TZNAME:GMT
DTSTART:20251026T010000
END:STANDARD
BEGIN:DAYLIGHT
TZOFFSETFROM:+0000
TZOFFSETTO:+0100
TZNAME:BST
DTSTART:20260329T010000
END:DAYLIGHT
BEGIN:STANDARD
TZOFFSETFROM:+0100
TZOFFSETTO:+0000
TZNAME:GMT
DTSTART:20261025T010000
END:STANDARD
END:VTIMEZONE
BEGIN:VEVENT
DTSTART;TZID=Europe/London:20250713T110000
DTEND;TZID=Europe/London:20250713T120000
DTSTAMP:20260420T151626
CREATED:20230116T211013Z
LAST-MODIFIED:20251106T205712Z
UID:10005624-1752404400-1752408000@garthma.wales
SUMMARY:Holy Eucharist with Sunday Club - Christ Church
DESCRIPTION:Holy Eucharist in the Main Church.\nSunday Club meet in the New School Rooms
URL:https://garthma.wales/events/sung-eucharist-with-sunday-club/2025-07-13/
LOCATION:Christ Church\, Radyr\, Heol Isaf\, Radyr\, Cardiff\, CF15 8DY\, United Kingdom
CATEGORIES:Sunday Worship
ATTACH;FMTTYPE=image/jpeg:https://garthma.wales/wp-content/uploads/2023/01/Christ-Church.jpg
END:VEVENT
BEGIN:VEVENT
DTSTART;TZID=Europe/London:20250713T080000
DTEND;TZID=Europe/London:20250713T090000
DTSTAMP:20260420T151626
CREATED:20241119T201457Z
LAST-MODIFIED:20251106T205311Z
UID:10005126-1752393600-1752397200@garthma.wales
SUMMARY:Early Eucharist - Christ Church
DESCRIPTION:A simple said service including a celebration of the Eucharistic Feast.
URL:https://garthma.wales/events/eary-eucharist-2/2025-07-13/
LOCATION:Christ Church\, Radyr\, Heol Isaf\, Radyr\, Cardiff\, CF15 8DY\, United Kingdom
CATEGORIES:Sunday Worship
ATTACH;FMTTYPE=image/jpeg:https://garthma.wales/wp-content/uploads/2023/01/Christ-Church.jpg
END:VEVENT
BEGIN:VEVENT
DTSTART;TZID=Europe/London:20250709T100000
DTEND;TZID=Europe/London:20250709T110000
DTSTAMP:20260420T151626
CREATED:20250325T113535Z
LAST-MODIFIED:20251108T124032Z
UID:10007745-1752055200-1752058800@garthma.wales
SUMMARY:Holy Eucharist - Christ Church
DESCRIPTION:Join us for a Holy Eucharist service in Christ Church\, Radyr.
URL:https://garthma.wales/events/midweek-eucharist-6/2025-07-09/
LOCATION:Christ Church\, Radyr\, Heol Isaf\, Radyr\, Cardiff\, CF15 8DY\, United Kingdom
CATEGORIES:Mid Week Worship
ATTACH;FMTTYPE=image/jpeg:https://garthma.wales/wp-content/uploads/2023/01/Christ-Church.jpg
END:VEVENT
BEGIN:VEVENT
DTSTART;TZID=Europe/London:20250707T193000
DTEND;TZID=Europe/London:20250707T213000
DTSTAMP:20260420T151626
CREATED:20250612T085323Z
LAST-MODIFIED:20250612T085323Z
UID:10010962-1751916600-1751923800@garthma.wales
SUMMARY:Study sessions: The Drama of the Trinity
DESCRIPTION:Belief in the Holy Trinity is one of the unique and mysterious features of our Christian faith. It can strike us as just a baffling puzzle or an unsolvable mathematical problem. But it’s really much more like a drama – the story of who God is\, and of a love\, shared between Father\, Son and Holy Spirit\, that reaches out to embrace the whole of creation. \nIn these three sessions we’re going to explore the mystery of the Trinity as we study some key Bible passages together\, dip into a few important early church documents\, and look at some wonderful icons\, paintings and videos that have helped Christians reflect on the meaning and the drama of the Triune God. \nJoin us as we ponder what the Trinity means for us and the wider world today.
URL:https://garthma.wales/events/study-sessions-the-drama-of-the-trinity/2025-07-07/
LOCATION:Christ Church\, Radyr\, Heol Isaf\, Radyr\, Cardiff\, CF15 8DY\, United Kingdom
ATTACH;FMTTYPE=image/jpeg:https://garthma.wales/wp-content/uploads/2025/06/Angelsatmamre-trinity-rublev-1410.jpg
END:VEVENT
BEGIN:VEVENT
DTSTART;TZID=Europe/London:20250706T110000
DTEND;TZID=Europe/London:20250706T120000
DTSTAMP:20260420T151626
CREATED:20230116T211013Z
LAST-MODIFIED:20251106T205712Z
UID:10005623-1751799600-1751803200@garthma.wales
SUMMARY:Holy Eucharist with Sunday Club - Christ Church
DESCRIPTION:Holy Eucharist in the Main Church.\nSunday Club meet in the New School Rooms
URL:https://garthma.wales/events/sung-eucharist-with-sunday-club/2025-07-06/
LOCATION:Christ Church\, Radyr\, Heol Isaf\, Radyr\, Cardiff\, CF15 8DY\, United Kingdom
CATEGORIES:Sunday Worship
ATTACH;FMTTYPE=image/jpeg:https://garthma.wales/wp-content/uploads/2023/01/Christ-Church.jpg
END:VEVENT
BEGIN:VEVENT
DTSTART;TZID=Europe/London:20250706T080000
DTEND;TZID=Europe/London:20250706T090000
DTSTAMP:20260420T151626
CREATED:20241119T201457Z
LAST-MODIFIED:20251106T205311Z
UID:10005125-1751788800-1751792400@garthma.wales
SUMMARY:Early Eucharist - Christ Church
DESCRIPTION:A simple said service including a celebration of the Eucharistic Feast.
URL:https://garthma.wales/events/eary-eucharist-2/2025-07-06/
LOCATION:Christ Church\, Radyr\, Heol Isaf\, Radyr\, Cardiff\, CF15 8DY\, United Kingdom
CATEGORIES:Sunday Worship
ATTACH;FMTTYPE=image/jpeg:https://garthma.wales/wp-content/uploads/2023/01/Christ-Church.jpg
END:VEVENT
BEGIN:VEVENT
DTSTART;TZID=Europe/London:20250705T110000
DTEND;TZID=Europe/London:20250705T140000
DTSTAMP:20260420T151626
CREATED:20250605T142253Z
LAST-MODIFIED:20250605T142253Z
UID:10010959-1751713200-1751724000@garthma.wales
SUMMARY:Family Fun Day - Christ Church\, Radyr
DESCRIPTION:Why not come along to our Family Fun Day…lots of exciting things to see and so!
URL:https://garthma.wales/events/family-fun-day-christ-church-radyr/
LOCATION:Christ Church\, Radyr\, Heol Isaf\, Radyr\, Cardiff\, CF15 8DY\, United Kingdom
ATTACH;FMTTYPE=image/jpeg:https://garthma.wales/wp-content/uploads/2025/06/Family-Fun-Day-Radyr-2025.jpg
END:VEVENT
BEGIN:VEVENT
DTSTART;TZID=Europe/London:20250702T100000
DTEND;TZID=Europe/London:20250702T110000
DTSTAMP:20260420T151626
CREATED:20250325T113535Z
LAST-MODIFIED:20251108T124032Z
UID:10007744-1751450400-1751454000@garthma.wales
SUMMARY:Holy Eucharist - Christ Church
DESCRIPTION:Join us for a Holy Eucharist service in Christ Church\, Radyr.
URL:https://garthma.wales/events/midweek-eucharist-6/2025-07-02/
LOCATION:Christ Church\, Radyr\, Heol Isaf\, Radyr\, Cardiff\, CF15 8DY\, United Kingdom
CATEGORIES:Mid Week Worship
ATTACH;FMTTYPE=image/jpeg:https://garthma.wales/wp-content/uploads/2023/01/Christ-Church.jpg
END:VEVENT
BEGIN:VEVENT
DTSTART;TZID=Europe/London:20250630T193000
DTEND;TZID=Europe/London:20250630T213000
DTSTAMP:20260420T151626
CREATED:20250612T085323Z
LAST-MODIFIED:20250612T085323Z
UID:10010961-1751311800-1751319000@garthma.wales
SUMMARY:Study sessions: The Drama of the Trinity
DESCRIPTION:Belief in the Holy Trinity is one of the unique and mysterious features of our Christian faith. It can strike us as just a baffling puzzle or an unsolvable mathematical problem. But it’s really much more like a drama – the story of who God is\, and of a love\, shared between Father\, Son and Holy Spirit\, that reaches out to embrace the whole of creation. \nIn these three sessions we’re going to explore the mystery of the Trinity as we study some key Bible passages together\, dip into a few important early church documents\, and look at some wonderful icons\, paintings and videos that have helped Christians reflect on the meaning and the drama of the Triune God. \nJoin us as we ponder what the Trinity means for us and the wider world today.
URL:https://garthma.wales/events/study-sessions-the-drama-of-the-trinity/2025-06-30/
LOCATION:Christ Church\, Radyr\, Heol Isaf\, Radyr\, Cardiff\, CF15 8DY\, United Kingdom
ATTACH;FMTTYPE=image/jpeg:https://garthma.wales/wp-content/uploads/2025/06/Angelsatmamre-trinity-rublev-1410.jpg
END:VEVENT
BEGIN:VEVENT
DTSTART;TZID=Europe/London:20250629T110000
DTEND;TZID=Europe/London:20250629T120000
DTSTAMP:20260420T151626
CREATED:20230116T211013Z
LAST-MODIFIED:20251106T205712Z
UID:10005622-1751194800-1751198400@garthma.wales
SUMMARY:Holy Eucharist with Sunday Club - Christ Church
DESCRIPTION:Holy Eucharist in the Main Church.\nSunday Club meet in the New School Rooms
URL:https://garthma.wales/events/sung-eucharist-with-sunday-club/2025-06-29/
LOCATION:Christ Church\, Radyr\, Heol Isaf\, Radyr\, Cardiff\, CF15 8DY\, United Kingdom
CATEGORIES:Sunday Worship
ATTACH;FMTTYPE=image/jpeg:https://garthma.wales/wp-content/uploads/2023/01/Christ-Church.jpg
END:VEVENT
BEGIN:VEVENT
DTSTART;TZID=Europe/London:20250629T080000
DTEND;TZID=Europe/London:20250629T090000
DTSTAMP:20260420T151626
CREATED:20241119T201457Z
LAST-MODIFIED:20251106T205311Z
UID:10005124-1751184000-1751187600@garthma.wales
SUMMARY:Early Eucharist - Christ Church
DESCRIPTION:A simple said service including a celebration of the Eucharistic Feast.
URL:https://garthma.wales/events/eary-eucharist-2/2025-06-29/
LOCATION:Christ Church\, Radyr\, Heol Isaf\, Radyr\, Cardiff\, CF15 8DY\, United Kingdom
CATEGORIES:Sunday Worship
ATTACH;FMTTYPE=image/jpeg:https://garthma.wales/wp-content/uploads/2023/01/Christ-Church.jpg
END:VEVENT
BEGIN:VEVENT
DTSTART;TZID=Europe/London:20250625T100000
DTEND;TZID=Europe/London:20250625T110000
DTSTAMP:20260420T151626
CREATED:20250325T113535Z
LAST-MODIFIED:20251108T124032Z
UID:10007743-1750845600-1750849200@garthma.wales
SUMMARY:Holy Eucharist - Christ Church
DESCRIPTION:Join us for a Holy Eucharist service in Christ Church\, Radyr.
URL:https://garthma.wales/events/midweek-eucharist-6/2025-06-25/
LOCATION:Christ Church\, Radyr\, Heol Isaf\, Radyr\, Cardiff\, CF15 8DY\, United Kingdom
CATEGORIES:Mid Week Worship
ATTACH;FMTTYPE=image/jpeg:https://garthma.wales/wp-content/uploads/2023/01/Christ-Church.jpg
END:VEVENT
BEGIN:VEVENT
DTSTART;TZID=Europe/London:20250623T193000
DTEND;TZID=Europe/London:20250623T213000
DTSTAMP:20260420T151626
CREATED:20250612T085323Z
LAST-MODIFIED:20250612T085323Z
UID:10010960-1750707000-1750714200@garthma.wales
SUMMARY:Study sessions: The Drama of the Trinity
DESCRIPTION:Belief in the Holy Trinity is one of the unique and mysterious features of our Christian faith. It can strike us as just a baffling puzzle or an unsolvable mathematical problem. But it’s really much more like a drama – the story of who God is\, and of a love\, shared between Father\, Son and Holy Spirit\, that reaches out to embrace the whole of creation. \nIn these three sessions we’re going to explore the mystery of the Trinity as we study some key Bible passages together\, dip into a few important early church documents\, and look at some wonderful icons\, paintings and videos that have helped Christians reflect on the meaning and the drama of the Triune God. \nJoin us as we ponder what the Trinity means for us and the wider world today.
URL:https://garthma.wales/events/study-sessions-the-drama-of-the-trinity/2025-06-23/
LOCATION:Christ Church\, Radyr\, Heol Isaf\, Radyr\, Cardiff\, CF15 8DY\, United Kingdom
ATTACH;FMTTYPE=image/jpeg:https://garthma.wales/wp-content/uploads/2025/06/Angelsatmamre-trinity-rublev-1410.jpg
END:VEVENT
BEGIN:VEVENT
DTSTART;TZID=Europe/London:20250622T110000
DTEND;TZID=Europe/London:20250622T120000
DTSTAMP:20260420T151626
CREATED:20230116T211013Z
LAST-MODIFIED:20251106T205712Z
UID:10005621-1750590000-1750593600@garthma.wales
SUMMARY:Holy Eucharist with Sunday Club - Christ Church
DESCRIPTION:Holy Eucharist in the Main Church.\nSunday Club meet in the New School Rooms
URL:https://garthma.wales/events/sung-eucharist-with-sunday-club/2025-06-22/
LOCATION:Christ Church\, Radyr\, Heol Isaf\, Radyr\, Cardiff\, CF15 8DY\, United Kingdom
CATEGORIES:Sunday Worship
ATTACH;FMTTYPE=image/jpeg:https://garthma.wales/wp-content/uploads/2023/01/Christ-Church.jpg
END:VEVENT
BEGIN:VEVENT
DTSTART;TZID=Europe/London:20250622T080000
DTEND;TZID=Europe/London:20250622T090000
DTSTAMP:20260420T151626
CREATED:20241119T201457Z
LAST-MODIFIED:20251106T205311Z
UID:10005123-1750579200-1750582800@garthma.wales
SUMMARY:Early Eucharist - Christ Church
DESCRIPTION:A simple said service including a celebration of the Eucharistic Feast.
URL:https://garthma.wales/events/eary-eucharist-2/2025-06-22/
LOCATION:Christ Church\, Radyr\, Heol Isaf\, Radyr\, Cardiff\, CF15 8DY\, United Kingdom
CATEGORIES:Sunday Worship
ATTACH;FMTTYPE=image/jpeg:https://garthma.wales/wp-content/uploads/2023/01/Christ-Church.jpg
END:VEVENT
BEGIN:VEVENT
DTSTART;TZID=Europe/London:20250618T100000
DTEND;TZID=Europe/London:20250618T110000
DTSTAMP:20260420T151626
CREATED:20250325T113535Z
LAST-MODIFIED:20251108T124032Z
UID:10007742-1750240800-1750244400@garthma.wales
SUMMARY:Holy Eucharist - Christ Church
DESCRIPTION:Join us for a Holy Eucharist service in Christ Church\, Radyr.
URL:https://garthma.wales/events/midweek-eucharist-6/2025-06-18/
LOCATION:Christ Church\, Radyr\, Heol Isaf\, Radyr\, Cardiff\, CF15 8DY\, United Kingdom
CATEGORIES:Mid Week Worship
ATTACH;FMTTYPE=image/jpeg:https://garthma.wales/wp-content/uploads/2023/01/Christ-Church.jpg
END:VEVENT
BEGIN:VEVENT
DTSTART;TZID=Europe/London:20250615T110000
DTEND;TZID=Europe/London:20250615T120000
DTSTAMP:20260420T151626
CREATED:20230116T211013Z
LAST-MODIFIED:20251106T205712Z
UID:10005620-1749985200-1749988800@garthma.wales
SUMMARY:Holy Eucharist with Sunday Club - Christ Church
DESCRIPTION:Holy Eucharist in the Main Church.\nSunday Club meet in the New School Rooms
URL:https://garthma.wales/events/sung-eucharist-with-sunday-club/2025-06-15/
LOCATION:Christ Church\, Radyr\, Heol Isaf\, Radyr\, Cardiff\, CF15 8DY\, United Kingdom
CATEGORIES:Sunday Worship
ATTACH;FMTTYPE=image/jpeg:https://garthma.wales/wp-content/uploads/2023/01/Christ-Church.jpg
END:VEVENT
BEGIN:VEVENT
DTSTART;TZID=Europe/London:20250615T080000
DTEND;TZID=Europe/London:20250615T090000
DTSTAMP:20260420T151626
CREATED:20241119T201457Z
LAST-MODIFIED:20251106T205311Z
UID:10005122-1749974400-1749978000@garthma.wales
SUMMARY:Early Eucharist - Christ Church
DESCRIPTION:A simple said service including a celebration of the Eucharistic Feast.
URL:https://garthma.wales/events/eary-eucharist-2/2025-06-15/
LOCATION:Christ Church\, Radyr\, Heol Isaf\, Radyr\, Cardiff\, CF15 8DY\, United Kingdom
CATEGORIES:Sunday Worship
ATTACH;FMTTYPE=image/jpeg:https://garthma.wales/wp-content/uploads/2023/01/Christ-Church.jpg
END:VEVENT
BEGIN:VEVENT
DTSTART;TZID=Europe/London:20250611T100000
DTEND;TZID=Europe/London:20250611T110000
DTSTAMP:20260420T151626
CREATED:20250325T113535Z
LAST-MODIFIED:20251108T124032Z
UID:10007741-1749636000-1749639600@garthma.wales
SUMMARY:Holy Eucharist - Christ Church
DESCRIPTION:Join us for a Holy Eucharist service in Christ Church\, Radyr.
URL:https://garthma.wales/events/midweek-eucharist-6/2025-06-11/
LOCATION:Christ Church\, Radyr\, Heol Isaf\, Radyr\, Cardiff\, CF15 8DY\, United Kingdom
CATEGORIES:Mid Week Worship
ATTACH;FMTTYPE=image/jpeg:https://garthma.wales/wp-content/uploads/2023/01/Christ-Church.jpg
END:VEVENT
BEGIN:VEVENT
DTSTART;TZID=Europe/London:20250608T110000
DTEND;TZID=Europe/London:20250608T120000
DTSTAMP:20260420T151626
CREATED:20230116T211013Z
LAST-MODIFIED:20251106T205712Z
UID:10005619-1749380400-1749384000@garthma.wales
SUMMARY:Holy Eucharist with Sunday Club - Christ Church
DESCRIPTION:Holy Eucharist in the Main Church.\nSunday Club meet in the New School Rooms
URL:https://garthma.wales/events/sung-eucharist-with-sunday-club/2025-06-08/
LOCATION:Christ Church\, Radyr\, Heol Isaf\, Radyr\, Cardiff\, CF15 8DY\, United Kingdom
CATEGORIES:Sunday Worship
ATTACH;FMTTYPE=image/jpeg:https://garthma.wales/wp-content/uploads/2023/01/Christ-Church.jpg
END:VEVENT
BEGIN:VEVENT
DTSTART;TZID=Europe/London:20250608T080000
DTEND;TZID=Europe/London:20250608T090000
DTSTAMP:20260420T151626
CREATED:20241119T201457Z
LAST-MODIFIED:20251106T205311Z
UID:10005121-1749369600-1749373200@garthma.wales
SUMMARY:Early Eucharist - Christ Church
DESCRIPTION:A simple said service including a celebration of the Eucharistic Feast.
URL:https://garthma.wales/events/eary-eucharist-2/2025-06-08/
LOCATION:Christ Church\, Radyr\, Heol Isaf\, Radyr\, Cardiff\, CF15 8DY\, United Kingdom
CATEGORIES:Sunday Worship
ATTACH;FMTTYPE=image/jpeg:https://garthma.wales/wp-content/uploads/2023/01/Christ-Church.jpg
END:VEVENT
BEGIN:VEVENT
DTSTART;TZID=Europe/London:20250604T100000
DTEND;TZID=Europe/London:20250604T110000
DTSTAMP:20260420T151626
CREATED:20250325T113535Z
LAST-MODIFIED:20251108T124032Z
UID:10007740-1749031200-1749034800@garthma.wales
SUMMARY:Holy Eucharist - Christ Church
DESCRIPTION:Join us for a Holy Eucharist service in Christ Church\, Radyr.
URL:https://garthma.wales/events/midweek-eucharist-6/2025-06-04/
LOCATION:Christ Church\, Radyr\, Heol Isaf\, Radyr\, Cardiff\, CF15 8DY\, United Kingdom
CATEGORIES:Mid Week Worship
ATTACH;FMTTYPE=image/jpeg:https://garthma.wales/wp-content/uploads/2023/01/Christ-Church.jpg
END:VEVENT
BEGIN:VEVENT
DTSTART;TZID=Europe/London:20250601T110000
DTEND;TZID=Europe/London:20250601T120000
DTSTAMP:20260420T151626
CREATED:20230116T211013Z
LAST-MODIFIED:20251106T205712Z
UID:10005618-1748775600-1748779200@garthma.wales
SUMMARY:Holy Eucharist with Sunday Club - Christ Church
DESCRIPTION:Holy Eucharist in the Main Church.\nSunday Club meet in the New School Rooms
URL:https://garthma.wales/events/sung-eucharist-with-sunday-club/2025-06-01/
LOCATION:Christ Church\, Radyr\, Heol Isaf\, Radyr\, Cardiff\, CF15 8DY\, United Kingdom
CATEGORIES:Sunday Worship
ATTACH;FMTTYPE=image/jpeg:https://garthma.wales/wp-content/uploads/2023/01/Christ-Church.jpg
END:VEVENT
BEGIN:VEVENT
DTSTART;TZID=Europe/London:20250601T080000
DTEND;TZID=Europe/London:20250601T090000
DTSTAMP:20260420T151626
CREATED:20241119T201457Z
LAST-MODIFIED:20251106T205311Z
UID:10005120-1748764800-1748768400@garthma.wales
SUMMARY:Early Eucharist - Christ Church
DESCRIPTION:A simple said service including a celebration of the Eucharistic Feast.
URL:https://garthma.wales/events/eary-eucharist-2/2025-06-01/
LOCATION:Christ Church\, Radyr\, Heol Isaf\, Radyr\, Cardiff\, CF15 8DY\, United Kingdom
CATEGORIES:Sunday Worship
ATTACH;FMTTYPE=image/jpeg:https://garthma.wales/wp-content/uploads/2023/01/Christ-Church.jpg
END:VEVENT
BEGIN:VEVENT
DTSTART;TZID=Europe/London:20250528T100000
DTEND;TZID=Europe/London:20250528T110000
DTSTAMP:20260420T151626
CREATED:20250325T113535Z
LAST-MODIFIED:20251108T124032Z
UID:10007739-1748426400-1748430000@garthma.wales
SUMMARY:Holy Eucharist - Christ Church
DESCRIPTION:Join us for a Holy Eucharist service in Christ Church\, Radyr.
URL:https://garthma.wales/events/midweek-eucharist-6/2025-05-28/
LOCATION:Christ Church\, Radyr\, Heol Isaf\, Radyr\, Cardiff\, CF15 8DY\, United Kingdom
CATEGORIES:Mid Week Worship
ATTACH;FMTTYPE=image/jpeg:https://garthma.wales/wp-content/uploads/2023/01/Christ-Church.jpg
END:VEVENT
BEGIN:VEVENT
DTSTART;TZID=Europe/London:20250525T110000
DTEND;TZID=Europe/London:20250525T120000
DTSTAMP:20260420T151626
CREATED:20230116T211013Z
LAST-MODIFIED:20251106T205712Z
UID:10005617-1748170800-1748174400@garthma.wales
SUMMARY:Holy Eucharist with Sunday Club - Christ Church
DESCRIPTION:Holy Eucharist in the Main Church.\nSunday Club meet in the New School Rooms
URL:https://garthma.wales/events/sung-eucharist-with-sunday-club/2025-05-25/
LOCATION:Christ Church\, Radyr\, Heol Isaf\, Radyr\, Cardiff\, CF15 8DY\, United Kingdom
CATEGORIES:Sunday Worship
ATTACH;FMTTYPE=image/jpeg:https://garthma.wales/wp-content/uploads/2023/01/Christ-Church.jpg
END:VEVENT
BEGIN:VEVENT
DTSTART;TZID=Europe/London:20250525T080000
DTEND;TZID=Europe/London:20250525T090000
DTSTAMP:20260420T151626
CREATED:20241119T201457Z
LAST-MODIFIED:20251106T205311Z
UID:10005119-1748160000-1748163600@garthma.wales
SUMMARY:Early Eucharist - Christ Church
DESCRIPTION:A simple said service including a celebration of the Eucharistic Feast.
URL:https://garthma.wales/events/eary-eucharist-2/2025-05-25/
LOCATION:Christ Church\, Radyr\, Heol Isaf\, Radyr\, Cardiff\, CF15 8DY\, United Kingdom
CATEGORIES:Sunday Worship
ATTACH;FMTTYPE=image/jpeg:https://garthma.wales/wp-content/uploads/2023/01/Christ-Church.jpg
END:VEVENT
BEGIN:VEVENT
DTSTART;TZID=Europe/London:20250521T100000
DTEND;TZID=Europe/London:20250521T110000
DTSTAMP:20260420T151626
CREATED:20250325T113535Z
LAST-MODIFIED:20251108T124032Z
UID:10007738-1747821600-1747825200@garthma.wales
SUMMARY:Holy Eucharist - Christ Church
DESCRIPTION:Join us for a Holy Eucharist service in Christ Church\, Radyr.
URL:https://garthma.wales/events/midweek-eucharist-6/2025-05-21/
LOCATION:Christ Church\, Radyr\, Heol Isaf\, Radyr\, Cardiff\, CF15 8DY\, United Kingdom
CATEGORIES:Mid Week Worship
ATTACH;FMTTYPE=image/jpeg:https://garthma.wales/wp-content/uploads/2023/01/Christ-Church.jpg
END:VEVENT
BEGIN:VEVENT
DTSTART;TZID=Europe/London:20250518T110000
DTEND;TZID=Europe/London:20250518T120000
DTSTAMP:20260420T151626
CREATED:20230116T211013Z
LAST-MODIFIED:20251106T205712Z
UID:10005616-1747566000-1747569600@garthma.wales
SUMMARY:Holy Eucharist with Sunday Club - Christ Church
DESCRIPTION:Holy Eucharist in the Main Church.\nSunday Club meet in the New School Rooms
URL:https://garthma.wales/events/sung-eucharist-with-sunday-club/2025-05-18/
LOCATION:Christ Church\, Radyr\, Heol Isaf\, Radyr\, Cardiff\, CF15 8DY\, United Kingdom
CATEGORIES:Sunday Worship
ATTACH;FMTTYPE=image/jpeg:https://garthma.wales/wp-content/uploads/2023/01/Christ-Church.jpg
END:VEVENT
BEGIN:VEVENT
DTSTART;TZID=Europe/London:20250518T080000
DTEND;TZID=Europe/London:20250518T090000
DTSTAMP:20260420T151626
CREATED:20241119T201457Z
LAST-MODIFIED:20251106T205311Z
UID:10005118-1747555200-1747558800@garthma.wales
SUMMARY:Early Eucharist - Christ Church
DESCRIPTION:A simple said service including a celebration of the Eucharistic Feast.
URL:https://garthma.wales/events/eary-eucharist-2/2025-05-18/
LOCATION:Christ Church\, Radyr\, Heol Isaf\, Radyr\, Cardiff\, CF15 8DY\, United Kingdom
CATEGORIES:Sunday Worship
ATTACH;FMTTYPE=image/jpeg:https://garthma.wales/wp-content/uploads/2023/01/Christ-Church.jpg
END:VEVENT
END:VCALENDAR