BEGIN:VCALENDAR
VERSION:2.0
PRODID:-//The Garth Ministry Area - ECPv6.15.20//NONSGML v1.0//EN
CALSCALE:GREGORIAN
METHOD:PUBLISH
X-WR-CALNAME:The Garth Ministry Area
X-ORIGINAL-URL:https://garthma.wales
X-WR-CALDESC:Events for The Garth Ministry Area
REFRESH-INTERVAL;VALUE=DURATION:PT1H
X-Robots-Tag:noindex
X-PUBLISHED-TTL:PT1H
BEGIN:VTIMEZONE
TZID:Europe/London
BEGIN:DAYLIGHT
TZOFFSETFROM:+0000
TZOFFSETTO:+0100
TZNAME:BST
DTSTART:20240331T010000
END:DAYLIGHT
BEGIN:STANDARD
TZOFFSETFROM:+0100
TZOFFSETTO:+0000
TZNAME:GMT
DTSTART:20241027T010000
END:STANDARD
BEGIN:DAYLIGHT
TZOFFSETFROM:+0000
TZOFFSETTO:+0100
TZNAME:BST
DTSTART:20250330T010000
END:DAYLIGHT
BEGIN:STANDARD
TZOFFSETFROM:+0100
TZOFFSETTO:+0000
TZNAME:GMT
DTSTART:20251026T010000
END:STANDARD
BEGIN:DAYLIGHT
TZOFFSETFROM:+0000
TZOFFSETTO:+0100
TZNAME:BST
DTSTART:20260329T010000
END:DAYLIGHT
BEGIN:STANDARD
TZOFFSETFROM:+0100
TZOFFSETTO:+0000
TZNAME:GMT
DTSTART:20261025T010000
END:STANDARD
END:VTIMEZONE
BEGIN:VEVENT
DTSTART;TZID=Europe/London:20251001T100000
DTEND;TZID=Europe/London:20251001T110000
DTSTAMP:20260419T175309
CREATED:20250325T113535Z
LAST-MODIFIED:20251108T124032Z
UID:10007757-1759312800-1759316400@garthma.wales
SUMMARY:Holy Eucharist - Christ Church
DESCRIPTION:Join us for a Holy Eucharist service in Christ Church\, Radyr.
URL:https://garthma.wales/events/midweek-eucharist-6/2025-10-01/
LOCATION:Christ Church\, Radyr\, Heol Isaf\, Radyr\, Cardiff\, CF15 8DY\, United Kingdom
CATEGORIES:Mid Week Worship
ATTACH;FMTTYPE=image/jpeg:https://garthma.wales/wp-content/uploads/2023/01/Christ-Church.jpg
END:VEVENT
BEGIN:VEVENT
DTSTART;TZID=Europe/London:20250928T110000
DTEND;TZID=Europe/London:20250928T120000
DTSTAMP:20260419T175309
CREATED:20230116T211013Z
LAST-MODIFIED:20251106T205712Z
UID:10005635-1759057200-1759060800@garthma.wales
SUMMARY:Holy Eucharist with Sunday Club - Christ Church
DESCRIPTION:Holy Eucharist in the Main Church.\nSunday Club meet in the New School Rooms
URL:https://garthma.wales/events/sung-eucharist-with-sunday-club/2025-09-28/
LOCATION:Christ Church\, Radyr\, Heol Isaf\, Radyr\, Cardiff\, CF15 8DY\, United Kingdom
CATEGORIES:Sunday Worship
ATTACH;FMTTYPE=image/jpeg:https://garthma.wales/wp-content/uploads/2023/01/Christ-Church.jpg
END:VEVENT
BEGIN:VEVENT
DTSTART;TZID=Europe/London:20250928T080000
DTEND;TZID=Europe/London:20250928T090000
DTSTAMP:20260419T175309
CREATED:20241119T201457Z
LAST-MODIFIED:20251106T205311Z
UID:10005137-1759046400-1759050000@garthma.wales
SUMMARY:Early Eucharist - Christ Church
DESCRIPTION:A simple said service including a celebration of the Eucharistic Feast.
URL:https://garthma.wales/events/eary-eucharist-2/2025-09-28/
LOCATION:Christ Church\, Radyr\, Heol Isaf\, Radyr\, Cardiff\, CF15 8DY\, United Kingdom
CATEGORIES:Sunday Worship
ATTACH;FMTTYPE=image/jpeg:https://garthma.wales/wp-content/uploads/2023/01/Christ-Church.jpg
END:VEVENT
BEGIN:VEVENT
DTSTART;TZID=Europe/London:20250924T100000
DTEND;TZID=Europe/London:20250924T110000
DTSTAMP:20260419T175309
CREATED:20250325T113535Z
LAST-MODIFIED:20251108T124032Z
UID:10007756-1758708000-1758711600@garthma.wales
SUMMARY:Holy Eucharist - Christ Church
DESCRIPTION:Join us for a Holy Eucharist service in Christ Church\, Radyr.
URL:https://garthma.wales/events/midweek-eucharist-6/2025-09-24/
LOCATION:Christ Church\, Radyr\, Heol Isaf\, Radyr\, Cardiff\, CF15 8DY\, United Kingdom
CATEGORIES:Mid Week Worship
ATTACH;FMTTYPE=image/jpeg:https://garthma.wales/wp-content/uploads/2023/01/Christ-Church.jpg
END:VEVENT
BEGIN:VEVENT
DTSTART;TZID=Europe/London:20250921T110000
DTEND;TZID=Europe/London:20250921T120000
DTSTAMP:20260419T175309
CREATED:20230116T211013Z
LAST-MODIFIED:20251106T205712Z
UID:10005634-1758452400-1758456000@garthma.wales
SUMMARY:Holy Eucharist with Sunday Club - Christ Church
DESCRIPTION:Holy Eucharist in the Main Church.\nSunday Club meet in the New School Rooms
URL:https://garthma.wales/events/sung-eucharist-with-sunday-club/2025-09-21/
LOCATION:Christ Church\, Radyr\, Heol Isaf\, Radyr\, Cardiff\, CF15 8DY\, United Kingdom
CATEGORIES:Sunday Worship
ATTACH;FMTTYPE=image/jpeg:https://garthma.wales/wp-content/uploads/2023/01/Christ-Church.jpg
END:VEVENT
BEGIN:VEVENT
DTSTART;TZID=Europe/London:20250921T080000
DTEND;TZID=Europe/London:20250921T090000
DTSTAMP:20260419T175309
CREATED:20241119T201457Z
LAST-MODIFIED:20251106T205311Z
UID:10005136-1758441600-1758445200@garthma.wales
SUMMARY:Early Eucharist - Christ Church
DESCRIPTION:A simple said service including a celebration of the Eucharistic Feast.
URL:https://garthma.wales/events/eary-eucharist-2/2025-09-21/
LOCATION:Christ Church\, Radyr\, Heol Isaf\, Radyr\, Cardiff\, CF15 8DY\, United Kingdom
CATEGORIES:Sunday Worship
ATTACH;FMTTYPE=image/jpeg:https://garthma.wales/wp-content/uploads/2023/01/Christ-Church.jpg
END:VEVENT
BEGIN:VEVENT
DTSTART;TZID=Europe/London:20250917T100000
DTEND;TZID=Europe/London:20250917T110000
DTSTAMP:20260419T175309
CREATED:20250325T113535Z
LAST-MODIFIED:20251108T124032Z
UID:10007755-1758103200-1758106800@garthma.wales
SUMMARY:Holy Eucharist - Christ Church
DESCRIPTION:Join us for a Holy Eucharist service in Christ Church\, Radyr.
URL:https://garthma.wales/events/midweek-eucharist-6/2025-09-17/
LOCATION:Christ Church\, Radyr\, Heol Isaf\, Radyr\, Cardiff\, CF15 8DY\, United Kingdom
CATEGORIES:Mid Week Worship
ATTACH;FMTTYPE=image/jpeg:https://garthma.wales/wp-content/uploads/2023/01/Christ-Church.jpg
END:VEVENT
BEGIN:VEVENT
DTSTART;TZID=Europe/London:20250914T190000
DTEND;TZID=Europe/London:20250914T210000
DTSTAMP:20260419T175309
CREATED:20250903T104601Z
LAST-MODIFIED:20250903T104611Z
UID:10011122-1757876400-1757883600@garthma.wales
SUMMARY:Stardust Youth Theatre - Concert
DESCRIPTION:Stardust Youth Theatre are a free to access\, non-profit community interest company which allows young people aged 10-18 to access the arts without financial barriers. \nRecently\, after an intense audition process (over 1000 young people auditioned and only 24 were selected)\, three of our young people have been offered places with the elite International All-Stars Performance Troupe. \nThis troupe will be travelling to New York in January to train with Broadway stars! \nWe are holding a fundraising concert on 14 September in Christ Church to help make sure they can take advantage of this life-changing opportunity. The three All-Stars as well as members of the Stardust cast and production team will be performing\, and the concert will feature songs by The Beatles\, Cher\, Frank Sinatra\,\nABBA and Queen alongside songs from family favourite musicals such as Sister Act\, Grease\, Jesus Christ Superstar and The Greatest Showman. \nTickets will be available on the door\, but if you’d like to reserve tickets in advance then please contact Lorien on 07305 608 149 or email  stardustyouththeatre@gmail.com. Doors open at 6:30pm for a 7pm start\, there will also be refreshments and a raffle\, it should be a fun and uplifting evening supporting young Welsh talent!
URL:https://garthma.wales/events/stardust-youth-theatre-concert/
LOCATION:Christ Church\, Radyr\, Heol Isaf\, Radyr\, Cardiff\, CF15 8DY\, United Kingdom
END:VEVENT
BEGIN:VEVENT
DTSTART;TZID=Europe/London:20250914T110000
DTEND;TZID=Europe/London:20250914T120000
DTSTAMP:20260419T175309
CREATED:20230116T211013Z
LAST-MODIFIED:20251106T205712Z
UID:10005633-1757847600-1757851200@garthma.wales
SUMMARY:Holy Eucharist with Sunday Club - Christ Church
DESCRIPTION:Holy Eucharist in the Main Church.\nSunday Club meet in the New School Rooms
URL:https://garthma.wales/events/sung-eucharist-with-sunday-club/2025-09-14/
LOCATION:Christ Church\, Radyr\, Heol Isaf\, Radyr\, Cardiff\, CF15 8DY\, United Kingdom
CATEGORIES:Sunday Worship
ATTACH;FMTTYPE=image/jpeg:https://garthma.wales/wp-content/uploads/2023/01/Christ-Church.jpg
END:VEVENT
BEGIN:VEVENT
DTSTART;TZID=Europe/London:20250914T080000
DTEND;TZID=Europe/London:20250914T090000
DTSTAMP:20260419T175309
CREATED:20241119T201457Z
LAST-MODIFIED:20251106T205311Z
UID:10005135-1757836800-1757840400@garthma.wales
SUMMARY:Early Eucharist - Christ Church
DESCRIPTION:A simple said service including a celebration of the Eucharistic Feast.
URL:https://garthma.wales/events/eary-eucharist-2/2025-09-14/
LOCATION:Christ Church\, Radyr\, Heol Isaf\, Radyr\, Cardiff\, CF15 8DY\, United Kingdom
CATEGORIES:Sunday Worship
ATTACH;FMTTYPE=image/jpeg:https://garthma.wales/wp-content/uploads/2023/01/Christ-Church.jpg
END:VEVENT
BEGIN:VEVENT
DTSTART;TZID=Europe/London:20250910T100000
DTEND;TZID=Europe/London:20250910T110000
DTSTAMP:20260419T175309
CREATED:20250325T113535Z
LAST-MODIFIED:20251108T124032Z
UID:10007754-1757498400-1757502000@garthma.wales
SUMMARY:Holy Eucharist - Christ Church
DESCRIPTION:Join us for a Holy Eucharist service in Christ Church\, Radyr.
URL:https://garthma.wales/events/midweek-eucharist-6/2025-09-10/
LOCATION:Christ Church\, Radyr\, Heol Isaf\, Radyr\, Cardiff\, CF15 8DY\, United Kingdom
CATEGORIES:Mid Week Worship
ATTACH;FMTTYPE=image/jpeg:https://garthma.wales/wp-content/uploads/2023/01/Christ-Church.jpg
END:VEVENT
BEGIN:VEVENT
DTSTART;TZID=Europe/London:20250907T110000
DTEND;TZID=Europe/London:20250907T120000
DTSTAMP:20260419T175309
CREATED:20230116T211013Z
LAST-MODIFIED:20251106T205712Z
UID:10005632-1757242800-1757246400@garthma.wales
SUMMARY:Holy Eucharist with Sunday Club - Christ Church
DESCRIPTION:Holy Eucharist in the Main Church.\nSunday Club meet in the New School Rooms
URL:https://garthma.wales/events/sung-eucharist-with-sunday-club/2025-09-07/
LOCATION:Christ Church\, Radyr\, Heol Isaf\, Radyr\, Cardiff\, CF15 8DY\, United Kingdom
CATEGORIES:Sunday Worship
ATTACH;FMTTYPE=image/jpeg:https://garthma.wales/wp-content/uploads/2023/01/Christ-Church.jpg
END:VEVENT
BEGIN:VEVENT
DTSTART;TZID=Europe/London:20250907T080000
DTEND;TZID=Europe/London:20250907T090000
DTSTAMP:20260419T175309
CREATED:20241119T201457Z
LAST-MODIFIED:20251106T205311Z
UID:10005134-1757232000-1757235600@garthma.wales
SUMMARY:Early Eucharist - Christ Church
DESCRIPTION:A simple said service including a celebration of the Eucharistic Feast.
URL:https://garthma.wales/events/eary-eucharist-2/2025-09-07/
LOCATION:Christ Church\, Radyr\, Heol Isaf\, Radyr\, Cardiff\, CF15 8DY\, United Kingdom
CATEGORIES:Sunday Worship
ATTACH;FMTTYPE=image/jpeg:https://garthma.wales/wp-content/uploads/2023/01/Christ-Church.jpg
END:VEVENT
BEGIN:VEVENT
DTSTART;TZID=Europe/London:20250903T100000
DTEND;TZID=Europe/London:20250903T110000
DTSTAMP:20260419T175309
CREATED:20250325T113535Z
LAST-MODIFIED:20251108T124032Z
UID:10007753-1756893600-1756897200@garthma.wales
SUMMARY:Holy Eucharist - Christ Church
DESCRIPTION:Join us for a Holy Eucharist service in Christ Church\, Radyr.
URL:https://garthma.wales/events/midweek-eucharist-6/2025-09-03/
LOCATION:Christ Church\, Radyr\, Heol Isaf\, Radyr\, Cardiff\, CF15 8DY\, United Kingdom
CATEGORIES:Mid Week Worship
ATTACH;FMTTYPE=image/jpeg:https://garthma.wales/wp-content/uploads/2023/01/Christ-Church.jpg
END:VEVENT
BEGIN:VEVENT
DTSTART;TZID=Europe/London:20250831T110000
DTEND;TZID=Europe/London:20250831T120000
DTSTAMP:20260419T175309
CREATED:20230116T211013Z
LAST-MODIFIED:20251106T205712Z
UID:10005631-1756638000-1756641600@garthma.wales
SUMMARY:Holy Eucharist with Sunday Club - Christ Church
DESCRIPTION:Holy Eucharist in the Main Church.\nSunday Club meet in the New School Rooms
URL:https://garthma.wales/events/sung-eucharist-with-sunday-club/2025-08-31/
LOCATION:Christ Church\, Radyr\, Heol Isaf\, Radyr\, Cardiff\, CF15 8DY\, United Kingdom
CATEGORIES:Sunday Worship
ATTACH;FMTTYPE=image/jpeg:https://garthma.wales/wp-content/uploads/2023/01/Christ-Church.jpg
END:VEVENT
BEGIN:VEVENT
DTSTART;TZID=Europe/London:20250831T080000
DTEND;TZID=Europe/London:20250831T090000
DTSTAMP:20260419T175309
CREATED:20241119T201457Z
LAST-MODIFIED:20251106T205311Z
UID:10005133-1756627200-1756630800@garthma.wales
SUMMARY:Early Eucharist - Christ Church
DESCRIPTION:A simple said service including a celebration of the Eucharistic Feast.
URL:https://garthma.wales/events/eary-eucharist-2/2025-08-31/
LOCATION:Christ Church\, Radyr\, Heol Isaf\, Radyr\, Cardiff\, CF15 8DY\, United Kingdom
CATEGORIES:Sunday Worship
ATTACH;FMTTYPE=image/jpeg:https://garthma.wales/wp-content/uploads/2023/01/Christ-Church.jpg
END:VEVENT
BEGIN:VEVENT
DTSTART;TZID=Europe/London:20250827T100000
DTEND;TZID=Europe/London:20250827T110000
DTSTAMP:20260419T175309
CREATED:20250325T113535Z
LAST-MODIFIED:20251108T124032Z
UID:10007752-1756288800-1756292400@garthma.wales
SUMMARY:Holy Eucharist - Christ Church
DESCRIPTION:Join us for a Holy Eucharist service in Christ Church\, Radyr.
URL:https://garthma.wales/events/midweek-eucharist-6/2025-08-27/
LOCATION:Christ Church\, Radyr\, Heol Isaf\, Radyr\, Cardiff\, CF15 8DY\, United Kingdom
CATEGORIES:Mid Week Worship
ATTACH;FMTTYPE=image/jpeg:https://garthma.wales/wp-content/uploads/2023/01/Christ-Church.jpg
END:VEVENT
BEGIN:VEVENT
DTSTART;TZID=Europe/London:20250824T110000
DTEND;TZID=Europe/London:20250824T120000
DTSTAMP:20260419T175309
CREATED:20230116T211013Z
LAST-MODIFIED:20251106T205712Z
UID:10005630-1756033200-1756036800@garthma.wales
SUMMARY:Holy Eucharist with Sunday Club - Christ Church
DESCRIPTION:Holy Eucharist in the Main Church.\nSunday Club meet in the New School Rooms
URL:https://garthma.wales/events/sung-eucharist-with-sunday-club/2025-08-24/
LOCATION:Christ Church\, Radyr\, Heol Isaf\, Radyr\, Cardiff\, CF15 8DY\, United Kingdom
CATEGORIES:Sunday Worship
ATTACH;FMTTYPE=image/jpeg:https://garthma.wales/wp-content/uploads/2023/01/Christ-Church.jpg
END:VEVENT
BEGIN:VEVENT
DTSTART;TZID=Europe/London:20250824T080000
DTEND;TZID=Europe/London:20250824T090000
DTSTAMP:20260419T175309
CREATED:20241119T201457Z
LAST-MODIFIED:20251106T205311Z
UID:10005132-1756022400-1756026000@garthma.wales
SUMMARY:Early Eucharist - Christ Church
DESCRIPTION:A simple said service including a celebration of the Eucharistic Feast.
URL:https://garthma.wales/events/eary-eucharist-2/2025-08-24/
LOCATION:Christ Church\, Radyr\, Heol Isaf\, Radyr\, Cardiff\, CF15 8DY\, United Kingdom
CATEGORIES:Sunday Worship
ATTACH;FMTTYPE=image/jpeg:https://garthma.wales/wp-content/uploads/2023/01/Christ-Church.jpg
END:VEVENT
BEGIN:VEVENT
DTSTART;TZID=Europe/London:20250820T100000
DTEND;TZID=Europe/London:20250820T110000
DTSTAMP:20260419T175309
CREATED:20250325T113535Z
LAST-MODIFIED:20251108T124032Z
UID:10007751-1755684000-1755687600@garthma.wales
SUMMARY:Holy Eucharist - Christ Church
DESCRIPTION:Join us for a Holy Eucharist service in Christ Church\, Radyr.
URL:https://garthma.wales/events/midweek-eucharist-6/2025-08-20/
LOCATION:Christ Church\, Radyr\, Heol Isaf\, Radyr\, Cardiff\, CF15 8DY\, United Kingdom
CATEGORIES:Mid Week Worship
ATTACH;FMTTYPE=image/jpeg:https://garthma.wales/wp-content/uploads/2023/01/Christ-Church.jpg
END:VEVENT
BEGIN:VEVENT
DTSTART;TZID=Europe/London:20250817T110000
DTEND;TZID=Europe/London:20250817T120000
DTSTAMP:20260419T175309
CREATED:20230116T211013Z
LAST-MODIFIED:20251106T205712Z
UID:10005629-1755428400-1755432000@garthma.wales
SUMMARY:Holy Eucharist with Sunday Club - Christ Church
DESCRIPTION:Holy Eucharist in the Main Church.\nSunday Club meet in the New School Rooms
URL:https://garthma.wales/events/sung-eucharist-with-sunday-club/2025-08-17/
LOCATION:Christ Church\, Radyr\, Heol Isaf\, Radyr\, Cardiff\, CF15 8DY\, United Kingdom
CATEGORIES:Sunday Worship
ATTACH;FMTTYPE=image/jpeg:https://garthma.wales/wp-content/uploads/2023/01/Christ-Church.jpg
END:VEVENT
BEGIN:VEVENT
DTSTART;TZID=Europe/London:20250817T080000
DTEND;TZID=Europe/London:20250817T090000
DTSTAMP:20260419T175309
CREATED:20241119T201457Z
LAST-MODIFIED:20251106T205311Z
UID:10005131-1755417600-1755421200@garthma.wales
SUMMARY:Early Eucharist - Christ Church
DESCRIPTION:A simple said service including a celebration of the Eucharistic Feast.
URL:https://garthma.wales/events/eary-eucharist-2/2025-08-17/
LOCATION:Christ Church\, Radyr\, Heol Isaf\, Radyr\, Cardiff\, CF15 8DY\, United Kingdom
CATEGORIES:Sunday Worship
ATTACH;FMTTYPE=image/jpeg:https://garthma.wales/wp-content/uploads/2023/01/Christ-Church.jpg
END:VEVENT
BEGIN:VEVENT
DTSTART;TZID=Europe/London:20250813T100000
DTEND;TZID=Europe/London:20250813T110000
DTSTAMP:20260419T175309
CREATED:20250325T113535Z
LAST-MODIFIED:20251108T124032Z
UID:10007750-1755079200-1755082800@garthma.wales
SUMMARY:Holy Eucharist - Christ Church
DESCRIPTION:Join us for a Holy Eucharist service in Christ Church\, Radyr.
URL:https://garthma.wales/events/midweek-eucharist-6/2025-08-13/
LOCATION:Christ Church\, Radyr\, Heol Isaf\, Radyr\, Cardiff\, CF15 8DY\, United Kingdom
CATEGORIES:Mid Week Worship
ATTACH;FMTTYPE=image/jpeg:https://garthma.wales/wp-content/uploads/2023/01/Christ-Church.jpg
END:VEVENT
BEGIN:VEVENT
DTSTART;TZID=Europe/London:20250810T110000
DTEND;TZID=Europe/London:20250810T120000
DTSTAMP:20260419T175309
CREATED:20230116T211013Z
LAST-MODIFIED:20251106T205712Z
UID:10005628-1754823600-1754827200@garthma.wales
SUMMARY:Holy Eucharist with Sunday Club - Christ Church
DESCRIPTION:Holy Eucharist in the Main Church.\nSunday Club meet in the New School Rooms
URL:https://garthma.wales/events/sung-eucharist-with-sunday-club/2025-08-10/
LOCATION:Christ Church\, Radyr\, Heol Isaf\, Radyr\, Cardiff\, CF15 8DY\, United Kingdom
CATEGORIES:Sunday Worship
ATTACH;FMTTYPE=image/jpeg:https://garthma.wales/wp-content/uploads/2023/01/Christ-Church.jpg
END:VEVENT
BEGIN:VEVENT
DTSTART;TZID=Europe/London:20250810T080000
DTEND;TZID=Europe/London:20250810T090000
DTSTAMP:20260419T175309
CREATED:20241119T201457Z
LAST-MODIFIED:20251106T205311Z
UID:10005130-1754812800-1754816400@garthma.wales
SUMMARY:Early Eucharist - Christ Church
DESCRIPTION:A simple said service including a celebration of the Eucharistic Feast.
URL:https://garthma.wales/events/eary-eucharist-2/2025-08-10/
LOCATION:Christ Church\, Radyr\, Heol Isaf\, Radyr\, Cardiff\, CF15 8DY\, United Kingdom
CATEGORIES:Sunday Worship
ATTACH;FMTTYPE=image/jpeg:https://garthma.wales/wp-content/uploads/2023/01/Christ-Church.jpg
END:VEVENT
BEGIN:VEVENT
DTSTART;TZID=Europe/London:20250806T100000
DTEND;TZID=Europe/London:20250806T110000
DTSTAMP:20260419T175309
CREATED:20250325T113535Z
LAST-MODIFIED:20251108T124032Z
UID:10007749-1754474400-1754478000@garthma.wales
SUMMARY:Holy Eucharist - Christ Church
DESCRIPTION:Join us for a Holy Eucharist service in Christ Church\, Radyr.
URL:https://garthma.wales/events/midweek-eucharist-6/2025-08-06/
LOCATION:Christ Church\, Radyr\, Heol Isaf\, Radyr\, Cardiff\, CF15 8DY\, United Kingdom
CATEGORIES:Mid Week Worship
ATTACH;FMTTYPE=image/jpeg:https://garthma.wales/wp-content/uploads/2023/01/Christ-Church.jpg
END:VEVENT
BEGIN:VEVENT
DTSTART;TZID=Europe/London:20250803T110000
DTEND;TZID=Europe/London:20250803T120000
DTSTAMP:20260419T175309
CREATED:20230116T211013Z
LAST-MODIFIED:20251106T205712Z
UID:10005627-1754218800-1754222400@garthma.wales
SUMMARY:Holy Eucharist with Sunday Club - Christ Church
DESCRIPTION:Holy Eucharist in the Main Church.\nSunday Club meet in the New School Rooms
URL:https://garthma.wales/events/sung-eucharist-with-sunday-club/2025-08-03/
LOCATION:Christ Church\, Radyr\, Heol Isaf\, Radyr\, Cardiff\, CF15 8DY\, United Kingdom
CATEGORIES:Sunday Worship
ATTACH;FMTTYPE=image/jpeg:https://garthma.wales/wp-content/uploads/2023/01/Christ-Church.jpg
END:VEVENT
BEGIN:VEVENT
DTSTART;TZID=Europe/London:20250803T080000
DTEND;TZID=Europe/London:20250803T090000
DTSTAMP:20260419T175309
CREATED:20241119T201457Z
LAST-MODIFIED:20251106T205311Z
UID:10005129-1754208000-1754211600@garthma.wales
SUMMARY:Early Eucharist - Christ Church
DESCRIPTION:A simple said service including a celebration of the Eucharistic Feast.
URL:https://garthma.wales/events/eary-eucharist-2/2025-08-03/
LOCATION:Christ Church\, Radyr\, Heol Isaf\, Radyr\, Cardiff\, CF15 8DY\, United Kingdom
CATEGORIES:Sunday Worship
ATTACH;FMTTYPE=image/jpeg:https://garthma.wales/wp-content/uploads/2023/01/Christ-Church.jpg
END:VEVENT
BEGIN:VEVENT
DTSTART;TZID=Europe/London:20250730T100000
DTEND;TZID=Europe/London:20250730T110000
DTSTAMP:20260419T175309
CREATED:20250325T113535Z
LAST-MODIFIED:20251108T124032Z
UID:10007748-1753869600-1753873200@garthma.wales
SUMMARY:Holy Eucharist - Christ Church
DESCRIPTION:Join us for a Holy Eucharist service in Christ Church\, Radyr.
URL:https://garthma.wales/events/midweek-eucharist-6/2025-07-30/
LOCATION:Christ Church\, Radyr\, Heol Isaf\, Radyr\, Cardiff\, CF15 8DY\, United Kingdom
CATEGORIES:Mid Week Worship
ATTACH;FMTTYPE=image/jpeg:https://garthma.wales/wp-content/uploads/2023/01/Christ-Church.jpg
END:VEVENT
BEGIN:VEVENT
DTSTART;TZID=Europe/London:20250727T180000
DTEND;TZID=Europe/London:20250727T190000
DTSTAMP:20260419T175309
CREATED:20250624T160017Z
LAST-MODIFIED:20250712T092445Z
UID:10010963-1753639200-1753642800@garthma.wales
SUMMARY:'Come & Sing' Evensong
DESCRIPTION:Come and join the Choir of Christ Church\, Radyr in singing Evensong on Sunday\, 27 July.\nThe music will be:\nIntroit: He that hath my commandments – William Mundy\nMagnificat and Nunc Dimittis: Dyson in C\nAnthem: O for a closer walk with God – C V Stanford\n\n\nThe conductor will be Will Evans and the organist will be David Thomas.\n\n\n\nAdvance choir practices are taking place at Christ Church on Thursdays\, 6 – 7pm. All welcome.\n\n\n\nTiming on the day: Rehearsal for singers at 4 pm; tea & cake at 5.15pm; service at 6pm.\n\nDress – choir robe or smart casual. Music will be provided.\n\n\n\nFull details\, including copies of the music sent via email on request\, are available from Nick Hawkins on NewsletterRD@GarthMA.wales. Please let us know if you are coming. We look forward to your company.
URL:https://garthma.wales/events/come-sing-evensong/
LOCATION:Christ Church\, Radyr\, Heol Isaf\, Radyr\, Cardiff\, CF15 8DY\, United Kingdom
ATTACH;FMTTYPE=image/jpeg:https://garthma.wales/wp-content/uploads/2025/07/Come-and-Sing.jpg
END:VEVENT
END:VCALENDAR