BEGIN:VCALENDAR
VERSION:2.0
PRODID:-//The Garth Ministry Area - ECPv6.15.20//NONSGML v1.0//EN
CALSCALE:GREGORIAN
METHOD:PUBLISH
X-WR-CALNAME:The Garth Ministry Area
X-ORIGINAL-URL:https://garthma.wales
X-WR-CALDESC:Events for The Garth Ministry Area
REFRESH-INTERVAL;VALUE=DURATION:PT1H
X-Robots-Tag:noindex
X-PUBLISHED-TTL:PT1H
BEGIN:VTIMEZONE
TZID:Europe/London
BEGIN:DAYLIGHT
TZOFFSETFROM:+0000
TZOFFSETTO:+0100
TZNAME:BST
DTSTART:20290325T010000
END:DAYLIGHT
BEGIN:STANDARD
TZOFFSETFROM:+0100
TZOFFSETTO:+0000
TZNAME:GMT
DTSTART:20291028T010000
END:STANDARD
BEGIN:DAYLIGHT
TZOFFSETFROM:+0000
TZOFFSETTO:+0100
TZNAME:BST
DTSTART:20300331T010000
END:DAYLIGHT
BEGIN:STANDARD
TZOFFSETFROM:+0100
TZOFFSETTO:+0000
TZNAME:GMT
DTSTART:20301027T010000
END:STANDARD
BEGIN:DAYLIGHT
TZOFFSETFROM:+0000
TZOFFSETTO:+0100
TZNAME:BST
DTSTART:20310330T010000
END:DAYLIGHT
BEGIN:STANDARD
TZOFFSETFROM:+0100
TZOFFSETTO:+0000
TZNAME:GMT
DTSTART:20311026T010000
END:STANDARD
END:VTIMEZONE
BEGIN:VEVENT
DTSTART;TZID=Europe/London:20301117T160000
DTEND;TZID=Europe/London:20301117T173000
DTSTAMP:20260420T035745
CREATED:20230811T152713Z
LAST-MODIFIED:20250331T113730Z
UID:10011642-1921161600-1921167000@garthma.wales
SUMMARY:Messy Church
DESCRIPTION:Messy Church is a new and interactive way of ‘doing church’. It involves activities based on a different theme every month\, and includes lots of ‘making and doing’\, followed by a short celebration\, then sharing a complementary meal together. \nMessy Church is available to ALL children aged 12 and under with an accompanying adult\, who may be a parent\, guardian\, grandparent\, godparent\, uncle/auntie etc. It lasts approximately 90 minutes. \nMessy Church is all about making new friends and sharing God’s love in an inter-generational way.
URL:https://garthma.wales/events/messy-church/2030-11-17/
LOCATION:Creigiau Church Hall\, Cardiff Road\, Creigiau\, CF15 9NL\, United Kingdom
ATTACH;FMTTYPE=image/png:https://garthma.wales/wp-content/uploads/2023/08/Messy-Church-logo┬-for-online-use.png
END:VEVENT
BEGIN:VEVENT
DTSTART;TZID=Europe/London:20301119T100000
DTEND;TZID=Europe/London:20301119T110000
DTSTAMP:20260420T035745
CREATED:20250325T114024Z
LAST-MODIFIED:20260225T135435Z
UID:10011858-1921312800-1921316400@garthma.wales
SUMMARY:Holy Eucharist - St. David's Church
DESCRIPTION:Holy Eucharist Service held at St. David’s Church\, Groesfaen at 10.00am.
URL:https://garthma.wales/events/midweek-worship-2-2-2/2030-11-19/
LOCATION:St David’s Church\, Groesfaen\, Llantrisant Road\, Groesfaen\, Pontyclun\, CF72 8NS\, United Kingdom
CATEGORIES:Mid Week Worship
ATTACH;FMTTYPE=image/jpeg:https://garthma.wales/wp-content/uploads/2023/01/Altar-Window-rotated.jpg
END:VEVENT
BEGIN:VEVENT
DTSTART;TZID=Europe/London:20301124T091500
DTEND;TZID=Europe/London:20301124T101500
DTSTAMP:20260420T035745
CREATED:20260115T154656Z
LAST-MODIFIED:20260115T154657Z
UID:10011739-1921742100-1921745700@garthma.wales
SUMMARY:Holy Eucharist with Sunday Club - St John's Church
DESCRIPTION:Please join us for our Holy Eucharist Service at St. John’s Church in Danescourt\, along with our Sunday Club.
URL:https://garthma.wales/events/sung-eucharist-with-sunday-club-2-2-2/2030-11-24/
LOCATION:St John’s Church\, Danescourt\, Rachel Close\, Danescourt\, Cardiff\, CF5 2SH\, United Kingdom
CATEGORIES:Sunday Worship
ATTACH;FMTTYPE=image/jpeg:https://garthma.wales/wp-content/uploads/2023/07/St-Johns-Church-Danescourt.jpg
END:VEVENT
BEGIN:VEVENT
DTSTART;TZID=Europe/London:20301124T093000
DTEND;TZID=Europe/London:20301124T103000
DTSTAMP:20260420T035745
CREATED:20230130T182546Z
LAST-MODIFIED:20251108T122357Z
UID:10011644-1921743000-1921746600@garthma.wales
SUMMARY:Holy Eucharist - St Michael & All Angels
DESCRIPTION:We would love you to come and join us for this Holy Eucharist Service at St. Michael & All Angels\, Tongwynlais.
URL:https://garthma.wales/events/sunday-eucharist-5/2030-11-24/
LOCATION:St Michael and All Angels Church\, Tongwynlais\, Merthyr Road\, Tongwynlais\, CF15 7LD\, United Kingdom
ATTACH;FMTTYPE=image/jpeg:https://garthma.wales/wp-content/uploads/2023/08/St-Michaels-Patronal-festival-scaled.jpg
END:VEVENT
BEGIN:VEVENT
DTSTART;TZID=Europe/London:20301124T103000
DTEND;TZID=Europe/London:20301124T113000
DTSTAMP:20260420T035745
CREATED:20250127T124930Z
LAST-MODIFIED:20260107T105554Z
UID:10011723-1921746600-1921750200@garthma.wales
SUMMARY:Holy Eucharist - St Mary's Church
DESCRIPTION:A warm welcome awaits you\, so please join us for our Holy Eucharist Service at St. Mary’s Church\, St. Fagans. There will also be Junior Church during the service.
URL:https://garthma.wales/events/sunday-eucharist-8/2030-11-24/
LOCATION:St Mary’s Church\, St Fagans\, Crofft-y-Genau Road\, St Fagans\, CF5 6EL\, United Kingdom
CATEGORIES:Sunday Worship
ATTACH;FMTTYPE=image/webp:https://garthma.wales/wp-content/uploads/2023/01/Tower-Glass-Door-image-St-Marys.webp
END:VEVENT
BEGIN:VEVENT
DTSTART;TZID=Europe/London:20301124T110000
DTEND;TZID=Europe/London:20301124T120000
DTSTAMP:20260420T035745
CREATED:20250223T183804Z
LAST-MODIFIED:20260128T132451Z
UID:10011826-1921748400-1921752000@garthma.wales
SUMMARY:Holy Eucharist with Sunday Club - St. Catwg's Church
DESCRIPTION:Holy Eucharist with the Sunday School taking place within the main service at the back of the Church.
URL:https://garthma.wales/events/sunday-eucharist-2-3/2030-11-24/
LOCATION:St Catwg’s Church\, Pentyrch\, Church Road\, Pentyrch\, CF15 9QF\, United Kingdom
CATEGORIES:Sunday Worship
ATTACH;FMTTYPE=image/jpeg:https://garthma.wales/wp-content/uploads/2025/02/St-Catwgs-Sunday-Club_Feb-23.jpg
END:VEVENT
BEGIN:VEVENT
DTSTART;TZID=Europe/London:20301124T110000
DTEND;TZID=Europe/London:20301124T120000
DTSTAMP:20260420T035745
CREATED:20260115T155006Z
LAST-MODIFIED:20260115T155007Z
UID:10011749-1921748400-1921752000@garthma.wales
SUMMARY:Holy Eucharist with Sunday Club - Christ Church
DESCRIPTION:Holy Eucharist in the Main Church.\nSunday Club meet in the New School Rooms
URL:https://garthma.wales/events/sung-eucharist-with-sunday-club-4/2030-11-24/
LOCATION:Christ Church\, Radyr\, Heol Isaf\, Radyr\, Cardiff\, CF15 8DY\, United Kingdom
CATEGORIES:Sunday Worship
ATTACH;FMTTYPE=image/jpeg:https://garthma.wales/wp-content/uploads/2023/01/Christ-Church.jpg
END:VEVENT
BEGIN:VEVENT
DTSTART;TZID=Europe/London:20301126T100000
DTEND;TZID=Europe/London:20301126T110000
DTSTAMP:20260420T035745
CREATED:20250325T114024Z
LAST-MODIFIED:20260225T135435Z
UID:10011859-1921917600-1921921200@garthma.wales
SUMMARY:Holy Eucharist - St. David's Church
DESCRIPTION:Holy Eucharist Service held at St. David’s Church\, Groesfaen at 10.00am.
URL:https://garthma.wales/events/midweek-worship-2-2-2/2030-11-26/
LOCATION:St David’s Church\, Groesfaen\, Llantrisant Road\, Groesfaen\, Pontyclun\, CF72 8NS\, United Kingdom
CATEGORIES:Mid Week Worship
ATTACH;FMTTYPE=image/jpeg:https://garthma.wales/wp-content/uploads/2023/01/Altar-Window-rotated.jpg
END:VEVENT
BEGIN:VEVENT
DTSTART;TZID=Europe/London:20301201T080000
DTEND;TZID=Europe/London:20301201T090000
DTSTAMP:20260420T035745
CREATED:20231020T072852Z
LAST-MODIFIED:20260107T105400Z
UID:10011699-1922342400-1922346000@garthma.wales
SUMMARY:Holy Eucharist - St Mary's Church
DESCRIPTION:Holy Eucharist Service held at St. Mary’s Church\, St. Fagans on the first Sunday of the month.
URL:https://garthma.wales/events/holy-eucharist-st-marys-church/2030-12-01/
LOCATION:St Mary’s Church\, St Fagans\, Crofft-y-Genau Road\, St Fagans\, CF5 6EL\, United Kingdom
CATEGORIES:Sunday Worship
ATTACH;FMTTYPE=image/webp:https://garthma.wales/wp-content/uploads/2023/01/Tower-Glass-Door-image-St-Marys.webp
END:VEVENT
BEGIN:VEVENT
DTSTART;TZID=Europe/London:20301201T091500
DTEND;TZID=Europe/London:20301201T101500
DTSTAMP:20260420T035745
CREATED:20260115T154656Z
LAST-MODIFIED:20260115T154657Z
UID:10011740-1922346900-1922350500@garthma.wales
SUMMARY:Holy Eucharist with Sunday Club - St John's Church
DESCRIPTION:Please join us for our Holy Eucharist Service at St. John’s Church in Danescourt\, along with our Sunday Club.
URL:https://garthma.wales/events/sung-eucharist-with-sunday-club-2-2-2/2030-12-01/
LOCATION:St John’s Church\, Danescourt\, Rachel Close\, Danescourt\, Cardiff\, CF5 2SH\, United Kingdom
CATEGORIES:Sunday Worship
ATTACH;FMTTYPE=image/jpeg:https://garthma.wales/wp-content/uploads/2023/07/St-Johns-Church-Danescourt.jpg
END:VEVENT
BEGIN:VEVENT
DTSTART;TZID=Europe/London:20301201T093000
DTEND;TZID=Europe/London:20301201T103000
DTSTAMP:20260420T035745
CREATED:20230130T182546Z
LAST-MODIFIED:20251108T122357Z
UID:10011645-1922347800-1922351400@garthma.wales
SUMMARY:Holy Eucharist - St Michael & All Angels
DESCRIPTION:We would love you to come and join us for this Holy Eucharist Service at St. Michael & All Angels\, Tongwynlais.
URL:https://garthma.wales/events/sunday-eucharist-5/2030-12-01/
LOCATION:St Michael and All Angels Church\, Tongwynlais\, Merthyr Road\, Tongwynlais\, CF15 7LD\, United Kingdom
ATTACH;FMTTYPE=image/jpeg:https://garthma.wales/wp-content/uploads/2023/08/St-Michaels-Patronal-festival-scaled.jpg
END:VEVENT
BEGIN:VEVENT
DTSTART;TZID=Europe/London:20301201T103000
DTEND;TZID=Europe/London:20301201T113000
DTSTAMP:20260420T035745
CREATED:20231020T073557Z
LAST-MODIFIED:20260107T110911Z
UID:10011734-1922351400-1922355000@garthma.wales
SUMMARY:All Age Service - St Mary's Church
DESCRIPTION:Please join us for our All Age Service. We look forward to welcoming everyone at this service: the young\, and young at heart. Please do join us.
URL:https://garthma.wales/events/all-age-service-st-marys-church/2030-12-01/
LOCATION:St Mary’s Church\, St Fagans\, Crofft-y-Genau Road\, St Fagans\, CF5 6EL\, United Kingdom
ATTACH;FMTTYPE=image/png:https://garthma.wales/wp-content/uploads/2023/07/All-Age-Service-Logo_final-1.png
END:VEVENT
BEGIN:VEVENT
DTSTART;TZID=Europe/London:20301201T103000
DTEND;TZID=Europe/London:20301201T113000
DTSTAMP:20260420T035745
CREATED:20250127T124930Z
LAST-MODIFIED:20260107T105554Z
UID:10011724-1922351400-1922355000@garthma.wales
SUMMARY:Holy Eucharist - St Mary's Church
DESCRIPTION:A warm welcome awaits you\, so please join us for our Holy Eucharist Service at St. Mary’s Church\, St. Fagans. There will also be Junior Church during the service.
URL:https://garthma.wales/events/sunday-eucharist-8/2030-12-01/
LOCATION:St Mary’s Church\, St Fagans\, Crofft-y-Genau Road\, St Fagans\, CF5 6EL\, United Kingdom
CATEGORIES:Sunday Worship
ATTACH;FMTTYPE=image/webp:https://garthma.wales/wp-content/uploads/2023/01/Tower-Glass-Door-image-St-Marys.webp
END:VEVENT
BEGIN:VEVENT
DTSTART;TZID=Europe/London:20301201T110000
DTEND;TZID=Europe/London:20301201T120000
DTSTAMP:20260420T035745
CREATED:20250223T183804Z
LAST-MODIFIED:20260128T132451Z
UID:10011827-1922353200-1922356800@garthma.wales
SUMMARY:Holy Eucharist with Sunday Club - St. Catwg's Church
DESCRIPTION:Holy Eucharist with the Sunday School taking place within the main service at the back of the Church.
URL:https://garthma.wales/events/sunday-eucharist-2-3/2030-12-01/
LOCATION:St Catwg’s Church\, Pentyrch\, Church Road\, Pentyrch\, CF15 9QF\, United Kingdom
CATEGORIES:Sunday Worship
ATTACH;FMTTYPE=image/jpeg:https://garthma.wales/wp-content/uploads/2025/02/St-Catwgs-Sunday-Club_Feb-23.jpg
END:VEVENT
BEGIN:VEVENT
DTSTART;TZID=Europe/London:20301201T110000
DTEND;TZID=Europe/London:20301201T120000
DTSTAMP:20260420T035745
CREATED:20260115T155006Z
LAST-MODIFIED:20260115T155007Z
UID:10011750-1922353200-1922356800@garthma.wales
SUMMARY:Holy Eucharist with Sunday Club - Christ Church
DESCRIPTION:Holy Eucharist in the Main Church.\nSunday Club meet in the New School Rooms
URL:https://garthma.wales/events/sung-eucharist-with-sunday-club-4/2030-12-01/
LOCATION:Christ Church\, Radyr\, Heol Isaf\, Radyr\, Cardiff\, CF15 8DY\, United Kingdom
CATEGORIES:Sunday Worship
ATTACH;FMTTYPE=image/jpeg:https://garthma.wales/wp-content/uploads/2023/01/Christ-Church.jpg
END:VEVENT
BEGIN:VEVENT
DTSTART;TZID=Europe/London:20301203T100000
DTEND;TZID=Europe/London:20301203T110000
DTSTAMP:20260420T035745
CREATED:20250325T114024Z
LAST-MODIFIED:20260225T135435Z
UID:10011860-1922522400-1922526000@garthma.wales
SUMMARY:Holy Eucharist - St. David's Church
DESCRIPTION:Holy Eucharist Service held at St. David’s Church\, Groesfaen at 10.00am.
URL:https://garthma.wales/events/midweek-worship-2-2-2/2030-12-03/
LOCATION:St David’s Church\, Groesfaen\, Llantrisant Road\, Groesfaen\, Pontyclun\, CF72 8NS\, United Kingdom
CATEGORIES:Mid Week Worship
ATTACH;FMTTYPE=image/jpeg:https://garthma.wales/wp-content/uploads/2023/01/Altar-Window-rotated.jpg
END:VEVENT
BEGIN:VEVENT
DTSTART;TZID=Europe/London:20301208T091500
DTEND;TZID=Europe/London:20301208T101500
DTSTAMP:20260420T035745
CREATED:20260115T154656Z
LAST-MODIFIED:20260115T154657Z
UID:10011741-1922951700-1922955300@garthma.wales
SUMMARY:Holy Eucharist with Sunday Club - St John's Church
DESCRIPTION:Please join us for our Holy Eucharist Service at St. John’s Church in Danescourt\, along with our Sunday Club.
URL:https://garthma.wales/events/sung-eucharist-with-sunday-club-2-2-2/2030-12-08/
LOCATION:St John’s Church\, Danescourt\, Rachel Close\, Danescourt\, Cardiff\, CF5 2SH\, United Kingdom
CATEGORIES:Sunday Worship
ATTACH;FMTTYPE=image/jpeg:https://garthma.wales/wp-content/uploads/2023/07/St-Johns-Church-Danescourt.jpg
END:VEVENT
BEGIN:VEVENT
DTSTART;TZID=Europe/London:20301208T103000
DTEND;TZID=Europe/London:20301208T113000
DTSTAMP:20260420T035745
CREATED:20250127T124930Z
LAST-MODIFIED:20260107T105554Z
UID:10011725-1922956200-1922959800@garthma.wales
SUMMARY:Holy Eucharist - St Mary's Church
DESCRIPTION:A warm welcome awaits you\, so please join us for our Holy Eucharist Service at St. Mary’s Church\, St. Fagans. There will also be Junior Church during the service.
URL:https://garthma.wales/events/sunday-eucharist-8/2030-12-08/
LOCATION:St Mary’s Church\, St Fagans\, Crofft-y-Genau Road\, St Fagans\, CF5 6EL\, United Kingdom
CATEGORIES:Sunday Worship
ATTACH;FMTTYPE=image/webp:https://garthma.wales/wp-content/uploads/2023/01/Tower-Glass-Door-image-St-Marys.webp
END:VEVENT
BEGIN:VEVENT
DTSTART;TZID=Europe/London:20301208T110000
DTEND;TZID=Europe/London:20301208T120000
DTSTAMP:20260420T035745
CREATED:20250223T183804Z
LAST-MODIFIED:20260128T132451Z
UID:10011828-1922958000-1922961600@garthma.wales
SUMMARY:Holy Eucharist with Sunday Club - St. Catwg's Church
DESCRIPTION:Holy Eucharist with the Sunday School taking place within the main service at the back of the Church.
URL:https://garthma.wales/events/sunday-eucharist-2-3/2030-12-08/
LOCATION:St Catwg’s Church\, Pentyrch\, Church Road\, Pentyrch\, CF15 9QF\, United Kingdom
CATEGORIES:Sunday Worship
ATTACH;FMTTYPE=image/jpeg:https://garthma.wales/wp-content/uploads/2025/02/St-Catwgs-Sunday-Club_Feb-23.jpg
END:VEVENT
BEGIN:VEVENT
DTSTART;TZID=Europe/London:20301208T110000
DTEND;TZID=Europe/London:20301208T120000
DTSTAMP:20260420T035745
CREATED:20260115T155006Z
LAST-MODIFIED:20260115T155007Z
UID:10011751-1922958000-1922961600@garthma.wales
SUMMARY:Holy Eucharist with Sunday Club - Christ Church
DESCRIPTION:Holy Eucharist in the Main Church.\nSunday Club meet in the New School Rooms
URL:https://garthma.wales/events/sung-eucharist-with-sunday-club-4/2030-12-08/
LOCATION:Christ Church\, Radyr\, Heol Isaf\, Radyr\, Cardiff\, CF15 8DY\, United Kingdom
CATEGORIES:Sunday Worship
ATTACH;FMTTYPE=image/jpeg:https://garthma.wales/wp-content/uploads/2023/01/Christ-Church.jpg
END:VEVENT
BEGIN:VEVENT
DTSTART;TZID=Europe/London:20301210T100000
DTEND;TZID=Europe/London:20301210T110000
DTSTAMP:20260420T035745
CREATED:20250325T114024Z
LAST-MODIFIED:20260225T135435Z
UID:10011861-1923127200-1923130800@garthma.wales
SUMMARY:Holy Eucharist - St. David's Church
DESCRIPTION:Holy Eucharist Service held at St. David’s Church\, Groesfaen at 10.00am.
URL:https://garthma.wales/events/midweek-worship-2-2-2/2030-12-10/
LOCATION:St David’s Church\, Groesfaen\, Llantrisant Road\, Groesfaen\, Pontyclun\, CF72 8NS\, United Kingdom
CATEGORIES:Mid Week Worship
ATTACH;FMTTYPE=image/jpeg:https://garthma.wales/wp-content/uploads/2023/01/Altar-Window-rotated.jpg
END:VEVENT
BEGIN:VEVENT
DTSTART;TZID=Europe/London:20301215T091500
DTEND;TZID=Europe/London:20301215T101500
DTSTAMP:20260420T035745
CREATED:20260115T154656Z
LAST-MODIFIED:20260115T154657Z
UID:10011742-1923556500-1923560100@garthma.wales
SUMMARY:Holy Eucharist with Sunday Club - St John's Church
DESCRIPTION:Please join us for our Holy Eucharist Service at St. John’s Church in Danescourt\, along with our Sunday Club.
URL:https://garthma.wales/events/sung-eucharist-with-sunday-club-2-2-2/2030-12-15/
LOCATION:St John’s Church\, Danescourt\, Rachel Close\, Danescourt\, Cardiff\, CF5 2SH\, United Kingdom
CATEGORIES:Sunday Worship
ATTACH;FMTTYPE=image/jpeg:https://garthma.wales/wp-content/uploads/2023/07/St-Johns-Church-Danescourt.jpg
END:VEVENT
BEGIN:VEVENT
DTSTART;TZID=Europe/London:20301215T103000
DTEND;TZID=Europe/London:20301215T113000
DTSTAMP:20260420T035745
CREATED:20250127T124930Z
LAST-MODIFIED:20260107T105554Z
UID:10011726-1923561000-1923564600@garthma.wales
SUMMARY:Holy Eucharist - St Mary's Church
DESCRIPTION:A warm welcome awaits you\, so please join us for our Holy Eucharist Service at St. Mary’s Church\, St. Fagans. There will also be Junior Church during the service.
URL:https://garthma.wales/events/sunday-eucharist-8/2030-12-15/
LOCATION:St Mary’s Church\, St Fagans\, Crofft-y-Genau Road\, St Fagans\, CF5 6EL\, United Kingdom
CATEGORIES:Sunday Worship
ATTACH;FMTTYPE=image/webp:https://garthma.wales/wp-content/uploads/2023/01/Tower-Glass-Door-image-St-Marys.webp
END:VEVENT
BEGIN:VEVENT
DTSTART;TZID=Europe/London:20301215T110000
DTEND;TZID=Europe/London:20301215T120000
DTSTAMP:20260420T035745
CREATED:20250223T183804Z
LAST-MODIFIED:20260128T132451Z
UID:10011829-1923562800-1923566400@garthma.wales
SUMMARY:Holy Eucharist with Sunday Club - St. Catwg's Church
DESCRIPTION:Holy Eucharist with the Sunday School taking place within the main service at the back of the Church.
URL:https://garthma.wales/events/sunday-eucharist-2-3/2030-12-15/
LOCATION:St Catwg’s Church\, Pentyrch\, Church Road\, Pentyrch\, CF15 9QF\, United Kingdom
CATEGORIES:Sunday Worship
ATTACH;FMTTYPE=image/jpeg:https://garthma.wales/wp-content/uploads/2025/02/St-Catwgs-Sunday-Club_Feb-23.jpg
END:VEVENT
BEGIN:VEVENT
DTSTART;TZID=Europe/London:20301215T110000
DTEND;TZID=Europe/London:20301215T120000
DTSTAMP:20260420T035746
CREATED:20260115T155006Z
LAST-MODIFIED:20260115T155007Z
UID:10011752-1923562800-1923566400@garthma.wales
SUMMARY:Holy Eucharist with Sunday Club - Christ Church
DESCRIPTION:Holy Eucharist in the Main Church.\nSunday Club meet in the New School Rooms
URL:https://garthma.wales/events/sung-eucharist-with-sunday-club-4/2030-12-15/
LOCATION:Christ Church\, Radyr\, Heol Isaf\, Radyr\, Cardiff\, CF15 8DY\, United Kingdom
CATEGORIES:Sunday Worship
ATTACH;FMTTYPE=image/jpeg:https://garthma.wales/wp-content/uploads/2023/01/Christ-Church.jpg
END:VEVENT
BEGIN:VEVENT
DTSTART;TZID=Europe/London:20301217T100000
DTEND;TZID=Europe/London:20301217T110000
DTSTAMP:20260420T035746
CREATED:20250325T114024Z
LAST-MODIFIED:20260225T135435Z
UID:10011862-1923732000-1923735600@garthma.wales
SUMMARY:Holy Eucharist - St. David's Church
DESCRIPTION:Holy Eucharist Service held at St. David’s Church\, Groesfaen at 10.00am.
URL:https://garthma.wales/events/midweek-worship-2-2-2/2030-12-17/
LOCATION:St David’s Church\, Groesfaen\, Llantrisant Road\, Groesfaen\, Pontyclun\, CF72 8NS\, United Kingdom
CATEGORIES:Mid Week Worship
ATTACH;FMTTYPE=image/jpeg:https://garthma.wales/wp-content/uploads/2023/01/Altar-Window-rotated.jpg
END:VEVENT
BEGIN:VEVENT
DTSTART;TZID=Europe/London:20301222T091500
DTEND;TZID=Europe/London:20301222T101500
DTSTAMP:20260420T035746
CREATED:20260115T154656Z
LAST-MODIFIED:20260115T154657Z
UID:10011743-1924161300-1924164900@garthma.wales
SUMMARY:Holy Eucharist with Sunday Club - St John's Church
DESCRIPTION:Please join us for our Holy Eucharist Service at St. John’s Church in Danescourt\, along with our Sunday Club.
URL:https://garthma.wales/events/sung-eucharist-with-sunday-club-2-2-2/2030-12-22/
LOCATION:St John’s Church\, Danescourt\, Rachel Close\, Danescourt\, Cardiff\, CF5 2SH\, United Kingdom
CATEGORIES:Sunday Worship
ATTACH;FMTTYPE=image/jpeg:https://garthma.wales/wp-content/uploads/2023/07/St-Johns-Church-Danescourt.jpg
END:VEVENT
BEGIN:VEVENT
DTSTART;TZID=Europe/London:20301222T103000
DTEND;TZID=Europe/London:20301222T113000
DTSTAMP:20260420T035746
CREATED:20250127T124930Z
LAST-MODIFIED:20260107T105554Z
UID:10011727-1924165800-1924169400@garthma.wales
SUMMARY:Holy Eucharist - St Mary's Church
DESCRIPTION:A warm welcome awaits you\, so please join us for our Holy Eucharist Service at St. Mary’s Church\, St. Fagans. There will also be Junior Church during the service.
URL:https://garthma.wales/events/sunday-eucharist-8/2030-12-22/
LOCATION:St Mary’s Church\, St Fagans\, Crofft-y-Genau Road\, St Fagans\, CF5 6EL\, United Kingdom
CATEGORIES:Sunday Worship
ATTACH;FMTTYPE=image/webp:https://garthma.wales/wp-content/uploads/2023/01/Tower-Glass-Door-image-St-Marys.webp
END:VEVENT
BEGIN:VEVENT
DTSTART;TZID=Europe/London:20301222T110000
DTEND;TZID=Europe/London:20301222T120000
DTSTAMP:20260420T035746
CREATED:20250223T183804Z
LAST-MODIFIED:20260128T132451Z
UID:10011830-1924167600-1924171200@garthma.wales
SUMMARY:Holy Eucharist with Sunday Club - St. Catwg's Church
DESCRIPTION:Holy Eucharist with the Sunday School taking place within the main service at the back of the Church.
URL:https://garthma.wales/events/sunday-eucharist-2-3/2030-12-22/
LOCATION:St Catwg’s Church\, Pentyrch\, Church Road\, Pentyrch\, CF15 9QF\, United Kingdom
CATEGORIES:Sunday Worship
ATTACH;FMTTYPE=image/jpeg:https://garthma.wales/wp-content/uploads/2025/02/St-Catwgs-Sunday-Club_Feb-23.jpg
END:VEVENT
BEGIN:VEVENT
DTSTART;TZID=Europe/London:20301222T110000
DTEND;TZID=Europe/London:20301222T120000
DTSTAMP:20260420T035746
CREATED:20260115T155006Z
LAST-MODIFIED:20260115T155007Z
UID:10011753-1924167600-1924171200@garthma.wales
SUMMARY:Holy Eucharist with Sunday Club - Christ Church
DESCRIPTION:Holy Eucharist in the Main Church.\nSunday Club meet in the New School Rooms
URL:https://garthma.wales/events/sung-eucharist-with-sunday-club-4/2030-12-22/
LOCATION:Christ Church\, Radyr\, Heol Isaf\, Radyr\, Cardiff\, CF15 8DY\, United Kingdom
CATEGORIES:Sunday Worship
ATTACH;FMTTYPE=image/jpeg:https://garthma.wales/wp-content/uploads/2023/01/Christ-Church.jpg
END:VEVENT
END:VCALENDAR