BEGIN:VCALENDAR
VERSION:2.0
PRODID:-//The Garth Ministry Area - ECPv6.15.20//NONSGML v1.0//EN
CALSCALE:GREGORIAN
METHOD:PUBLISH
X-ORIGINAL-URL:https://garthma.wales
X-WR-CALDESC:Events for The Garth Ministry Area
REFRESH-INTERVAL;VALUE=DURATION:PT1H
X-Robots-Tag:noindex
X-PUBLISHED-TTL:PT1H
BEGIN:VTIMEZONE
TZID:Europe/London
BEGIN:DAYLIGHT
TZOFFSETFROM:+0000
TZOFFSETTO:+0100
TZNAME:BST
DTSTART:20290325T010000
END:DAYLIGHT
BEGIN:STANDARD
TZOFFSETFROM:+0100
TZOFFSETTO:+0000
TZNAME:GMT
DTSTART:20291028T010000
END:STANDARD
BEGIN:DAYLIGHT
TZOFFSETFROM:+0000
TZOFFSETTO:+0100
TZNAME:BST
DTSTART:20300331T010000
END:DAYLIGHT
BEGIN:STANDARD
TZOFFSETFROM:+0100
TZOFFSETTO:+0000
TZNAME:GMT
DTSTART:20301027T010000
END:STANDARD
BEGIN:DAYLIGHT
TZOFFSETFROM:+0000
TZOFFSETTO:+0100
TZNAME:BST
DTSTART:20310330T010000
END:DAYLIGHT
BEGIN:STANDARD
TZOFFSETFROM:+0100
TZOFFSETTO:+0000
TZNAME:GMT
DTSTART:20311026T010000
END:STANDARD
BEGIN:DAYLIGHT
TZOFFSETFROM:+0000
TZOFFSETTO:+0100
TZNAME:BST
DTSTART:20320328T010000
END:DAYLIGHT
BEGIN:STANDARD
TZOFFSETFROM:+0100
TZOFFSETTO:+0000
TZNAME:GMT
DTSTART:20321031T010000
END:STANDARD
END:VTIMEZONE
BEGIN:VEVENT
DTSTART;TZID=Europe/London:20301029T100000
DTEND;TZID=Europe/London:20301029T110000
DTSTAMP:20260420T011657
CREATED:20250325T114024Z
LAST-MODIFIED:20260225T135435Z
UID:10011519-1919498400-1919502000@garthma.wales
SUMMARY:Holy Eucharist - St. David's Church
DESCRIPTION:Holy Eucharist Service held at St. David’s Church\, Groesfaen at 10.00am.
URL:https://garthma.wales/events/midweek-worship-2-2-2/2030-10-29/
LOCATION:St David’s Church\, Groesfaen\, Llantrisant Road\, Groesfaen\, Pontyclun\, CF72 8NS\, United Kingdom
CATEGORIES:Mid Week Worship
ATTACH;FMTTYPE=image/jpeg:https://garthma.wales/wp-content/uploads/2023/01/Altar-Window-rotated.jpg
END:VEVENT
BEGIN:VEVENT
DTSTART;TZID=Europe/London:20301030T093000
DTEND;TZID=Europe/London:20301030T103000
DTSTAMP:20260420T011657
CREATED:20250325T114950Z
LAST-MODIFIED:20251108T123953Z
UID:10011536-1919583000-1919586600@garthma.wales
SUMMARY:Holy Eucharist - St Michael & All Angels Church
DESCRIPTION:Holy Eucharist in St Michael and All Angels.
URL:https://garthma.wales/events/midweek-eucharist-2-2/2030-10-30/
LOCATION:St Michael and All Angels Church\, Tongwynlais\, Merthyr Road\, Tongwynlais\, CF15 7LD\, United Kingdom
CATEGORIES:Mid Week Worship
ATTACH;FMTTYPE=image/jpeg:https://garthma.wales/wp-content/uploads/2023/08/St-Michaels-Patronal-festival-scaled.jpg
END:VEVENT
BEGIN:VEVENT
DTSTART;TZID=Europe/London:20301030T100000
DTEND;TZID=Europe/London:20301030T103000
DTSTAMP:20260420T011657
CREATED:20230910T193141Z
LAST-MODIFIED:20251108T124219Z
UID:10011632-1919584800-1919586600@garthma.wales
SUMMARY:Holy Eucharist - St. Catwg's Church
DESCRIPTION:A warm welcome awaits in our Holy Eucharist Service at St. Catwg’s Church\, Pentyrch at 10am on Wednesdays. Tea & Coffee provided after service.
URL:https://garthma.wales/events/holy-eucharist-st-catwgs-church-2/2030-10-30/
LOCATION:St Catwg’s Church\, Pentyrch\, Church Road\, Pentyrch\, CF15 9QF\, United Kingdom
CATEGORIES:Mid Week Worship
ATTACH;FMTTYPE=image/png:https://garthma.wales/wp-content/uploads/2023/01/window.png
END:VEVENT
BEGIN:VEVENT
DTSTART;TZID=Europe/London:20301030T100000
DTEND;TZID=Europe/London:20301030T110000
DTSTAMP:20260420T011657
CREATED:20250325T113535Z
LAST-MODIFIED:20251108T124032Z
UID:10011568-1919584800-1919588400@garthma.wales
SUMMARY:Holy Eucharist - Christ Church
DESCRIPTION:Join us for a Holy Eucharist service in Christ Church\, Radyr.
URL:https://garthma.wales/events/midweek-eucharist-6/2030-10-30/
LOCATION:Christ Church\, Radyr\, Heol Isaf\, Radyr\, Cardiff\, CF15 8DY\, United Kingdom
CATEGORIES:Mid Week Worship
ATTACH;FMTTYPE=image/jpeg:https://garthma.wales/wp-content/uploads/2023/01/Christ-Church.jpg
END:VEVENT
BEGIN:VEVENT
DTSTART;TZID=Europe/London:20301030T104500
DTEND;TZID=Europe/London:20301030T120000
DTSTAMP:20260420T011657
CREATED:20240306T202342Z
LAST-MODIFIED:20251108T124124Z
UID:10011600-1919587500-1919592000@garthma.wales
SUMMARY:Caffi Catwg - St Catwg's Church
DESCRIPTION:On Wednesday mornings at St Catwg’s\, we have a service at 10am which is immediately followed by an open coffee morning which starts at 10.45am and lasts until 12 noon. We call this gathering ‘Caffi Catwg’\, and about 20-30 people come – we are always keen to welcome new people. \nMost people who attend are retired but folk of all ages are welcome. Caffi Catwg is an opportunity to meet new people\, just chat with friends and we usually have a couple of fun games too\, whilst sat with our coffee and biscuits. \nWe’d love you to join us.
URL:https://garthma.wales/events/cafe-catwg-2/2030-10-30/
LOCATION:St Catwg’s Church\, Pentyrch\, Church Road\, Pentyrch\, CF15 9QF\, United Kingdom
CATEGORIES:Mid Week Worship
ATTACH;FMTTYPE=image/jpeg:https://garthma.wales/wp-content/uploads/2023/07/Caffi-Catwg-2.jpg
END:VEVENT
BEGIN:VEVENT
DTSTART;TZID=Europe/London:20301031T110000
DTEND;TZID=Europe/London:20301031T120000
DTSTAMP:20260420T011657
CREATED:20230724T170054Z
LAST-MODIFIED:20251106T203608Z
UID:10011356-1919674800-1919678400@garthma.wales
SUMMARY:Holy Eucharist - St. John's Church
DESCRIPTION:Holy Eucharist followed by coffee.
URL:https://garthma.wales/events/midweek-eucharist-4/2030-10-31/
LOCATION:St John’s Church\, Danescourt\, Rachel Close\, Danescourt\, Cardiff\, CF5 2SH\, United Kingdom
CATEGORIES:Mid Week Worship
ATTACH;FMTTYPE=image/jpeg:https://garthma.wales/wp-content/uploads/2023/07/St-Johns-Church-Danescourt.jpg
END:VEVENT
BEGIN:VEVENT
DTSTART;TZID=Europe/London:20301105T100000
DTEND;TZID=Europe/London:20301105T110000
DTSTAMP:20260420T011657
CREATED:20250325T114024Z
LAST-MODIFIED:20260225T135435Z
UID:10011520-1920103200-1920106800@garthma.wales
SUMMARY:Holy Eucharist - St. David's Church
DESCRIPTION:Holy Eucharist Service held at St. David’s Church\, Groesfaen at 10.00am.
URL:https://garthma.wales/events/midweek-worship-2-2-2/2030-11-05/
LOCATION:St David’s Church\, Groesfaen\, Llantrisant Road\, Groesfaen\, Pontyclun\, CF72 8NS\, United Kingdom
CATEGORIES:Mid Week Worship
ATTACH;FMTTYPE=image/jpeg:https://garthma.wales/wp-content/uploads/2023/01/Altar-Window-rotated.jpg
END:VEVENT
BEGIN:VEVENT
DTSTART;TZID=Europe/London:20301106T093000
DTEND;TZID=Europe/London:20301106T103000
DTSTAMP:20260420T011657
CREATED:20250325T114950Z
LAST-MODIFIED:20251108T123953Z
UID:10011537-1920187800-1920191400@garthma.wales
SUMMARY:Holy Eucharist - St Michael & All Angels Church
DESCRIPTION:Holy Eucharist in St Michael and All Angels.
URL:https://garthma.wales/events/midweek-eucharist-2-2/2030-11-06/
LOCATION:St Michael and All Angels Church\, Tongwynlais\, Merthyr Road\, Tongwynlais\, CF15 7LD\, United Kingdom
CATEGORIES:Mid Week Worship
ATTACH;FMTTYPE=image/jpeg:https://garthma.wales/wp-content/uploads/2023/08/St-Michaels-Patronal-festival-scaled.jpg
END:VEVENT
BEGIN:VEVENT
DTSTART;TZID=Europe/London:20301106T100000
DTEND;TZID=Europe/London:20301106T103000
DTSTAMP:20260420T011657
CREATED:20230910T193141Z
LAST-MODIFIED:20251108T124219Z
UID:10011633-1920189600-1920191400@garthma.wales
SUMMARY:Holy Eucharist - St. Catwg's Church
DESCRIPTION:A warm welcome awaits in our Holy Eucharist Service at St. Catwg’s Church\, Pentyrch at 10am on Wednesdays. Tea & Coffee provided after service.
URL:https://garthma.wales/events/holy-eucharist-st-catwgs-church-2/2030-11-06/
LOCATION:St Catwg’s Church\, Pentyrch\, Church Road\, Pentyrch\, CF15 9QF\, United Kingdom
CATEGORIES:Mid Week Worship
ATTACH;FMTTYPE=image/png:https://garthma.wales/wp-content/uploads/2023/01/window.png
END:VEVENT
BEGIN:VEVENT
DTSTART;TZID=Europe/London:20301106T100000
DTEND;TZID=Europe/London:20301106T110000
DTSTAMP:20260420T011657
CREATED:20250325T113535Z
LAST-MODIFIED:20251108T124032Z
UID:10011569-1920189600-1920193200@garthma.wales
SUMMARY:Holy Eucharist - Christ Church
DESCRIPTION:Join us for a Holy Eucharist service in Christ Church\, Radyr.
URL:https://garthma.wales/events/midweek-eucharist-6/2030-11-06/
LOCATION:Christ Church\, Radyr\, Heol Isaf\, Radyr\, Cardiff\, CF15 8DY\, United Kingdom
CATEGORIES:Mid Week Worship
ATTACH;FMTTYPE=image/jpeg:https://garthma.wales/wp-content/uploads/2023/01/Christ-Church.jpg
END:VEVENT
BEGIN:VEVENT
DTSTART;TZID=Europe/London:20301106T104500
DTEND;TZID=Europe/London:20301106T120000
DTSTAMP:20260420T011657
CREATED:20240306T202342Z
LAST-MODIFIED:20251108T124124Z
UID:10011601-1920192300-1920196800@garthma.wales
SUMMARY:Caffi Catwg - St Catwg's Church
DESCRIPTION:On Wednesday mornings at St Catwg’s\, we have a service at 10am which is immediately followed by an open coffee morning which starts at 10.45am and lasts until 12 noon. We call this gathering ‘Caffi Catwg’\, and about 20-30 people come – we are always keen to welcome new people. \nMost people who attend are retired but folk of all ages are welcome. Caffi Catwg is an opportunity to meet new people\, just chat with friends and we usually have a couple of fun games too\, whilst sat with our coffee and biscuits. \nWe’d love you to join us.
URL:https://garthma.wales/events/cafe-catwg-2/2030-11-06/
LOCATION:St Catwg’s Church\, Pentyrch\, Church Road\, Pentyrch\, CF15 9QF\, United Kingdom
CATEGORIES:Mid Week Worship
ATTACH;FMTTYPE=image/jpeg:https://garthma.wales/wp-content/uploads/2023/07/Caffi-Catwg-2.jpg
END:VEVENT
BEGIN:VEVENT
DTSTART;TZID=Europe/London:20301112T100000
DTEND;TZID=Europe/London:20301112T110000
DTSTAMP:20260420T011657
CREATED:20250325T114024Z
LAST-MODIFIED:20260225T135435Z
UID:10011857-1920708000-1920711600@garthma.wales
SUMMARY:Holy Eucharist - St. David's Church
DESCRIPTION:Holy Eucharist Service held at St. David’s Church\, Groesfaen at 10.00am.
URL:https://garthma.wales/events/midweek-worship-2-2-2/2030-11-12/
LOCATION:St David’s Church\, Groesfaen\, Llantrisant Road\, Groesfaen\, Pontyclun\, CF72 8NS\, United Kingdom
CATEGORIES:Mid Week Worship
ATTACH;FMTTYPE=image/jpeg:https://garthma.wales/wp-content/uploads/2023/01/Altar-Window-rotated.jpg
END:VEVENT
BEGIN:VEVENT
DTSTART;TZID=Europe/London:20301119T100000
DTEND;TZID=Europe/London:20301119T110000
DTSTAMP:20260420T011657
CREATED:20250325T114024Z
LAST-MODIFIED:20260225T135435Z
UID:10011858-1921312800-1921316400@garthma.wales
SUMMARY:Holy Eucharist - St. David's Church
DESCRIPTION:Holy Eucharist Service held at St. David’s Church\, Groesfaen at 10.00am.
URL:https://garthma.wales/events/midweek-worship-2-2-2/2030-11-19/
LOCATION:St David’s Church\, Groesfaen\, Llantrisant Road\, Groesfaen\, Pontyclun\, CF72 8NS\, United Kingdom
CATEGORIES:Mid Week Worship
ATTACH;FMTTYPE=image/jpeg:https://garthma.wales/wp-content/uploads/2023/01/Altar-Window-rotated.jpg
END:VEVENT
BEGIN:VEVENT
DTSTART;TZID=Europe/London:20301126T100000
DTEND;TZID=Europe/London:20301126T110000
DTSTAMP:20260420T011657
CREATED:20250325T114024Z
LAST-MODIFIED:20260225T135435Z
UID:10011859-1921917600-1921921200@garthma.wales
SUMMARY:Holy Eucharist - St. David's Church
DESCRIPTION:Holy Eucharist Service held at St. David’s Church\, Groesfaen at 10.00am.
URL:https://garthma.wales/events/midweek-worship-2-2-2/2030-11-26/
LOCATION:St David’s Church\, Groesfaen\, Llantrisant Road\, Groesfaen\, Pontyclun\, CF72 8NS\, United Kingdom
CATEGORIES:Mid Week Worship
ATTACH;FMTTYPE=image/jpeg:https://garthma.wales/wp-content/uploads/2023/01/Altar-Window-rotated.jpg
END:VEVENT
BEGIN:VEVENT
DTSTART;TZID=Europe/London:20301203T100000
DTEND;TZID=Europe/London:20301203T110000
DTSTAMP:20260420T011657
CREATED:20250325T114024Z
LAST-MODIFIED:20260225T135435Z
UID:10011860-1922522400-1922526000@garthma.wales
SUMMARY:Holy Eucharist - St. David's Church
DESCRIPTION:Holy Eucharist Service held at St. David’s Church\, Groesfaen at 10.00am.
URL:https://garthma.wales/events/midweek-worship-2-2-2/2030-12-03/
LOCATION:St David’s Church\, Groesfaen\, Llantrisant Road\, Groesfaen\, Pontyclun\, CF72 8NS\, United Kingdom
CATEGORIES:Mid Week Worship
ATTACH;FMTTYPE=image/jpeg:https://garthma.wales/wp-content/uploads/2023/01/Altar-Window-rotated.jpg
END:VEVENT
BEGIN:VEVENT
DTSTART;TZID=Europe/London:20301210T100000
DTEND;TZID=Europe/London:20301210T110000
DTSTAMP:20260420T011657
CREATED:20250325T114024Z
LAST-MODIFIED:20260225T135435Z
UID:10011861-1923127200-1923130800@garthma.wales
SUMMARY:Holy Eucharist - St. David's Church
DESCRIPTION:Holy Eucharist Service held at St. David’s Church\, Groesfaen at 10.00am.
URL:https://garthma.wales/events/midweek-worship-2-2-2/2030-12-10/
LOCATION:St David’s Church\, Groesfaen\, Llantrisant Road\, Groesfaen\, Pontyclun\, CF72 8NS\, United Kingdom
CATEGORIES:Mid Week Worship
ATTACH;FMTTYPE=image/jpeg:https://garthma.wales/wp-content/uploads/2023/01/Altar-Window-rotated.jpg
END:VEVENT
BEGIN:VEVENT
DTSTART;TZID=Europe/London:20301217T100000
DTEND;TZID=Europe/London:20301217T110000
DTSTAMP:20260420T011657
CREATED:20250325T114024Z
LAST-MODIFIED:20260225T135435Z
UID:10011862-1923732000-1923735600@garthma.wales
SUMMARY:Holy Eucharist - St. David's Church
DESCRIPTION:Holy Eucharist Service held at St. David’s Church\, Groesfaen at 10.00am.
URL:https://garthma.wales/events/midweek-worship-2-2-2/2030-12-17/
LOCATION:St David’s Church\, Groesfaen\, Llantrisant Road\, Groesfaen\, Pontyclun\, CF72 8NS\, United Kingdom
CATEGORIES:Mid Week Worship
ATTACH;FMTTYPE=image/jpeg:https://garthma.wales/wp-content/uploads/2023/01/Altar-Window-rotated.jpg
END:VEVENT
BEGIN:VEVENT
DTSTART;TZID=Europe/London:20301224T100000
DTEND;TZID=Europe/London:20301224T110000
DTSTAMP:20260420T011657
CREATED:20250325T114024Z
LAST-MODIFIED:20260225T135435Z
UID:10011863-1924336800-1924340400@garthma.wales
SUMMARY:Holy Eucharist - St. David's Church
DESCRIPTION:Holy Eucharist Service held at St. David’s Church\, Groesfaen at 10.00am.
URL:https://garthma.wales/events/midweek-worship-2-2-2/2030-12-24/
LOCATION:St David’s Church\, Groesfaen\, Llantrisant Road\, Groesfaen\, Pontyclun\, CF72 8NS\, United Kingdom
CATEGORIES:Mid Week Worship
ATTACH;FMTTYPE=image/jpeg:https://garthma.wales/wp-content/uploads/2023/01/Altar-Window-rotated.jpg
END:VEVENT
BEGIN:VEVENT
DTSTART;TZID=Europe/London:20301231T100000
DTEND;TZID=Europe/London:20301231T110000
DTSTAMP:20260420T011657
CREATED:20250325T114024Z
LAST-MODIFIED:20260225T135435Z
UID:10011864-1924941600-1924945200@garthma.wales
SUMMARY:Holy Eucharist - St. David's Church
DESCRIPTION:Holy Eucharist Service held at St. David’s Church\, Groesfaen at 10.00am.
URL:https://garthma.wales/events/midweek-worship-2-2-2/2030-12-31/
LOCATION:St David’s Church\, Groesfaen\, Llantrisant Road\, Groesfaen\, Pontyclun\, CF72 8NS\, United Kingdom
CATEGORIES:Mid Week Worship
ATTACH;FMTTYPE=image/jpeg:https://garthma.wales/wp-content/uploads/2023/01/Altar-Window-rotated.jpg
END:VEVENT
BEGIN:VEVENT
DTSTART;TZID=Europe/London:20310107T100000
DTEND;TZID=Europe/London:20310107T110000
DTSTAMP:20260420T011657
CREATED:20250325T114024Z
LAST-MODIFIED:20260225T135435Z
UID:10011865-1925546400-1925550000@garthma.wales
SUMMARY:Holy Eucharist - St. David's Church
DESCRIPTION:Holy Eucharist Service held at St. David’s Church\, Groesfaen at 10.00am.
URL:https://garthma.wales/events/midweek-worship-2-2-2/2031-01-07/
LOCATION:St David’s Church\, Groesfaen\, Llantrisant Road\, Groesfaen\, Pontyclun\, CF72 8NS\, United Kingdom
CATEGORIES:Mid Week Worship
ATTACH;FMTTYPE=image/jpeg:https://garthma.wales/wp-content/uploads/2023/01/Altar-Window-rotated.jpg
END:VEVENT
BEGIN:VEVENT
DTSTART;TZID=Europe/London:20310114T100000
DTEND;TZID=Europe/London:20310114T110000
DTSTAMP:20260420T011657
CREATED:20250325T114024Z
LAST-MODIFIED:20260225T135435Z
UID:10011866-1926151200-1926154800@garthma.wales
SUMMARY:Holy Eucharist - St. David's Church
DESCRIPTION:Holy Eucharist Service held at St. David’s Church\, Groesfaen at 10.00am.
URL:https://garthma.wales/events/midweek-worship-2-2-2/2031-01-14/
LOCATION:St David’s Church\, Groesfaen\, Llantrisant Road\, Groesfaen\, Pontyclun\, CF72 8NS\, United Kingdom
CATEGORIES:Mid Week Worship
ATTACH;FMTTYPE=image/jpeg:https://garthma.wales/wp-content/uploads/2023/01/Altar-Window-rotated.jpg
END:VEVENT
BEGIN:VEVENT
DTSTART;TZID=Europe/London:20310121T100000
DTEND;TZID=Europe/London:20310121T110000
DTSTAMP:20260420T011657
CREATED:20250325T114024Z
LAST-MODIFIED:20260225T135435Z
UID:10011867-1926756000-1926759600@garthma.wales
SUMMARY:Holy Eucharist - St. David's Church
DESCRIPTION:Holy Eucharist Service held at St. David’s Church\, Groesfaen at 10.00am.
URL:https://garthma.wales/events/midweek-worship-2-2-2/2031-01-21/
LOCATION:St David’s Church\, Groesfaen\, Llantrisant Road\, Groesfaen\, Pontyclun\, CF72 8NS\, United Kingdom
CATEGORIES:Mid Week Worship
ATTACH;FMTTYPE=image/jpeg:https://garthma.wales/wp-content/uploads/2023/01/Altar-Window-rotated.jpg
END:VEVENT
BEGIN:VEVENT
DTSTART;TZID=Europe/London:20310128T100000
DTEND;TZID=Europe/London:20310128T110000
DTSTAMP:20260420T011657
CREATED:20250325T114024Z
LAST-MODIFIED:20260225T135435Z
UID:10011868-1927360800-1927364400@garthma.wales
SUMMARY:Holy Eucharist - St. David's Church
DESCRIPTION:Holy Eucharist Service held at St. David’s Church\, Groesfaen at 10.00am.
URL:https://garthma.wales/events/midweek-worship-2-2-2/2031-01-28/
LOCATION:St David’s Church\, Groesfaen\, Llantrisant Road\, Groesfaen\, Pontyclun\, CF72 8NS\, United Kingdom
CATEGORIES:Mid Week Worship
ATTACH;FMTTYPE=image/jpeg:https://garthma.wales/wp-content/uploads/2023/01/Altar-Window-rotated.jpg
END:VEVENT
BEGIN:VEVENT
DTSTART;TZID=Europe/London:20310204T100000
DTEND;TZID=Europe/London:20310204T110000
DTSTAMP:20260420T011657
CREATED:20250325T114024Z
LAST-MODIFIED:20260225T135435Z
UID:10011869-1927965600-1927969200@garthma.wales
SUMMARY:Holy Eucharist - St. David's Church
DESCRIPTION:Holy Eucharist Service held at St. David’s Church\, Groesfaen at 10.00am.
URL:https://garthma.wales/events/midweek-worship-2-2-2/2031-02-04/
LOCATION:St David’s Church\, Groesfaen\, Llantrisant Road\, Groesfaen\, Pontyclun\, CF72 8NS\, United Kingdom
CATEGORIES:Mid Week Worship
ATTACH;FMTTYPE=image/jpeg:https://garthma.wales/wp-content/uploads/2023/01/Altar-Window-rotated.jpg
END:VEVENT
BEGIN:VEVENT
DTSTART;TZID=Europe/London:20310211T100000
DTEND;TZID=Europe/London:20310211T110000
DTSTAMP:20260420T011657
CREATED:20250325T114024Z
LAST-MODIFIED:20260225T135435Z
UID:10011870-1928570400-1928574000@garthma.wales
SUMMARY:Holy Eucharist - St. David's Church
DESCRIPTION:Holy Eucharist Service held at St. David’s Church\, Groesfaen at 10.00am.
URL:https://garthma.wales/events/midweek-worship-2-2-2/2031-02-11/
LOCATION:St David’s Church\, Groesfaen\, Llantrisant Road\, Groesfaen\, Pontyclun\, CF72 8NS\, United Kingdom
CATEGORIES:Mid Week Worship
ATTACH;FMTTYPE=image/jpeg:https://garthma.wales/wp-content/uploads/2023/01/Altar-Window-rotated.jpg
END:VEVENT
BEGIN:VEVENT
DTSTART;TZID=Europe/London:20310218T100000
DTEND;TZID=Europe/London:20310218T110000
DTSTAMP:20260420T011658
CREATED:20250325T114024Z
LAST-MODIFIED:20260225T135435Z
UID:10011871-1929175200-1929178800@garthma.wales
SUMMARY:Holy Eucharist - St. David's Church
DESCRIPTION:Holy Eucharist Service held at St. David’s Church\, Groesfaen at 10.00am.
URL:https://garthma.wales/events/midweek-worship-2-2-2/2031-02-18/
LOCATION:St David’s Church\, Groesfaen\, Llantrisant Road\, Groesfaen\, Pontyclun\, CF72 8NS\, United Kingdom
CATEGORIES:Mid Week Worship
ATTACH;FMTTYPE=image/jpeg:https://garthma.wales/wp-content/uploads/2023/01/Altar-Window-rotated.jpg
END:VEVENT
BEGIN:VEVENT
DTSTART;TZID=Europe/London:20310225T100000
DTEND;TZID=Europe/London:20310225T110000
DTSTAMP:20260420T011658
CREATED:20250325T114024Z
LAST-MODIFIED:20260225T135435Z
UID:10011872-1929780000-1929783600@garthma.wales
SUMMARY:Holy Eucharist - St. David's Church
DESCRIPTION:Holy Eucharist Service held at St. David’s Church\, Groesfaen at 10.00am.
URL:https://garthma.wales/events/midweek-worship-2-2-2/2031-02-25/
LOCATION:St David’s Church\, Groesfaen\, Llantrisant Road\, Groesfaen\, Pontyclun\, CF72 8NS\, United Kingdom
CATEGORIES:Mid Week Worship
ATTACH;FMTTYPE=image/jpeg:https://garthma.wales/wp-content/uploads/2023/01/Altar-Window-rotated.jpg
END:VEVENT
END:VCALENDAR