BEGIN:VCALENDAR
VERSION:2.0
PRODID:-//The Garth Ministry Area - ECPv6.15.20//NONSGML v1.0//EN
CALSCALE:GREGORIAN
METHOD:PUBLISH
X-ORIGINAL-URL:https://garthma.wales
X-WR-CALDESC:Events for The Garth Ministry Area
REFRESH-INTERVAL;VALUE=DURATION:PT1H
X-Robots-Tag:noindex
X-PUBLISHED-TTL:PT1H
BEGIN:VTIMEZONE
TZID:Europe/London
BEGIN:DAYLIGHT
TZOFFSETFROM:+0000
TZOFFSETTO:+0100
TZNAME:BST
DTSTART:20240331T010000
END:DAYLIGHT
BEGIN:STANDARD
TZOFFSETFROM:+0100
TZOFFSETTO:+0000
TZNAME:GMT
DTSTART:20241027T010000
END:STANDARD
BEGIN:DAYLIGHT
TZOFFSETFROM:+0000
TZOFFSETTO:+0100
TZNAME:BST
DTSTART:20250330T010000
END:DAYLIGHT
BEGIN:STANDARD
TZOFFSETFROM:+0100
TZOFFSETTO:+0000
TZNAME:GMT
DTSTART:20251026T010000
END:STANDARD
BEGIN:DAYLIGHT
TZOFFSETFROM:+0000
TZOFFSETTO:+0100
TZNAME:BST
DTSTART:20260329T010000
END:DAYLIGHT
BEGIN:STANDARD
TZOFFSETFROM:+0100
TZOFFSETTO:+0000
TZNAME:GMT
DTSTART:20261025T010000
END:STANDARD
END:VTIMEZONE
BEGIN:VEVENT
DTSTART;TZID=Europe/London:20250401T100000
DTEND;TZID=Europe/London:20250401T110000
DTSTAMP:20260422T062433
CREATED:20240306T201615Z
LAST-MODIFIED:20251108T123655Z
UID:10008251-1743501600-1743505200@garthma.wales
SUMMARY:Holy Eucharist - St Mary & St. James
DESCRIPTION:Please join us for our Holy Eucharist Service at St. Mary and St. James’ Church\, Taffs Well.
URL:https://garthma.wales/events/midweek-eucharist-3-2-2/2025-04-01/
LOCATION:St Mary & St James Church\, Taff’s Well\, Church Street\, Taffs Well\, CF15 7PG\, United Kingdom
CATEGORIES:Mid Week Worship
ATTACH;FMTTYPE=image/jpeg:https://garthma.wales/wp-content/uploads/2023/07/candle-rotated.jpg
END:VEVENT
BEGIN:VEVENT
DTSTART;TZID=Europe/London:20250401T100000
DTEND;TZID=Europe/London:20250401T110000
DTSTAMP:20260422T062433
CREATED:20250325T114024Z
LAST-MODIFIED:20260225T135435Z
UID:10008511-1743501600-1743505200@garthma.wales
SUMMARY:Holy Eucharist - St. David's Church
DESCRIPTION:Holy Eucharist Service held at St. David’s Church\, Groesfaen at 10.00am.
URL:https://garthma.wales/events/midweek-worship-2-2-2/2025-04-01/
LOCATION:St David’s Church\, Groesfaen\, Llantrisant Road\, Groesfaen\, Pontyclun\, CF72 8NS\, United Kingdom
CATEGORIES:Mid Week Worship
ATTACH;FMTTYPE=image/jpeg:https://garthma.wales/wp-content/uploads/2023/01/Altar-Window-rotated.jpg
END:VEVENT
BEGIN:VEVENT
DTSTART;TZID=Europe/London:20250402T093000
DTEND;TZID=Europe/London:20250402T103000
DTSTAMP:20260422T062433
CREATED:20250325T114950Z
LAST-MODIFIED:20251108T123953Z
UID:10007991-1743586200-1743589800@garthma.wales
SUMMARY:Holy Eucharist - St Michael & All Angels Church
DESCRIPTION:Holy Eucharist in St Michael and All Angels.
URL:https://garthma.wales/events/midweek-eucharist-2-2/2025-04-02/
LOCATION:St Michael and All Angels Church\, Tongwynlais\, Merthyr Road\, Tongwynlais\, CF15 7LD\, United Kingdom
CATEGORIES:Mid Week Worship
ATTACH;FMTTYPE=image/jpeg:https://garthma.wales/wp-content/uploads/2023/08/St-Michaels-Patronal-festival-scaled.jpg
END:VEVENT
BEGIN:VEVENT
DTSTART;TZID=Europe/London:20250402T100000
DTEND;TZID=Europe/London:20250402T103000
DTSTAMP:20260422T062433
CREATED:20230910T193141Z
LAST-MODIFIED:20251108T124219Z
UID:10006953-1743588000-1743589800@garthma.wales
SUMMARY:Holy Eucharist - St. Catwg's Church
DESCRIPTION:A warm welcome awaits in our Holy Eucharist Service at St. Catwg’s Church\, Pentyrch at 10am on Wednesdays. Tea & Coffee provided after service.
URL:https://garthma.wales/events/holy-eucharist-st-catwgs-church-2/2025-04-02/
LOCATION:St Catwg’s Church\, Pentyrch\, Church Road\, Pentyrch\, CF15 9QF\, United Kingdom
CATEGORIES:Mid Week Worship
ATTACH;FMTTYPE=image/png:https://garthma.wales/wp-content/uploads/2023/01/window.png
END:VEVENT
BEGIN:VEVENT
DTSTART;TZID=Europe/London:20250402T100000
DTEND;TZID=Europe/London:20250402T110000
DTSTAMP:20260422T062433
CREATED:20250325T113535Z
LAST-MODIFIED:20251108T124032Z
UID:10007731-1743588000-1743591600@garthma.wales
SUMMARY:Holy Eucharist - Christ Church
DESCRIPTION:Join us for a Holy Eucharist service in Christ Church\, Radyr.
URL:https://garthma.wales/events/midweek-eucharist-6/2025-04-02/
LOCATION:Christ Church\, Radyr\, Heol Isaf\, Radyr\, Cardiff\, CF15 8DY\, United Kingdom
CATEGORIES:Mid Week Worship
ATTACH;FMTTYPE=image/jpeg:https://garthma.wales/wp-content/uploads/2023/01/Christ-Church.jpg
END:VEVENT
BEGIN:VEVENT
DTSTART;TZID=Europe/London:20250402T104500
DTEND;TZID=Europe/London:20250402T120000
DTSTAMP:20260422T062433
CREATED:20240306T202342Z
LAST-MODIFIED:20251108T124124Z
UID:10002725-1743590700-1743595200@garthma.wales
SUMMARY:Caffi Catwg - St Catwg's Church
DESCRIPTION:On Wednesday mornings at St Catwg’s\, we have a service at 10am which is immediately followed by an open coffee morning which starts at 10.45am and lasts until 12 noon. We call this gathering ‘Caffi Catwg’\, and about 20-30 people come – we are always keen to welcome new people. \nMost people who attend are retired but folk of all ages are welcome. Caffi Catwg is an opportunity to meet new people\, just chat with friends and we usually have a couple of fun games too\, whilst sat with our coffee and biscuits. \nWe’d love you to join us.
URL:https://garthma.wales/events/cafe-catwg-2/2025-04-02/
LOCATION:St Catwg’s Church\, Pentyrch\, Church Road\, Pentyrch\, CF15 9QF\, United Kingdom
CATEGORIES:Mid Week Worship
ATTACH;FMTTYPE=image/jpeg:https://garthma.wales/wp-content/uploads/2023/07/Caffi-Catwg-2.jpg
END:VEVENT
BEGIN:VEVENT
DTSTART;TZID=Europe/London:20250403T110000
DTEND;TZID=Europe/London:20250403T120000
DTSTAMP:20260422T062433
CREATED:20230724T170054Z
LAST-MODIFIED:20251106T203608Z
UID:10007102-1743678000-1743681600@garthma.wales
SUMMARY:Holy Eucharist - St. John's Church
DESCRIPTION:Holy Eucharist followed by coffee.
URL:https://garthma.wales/events/midweek-eucharist-4/2025-04-03/
LOCATION:St John’s Church\, Danescourt\, Rachel Close\, Danescourt\, Cardiff\, CF5 2SH\, United Kingdom
CATEGORIES:Mid Week Worship
ATTACH;FMTTYPE=image/jpeg:https://garthma.wales/wp-content/uploads/2023/07/St-Johns-Church-Danescourt.jpg
END:VEVENT
BEGIN:VEVENT
DTSTART;TZID=Europe/London:20250408T100000
DTEND;TZID=Europe/London:20250408T110000
DTSTAMP:20260422T062433
CREATED:20240306T201615Z
LAST-MODIFIED:20251108T123655Z
UID:10008252-1744106400-1744110000@garthma.wales
SUMMARY:Holy Eucharist - St Mary & St. James
DESCRIPTION:Please join us for our Holy Eucharist Service at St. Mary and St. James’ Church\, Taffs Well.
URL:https://garthma.wales/events/midweek-eucharist-3-2-2/2025-04-08/
LOCATION:St Mary & St James Church\, Taff’s Well\, Church Street\, Taffs Well\, CF15 7PG\, United Kingdom
CATEGORIES:Mid Week Worship
ATTACH;FMTTYPE=image/jpeg:https://garthma.wales/wp-content/uploads/2023/07/candle-rotated.jpg
END:VEVENT
BEGIN:VEVENT
DTSTART;TZID=Europe/London:20250408T100000
DTEND;TZID=Europe/London:20250408T110000
DTSTAMP:20260422T062433
CREATED:20250325T114024Z
LAST-MODIFIED:20260225T135435Z
UID:10008512-1744106400-1744110000@garthma.wales
SUMMARY:Holy Eucharist - St. David's Church
DESCRIPTION:Holy Eucharist Service held at St. David’s Church\, Groesfaen at 10.00am.
URL:https://garthma.wales/events/midweek-worship-2-2-2/2025-04-08/
LOCATION:St David’s Church\, Groesfaen\, Llantrisant Road\, Groesfaen\, Pontyclun\, CF72 8NS\, United Kingdom
CATEGORIES:Mid Week Worship
ATTACH;FMTTYPE=image/jpeg:https://garthma.wales/wp-content/uploads/2023/01/Altar-Window-rotated.jpg
END:VEVENT
BEGIN:VEVENT
DTSTART;TZID=Europe/London:20250409T093000
DTEND;TZID=Europe/London:20250409T103000
DTSTAMP:20260422T062433
CREATED:20250325T114950Z
LAST-MODIFIED:20251108T123953Z
UID:10007992-1744191000-1744194600@garthma.wales
SUMMARY:Holy Eucharist - St Michael & All Angels Church
DESCRIPTION:Holy Eucharist in St Michael and All Angels.
URL:https://garthma.wales/events/midweek-eucharist-2-2/2025-04-09/
LOCATION:St Michael and All Angels Church\, Tongwynlais\, Merthyr Road\, Tongwynlais\, CF15 7LD\, United Kingdom
CATEGORIES:Mid Week Worship
ATTACH;FMTTYPE=image/jpeg:https://garthma.wales/wp-content/uploads/2023/08/St-Michaels-Patronal-festival-scaled.jpg
END:VEVENT
BEGIN:VEVENT
DTSTART;TZID=Europe/London:20250409T100000
DTEND;TZID=Europe/London:20250409T103000
DTSTAMP:20260422T062433
CREATED:20230910T193141Z
LAST-MODIFIED:20251108T124219Z
UID:10003997-1744192800-1744194600@garthma.wales
SUMMARY:Holy Eucharist - St. Catwg's Church
DESCRIPTION:A warm welcome awaits in our Holy Eucharist Service at St. Catwg’s Church\, Pentyrch at 10am on Wednesdays. Tea & Coffee provided after service.
URL:https://garthma.wales/events/holy-eucharist-st-catwgs-church-2/2025-04-09/
LOCATION:St Catwg’s Church\, Pentyrch\, Church Road\, Pentyrch\, CF15 9QF\, United Kingdom
CATEGORIES:Mid Week Worship
ATTACH;FMTTYPE=image/png:https://garthma.wales/wp-content/uploads/2023/01/window.png
END:VEVENT
BEGIN:VEVENT
DTSTART;TZID=Europe/London:20250409T100000
DTEND;TZID=Europe/London:20250409T110000
DTSTAMP:20260422T062433
CREATED:20250325T113535Z
LAST-MODIFIED:20251108T124032Z
UID:10007732-1744192800-1744196400@garthma.wales
SUMMARY:Holy Eucharist - Christ Church
DESCRIPTION:Join us for a Holy Eucharist service in Christ Church\, Radyr.
URL:https://garthma.wales/events/midweek-eucharist-6/2025-04-09/
LOCATION:Christ Church\, Radyr\, Heol Isaf\, Radyr\, Cardiff\, CF15 8DY\, United Kingdom
CATEGORIES:Mid Week Worship
ATTACH;FMTTYPE=image/jpeg:https://garthma.wales/wp-content/uploads/2023/01/Christ-Church.jpg
END:VEVENT
BEGIN:VEVENT
DTSTART;TZID=Europe/London:20250409T104500
DTEND;TZID=Europe/London:20250409T120000
DTSTAMP:20260422T062433
CREATED:20240306T202342Z
LAST-MODIFIED:20251108T124124Z
UID:10002726-1744195500-1744200000@garthma.wales
SUMMARY:Caffi Catwg - St Catwg's Church
DESCRIPTION:On Wednesday mornings at St Catwg’s\, we have a service at 10am which is immediately followed by an open coffee morning which starts at 10.45am and lasts until 12 noon. We call this gathering ‘Caffi Catwg’\, and about 20-30 people come – we are always keen to welcome new people. \nMost people who attend are retired but folk of all ages are welcome. Caffi Catwg is an opportunity to meet new people\, just chat with friends and we usually have a couple of fun games too\, whilst sat with our coffee and biscuits. \nWe’d love you to join us.
URL:https://garthma.wales/events/cafe-catwg-2/2025-04-09/
LOCATION:St Catwg’s Church\, Pentyrch\, Church Road\, Pentyrch\, CF15 9QF\, United Kingdom
CATEGORIES:Mid Week Worship
ATTACH;FMTTYPE=image/jpeg:https://garthma.wales/wp-content/uploads/2023/07/Caffi-Catwg-2.jpg
END:VEVENT
BEGIN:VEVENT
DTSTART;TZID=Europe/London:20250410T110000
DTEND;TZID=Europe/London:20250410T120000
DTSTAMP:20260422T062433
CREATED:20230724T170054Z
LAST-MODIFIED:20251106T203608Z
UID:10007103-1744282800-1744286400@garthma.wales
SUMMARY:Holy Eucharist - St. John's Church
DESCRIPTION:Holy Eucharist followed by coffee.
URL:https://garthma.wales/events/midweek-eucharist-4/2025-04-10/
LOCATION:St John’s Church\, Danescourt\, Rachel Close\, Danescourt\, Cardiff\, CF5 2SH\, United Kingdom
CATEGORIES:Mid Week Worship
ATTACH;FMTTYPE=image/jpeg:https://garthma.wales/wp-content/uploads/2023/07/St-Johns-Church-Danescourt.jpg
END:VEVENT
BEGIN:VEVENT
DTSTART;TZID=Europe/London:20250414T190000
DTEND;TZID=Europe/London:20250414T200000
DTSTAMP:20260422T062433
CREATED:20250331T105019Z
LAST-MODIFIED:20250331T105150Z
UID:10010105-1744657200-1744660800@garthma.wales
SUMMARY:Ministry Area joint service for Holy Week - St David's Church
DESCRIPTION:Please join us for this joint Ministry Area service.
URL:https://garthma.wales/events/ministry-area-joint-service-for-holy-week-st-davids-church/
LOCATION:St David’s Church\, Groesfaen\, Llantrisant Road\, Groesfaen\, Pontyclun\, CF72 8NS\, United Kingdom
CATEGORIES:Mid Week Worship
ATTACH;FMTTYPE=image/jpeg:https://garthma.wales/wp-content/uploads/2024/03/Palm-branches.jpg
END:VEVENT
BEGIN:VEVENT
DTSTART;TZID=Europe/London:20250415T100000
DTEND;TZID=Europe/London:20250415T110000
DTSTAMP:20260422T062433
CREATED:20240306T201615Z
LAST-MODIFIED:20251108T123655Z
UID:10008253-1744711200-1744714800@garthma.wales
SUMMARY:Holy Eucharist - St Mary & St. James
DESCRIPTION:Please join us for our Holy Eucharist Service at St. Mary and St. James’ Church\, Taffs Well.
URL:https://garthma.wales/events/midweek-eucharist-3-2-2/2025-04-15/
LOCATION:St Mary & St James Church\, Taff’s Well\, Church Street\, Taffs Well\, CF15 7PG\, United Kingdom
CATEGORIES:Mid Week Worship
ATTACH;FMTTYPE=image/jpeg:https://garthma.wales/wp-content/uploads/2023/07/candle-rotated.jpg
END:VEVENT
BEGIN:VEVENT
DTSTART;TZID=Europe/London:20250415T100000
DTEND;TZID=Europe/London:20250415T110000
DTSTAMP:20260422T062433
CREATED:20250325T114024Z
LAST-MODIFIED:20260225T135435Z
UID:10008513-1744711200-1744714800@garthma.wales
SUMMARY:Holy Eucharist - St. David's Church
DESCRIPTION:Holy Eucharist Service held at St. David’s Church\, Groesfaen at 10.00am.
URL:https://garthma.wales/events/midweek-worship-2-2-2/2025-04-15/
LOCATION:St David’s Church\, Groesfaen\, Llantrisant Road\, Groesfaen\, Pontyclun\, CF72 8NS\, United Kingdom
CATEGORIES:Mid Week Worship
ATTACH;FMTTYPE=image/jpeg:https://garthma.wales/wp-content/uploads/2023/01/Altar-Window-rotated.jpg
END:VEVENT
BEGIN:VEVENT
DTSTART;TZID=Europe/London:20250415T190000
DTEND;TZID=Europe/London:20250415T200000
DTSTAMP:20260422T062433
CREATED:20250331T105633Z
LAST-MODIFIED:20250331T105633Z
UID:10010106-1744743600-1744747200@garthma.wales
SUMMARY:Ministry Area joint service for Holy Week - St Michael and All Angels Church
DESCRIPTION:Please join us for this joint Ministry Area service.
URL:https://garthma.wales/events/ministry-area-joint-service-for-holy-week-st-michael-and-all-angels-church/
LOCATION:St Michael and All Angels Church\, Tongwynlais\, Merthyr Road\, Tongwynlais\, CF15 7LD\, United Kingdom
CATEGORIES:Mid Week Worship
ATTACH;FMTTYPE=image/jpeg:https://garthma.wales/wp-content/uploads/2024/03/Palm-branches.jpg
END:VEVENT
BEGIN:VEVENT
DTSTART;TZID=Europe/London:20250416T093000
DTEND;TZID=Europe/London:20250416T103000
DTSTAMP:20260422T062433
CREATED:20250325T114950Z
LAST-MODIFIED:20251108T123953Z
UID:10007993-1744795800-1744799400@garthma.wales
SUMMARY:Holy Eucharist - St Michael & All Angels Church
DESCRIPTION:Holy Eucharist in St Michael and All Angels.
URL:https://garthma.wales/events/midweek-eucharist-2-2/2025-04-16/
LOCATION:St Michael and All Angels Church\, Tongwynlais\, Merthyr Road\, Tongwynlais\, CF15 7LD\, United Kingdom
CATEGORIES:Mid Week Worship
ATTACH;FMTTYPE=image/jpeg:https://garthma.wales/wp-content/uploads/2023/08/St-Michaels-Patronal-festival-scaled.jpg
END:VEVENT
BEGIN:VEVENT
DTSTART;TZID=Europe/London:20250416T100000
DTEND;TZID=Europe/London:20250416T103000
DTSTAMP:20260422T062433
CREATED:20230910T193141Z
LAST-MODIFIED:20251108T124219Z
UID:10006954-1744797600-1744799400@garthma.wales
SUMMARY:Holy Eucharist - St. Catwg's Church
DESCRIPTION:A warm welcome awaits in our Holy Eucharist Service at St. Catwg’s Church\, Pentyrch at 10am on Wednesdays. Tea & Coffee provided after service.
URL:https://garthma.wales/events/holy-eucharist-st-catwgs-church-2/2025-04-16/
LOCATION:St Catwg’s Church\, Pentyrch\, Church Road\, Pentyrch\, CF15 9QF\, United Kingdom
CATEGORIES:Mid Week Worship
ATTACH;FMTTYPE=image/png:https://garthma.wales/wp-content/uploads/2023/01/window.png
END:VEVENT
BEGIN:VEVENT
DTSTART;TZID=Europe/London:20250416T100000
DTEND;TZID=Europe/London:20250416T110000
DTSTAMP:20260422T062433
CREATED:20250325T113535Z
LAST-MODIFIED:20251108T124032Z
UID:10007733-1744797600-1744801200@garthma.wales
SUMMARY:Holy Eucharist - Christ Church
DESCRIPTION:Join us for a Holy Eucharist service in Christ Church\, Radyr.
URL:https://garthma.wales/events/midweek-eucharist-6/2025-04-16/
LOCATION:Christ Church\, Radyr\, Heol Isaf\, Radyr\, Cardiff\, CF15 8DY\, United Kingdom
CATEGORIES:Mid Week Worship
ATTACH;FMTTYPE=image/jpeg:https://garthma.wales/wp-content/uploads/2023/01/Christ-Church.jpg
END:VEVENT
BEGIN:VEVENT
DTSTART;TZID=Europe/London:20250416T104500
DTEND;TZID=Europe/London:20250416T120000
DTSTAMP:20260422T062433
CREATED:20240306T202342Z
LAST-MODIFIED:20251108T124124Z
UID:10002727-1744800300-1744804800@garthma.wales
SUMMARY:Caffi Catwg - St Catwg's Church
DESCRIPTION:On Wednesday mornings at St Catwg’s\, we have a service at 10am which is immediately followed by an open coffee morning which starts at 10.45am and lasts until 12 noon. We call this gathering ‘Caffi Catwg’\, and about 20-30 people come – we are always keen to welcome new people. \nMost people who attend are retired but folk of all ages are welcome. Caffi Catwg is an opportunity to meet new people\, just chat with friends and we usually have a couple of fun games too\, whilst sat with our coffee and biscuits. \nWe’d love you to join us.
URL:https://garthma.wales/events/cafe-catwg-2/2025-04-16/
LOCATION:St Catwg’s Church\, Pentyrch\, Church Road\, Pentyrch\, CF15 9QF\, United Kingdom
CATEGORIES:Mid Week Worship
ATTACH;FMTTYPE=image/jpeg:https://garthma.wales/wp-content/uploads/2023/07/Caffi-Catwg-2.jpg
END:VEVENT
BEGIN:VEVENT
DTSTART;TZID=Europe/London:20250417T190000
DTEND;TZID=Europe/London:20250417T210000
DTSTAMP:20260422T062433
CREATED:20240306T203824Z
LAST-MODIFIED:20250331T110616Z
UID:10004722-1744916400-1744923600@garthma.wales
SUMMARY:Maundy Thursday: Holy Eucharist - St Mary's Church
DESCRIPTION:Please join us for this special Maundy Thursday Holy Eucharist service\, with washing of feet\, stripping the altar & watch until 9pm.
URL:https://garthma.wales/events/maundy-thursday-ministry-area-holy-eucharist-with-washing-of-feet-stripping-the-altar-watch-until-9pm/
LOCATION:St Mary’s Church\, St Fagans\, Crofft-y-Genau Road\, St Fagans\, CF5 6EL\, United Kingdom
CATEGORIES:Mid Week Worship
ATTACH;FMTTYPE=image/jpeg:https://garthma.wales/wp-content/uploads/2024/03/Maundy-Thursday.jpg
END:VEVENT
BEGIN:VEVENT
DTSTART;TZID=Europe/London:20250418T100000
DTEND;TZID=Europe/London:20250418T110000
DTSTAMP:20260422T062433
CREATED:20240223T103334Z
LAST-MODIFIED:20250331T111102Z
UID:10004670-1744970400-1744974000@garthma.wales
SUMMARY:Good Friday: Family Service
DESCRIPTION:Whether you are a family of faith or simply want to learn more about the Easter story\, all are welcome to join us\, as we pause to remember the ultimate act of love that took place on Good Friday.\nA short family friendly service followed by refreshments\, hot cross buns and crafts for the children in the Church Hall.
URL:https://garthma.wales/events/good-friday-family-service/
LOCATION:St John’s Church\, Danescourt\, Rachel Close\, Danescourt\, Cardiff\, CF5 2SH\, United Kingdom
CATEGORIES:Mid Week Worship
ATTACH;FMTTYPE=image/jpeg:https://garthma.wales/wp-content/uploads/2024/02/Good-Friday-Family-Service.jpg
END:VEVENT
BEGIN:VEVENT
DTSTART;TZID=Europe/London:20250419T200000
DTEND;TZID=Europe/London:20250419T210000
DTSTAMP:20260422T062433
CREATED:20250331T113252Z
LAST-MODIFIED:20250331T113252Z
UID:10010110-1745092800-1745096400@garthma.wales
SUMMARY:Easter Vigil - St Catwg's Church
DESCRIPTION:Come and join us for the Ministry Area Easter Vigil service.
URL:https://garthma.wales/events/easter-vigil-st-catwgs-church/
LOCATION:St Catwg’s Church\, Pentyrch\, Church Road\, Pentyrch\, CF15 9QF\, United Kingdom
CATEGORIES:Mid Week Worship
ATTACH;FMTTYPE=image/jpeg:https://garthma.wales/wp-content/uploads/2024/02/Good-Friday-Family-Service.jpg
END:VEVENT
BEGIN:VEVENT
DTSTART;TZID=Europe/London:20250429T100000
DTEND;TZID=Europe/London:20250429T110000
DTSTAMP:20260422T062433
CREATED:20240306T201615Z
LAST-MODIFIED:20251108T123655Z
UID:10008255-1745920800-1745924400@garthma.wales
SUMMARY:Holy Eucharist - St Mary & St. James
DESCRIPTION:Please join us for our Holy Eucharist Service at St. Mary and St. James’ Church\, Taffs Well.
URL:https://garthma.wales/events/midweek-eucharist-3-2-2/2025-04-29/
LOCATION:St Mary & St James Church\, Taff’s Well\, Church Street\, Taffs Well\, CF15 7PG\, United Kingdom
CATEGORIES:Mid Week Worship
ATTACH;FMTTYPE=image/jpeg:https://garthma.wales/wp-content/uploads/2023/07/candle-rotated.jpg
END:VEVENT
BEGIN:VEVENT
DTSTART;TZID=Europe/London:20250429T100000
DTEND;TZID=Europe/London:20250429T110000
DTSTAMP:20260422T062433
CREATED:20250325T114024Z
LAST-MODIFIED:20260225T135435Z
UID:10008515-1745920800-1745924400@garthma.wales
SUMMARY:Holy Eucharist - St. David's Church
DESCRIPTION:Holy Eucharist Service held at St. David’s Church\, Groesfaen at 10.00am.
URL:https://garthma.wales/events/midweek-worship-2-2-2/2025-04-29/
LOCATION:St David’s Church\, Groesfaen\, Llantrisant Road\, Groesfaen\, Pontyclun\, CF72 8NS\, United Kingdom
CATEGORIES:Mid Week Worship
ATTACH;FMTTYPE=image/jpeg:https://garthma.wales/wp-content/uploads/2023/01/Altar-Window-rotated.jpg
END:VEVENT
BEGIN:VEVENT
DTSTART;TZID=Europe/London:20250430T093000
DTEND;TZID=Europe/London:20250430T103000
DTSTAMP:20260422T062433
CREATED:20250325T114950Z
LAST-MODIFIED:20251108T123953Z
UID:10007995-1746005400-1746009000@garthma.wales
SUMMARY:Holy Eucharist - St Michael & All Angels Church
DESCRIPTION:Holy Eucharist in St Michael and All Angels.
URL:https://garthma.wales/events/midweek-eucharist-2-2/2025-04-30/
LOCATION:St Michael and All Angels Church\, Tongwynlais\, Merthyr Road\, Tongwynlais\, CF15 7LD\, United Kingdom
CATEGORIES:Mid Week Worship
ATTACH;FMTTYPE=image/jpeg:https://garthma.wales/wp-content/uploads/2023/08/St-Michaels-Patronal-festival-scaled.jpg
END:VEVENT
BEGIN:VEVENT
DTSTART;TZID=Europe/London:20250430T100000
DTEND;TZID=Europe/London:20250430T103000
DTSTAMP:20260422T062433
CREATED:20230910T193141Z
LAST-MODIFIED:20251108T124219Z
UID:10006955-1746007200-1746009000@garthma.wales
SUMMARY:Holy Eucharist - St. Catwg's Church
DESCRIPTION:A warm welcome awaits in our Holy Eucharist Service at St. Catwg’s Church\, Pentyrch at 10am on Wednesdays. Tea & Coffee provided after service.
URL:https://garthma.wales/events/holy-eucharist-st-catwgs-church-2/2025-04-30/
LOCATION:St Catwg’s Church\, Pentyrch\, Church Road\, Pentyrch\, CF15 9QF\, United Kingdom
CATEGORIES:Mid Week Worship
ATTACH;FMTTYPE=image/png:https://garthma.wales/wp-content/uploads/2023/01/window.png
END:VEVENT
BEGIN:VEVENT
DTSTART;TZID=Europe/London:20250430T100000
DTEND;TZID=Europe/London:20250430T110000
DTSTAMP:20260422T062433
CREATED:20250325T113535Z
LAST-MODIFIED:20251108T124032Z
UID:10007735-1746007200-1746010800@garthma.wales
SUMMARY:Holy Eucharist - Christ Church
DESCRIPTION:Join us for a Holy Eucharist service in Christ Church\, Radyr.
URL:https://garthma.wales/events/midweek-eucharist-6/2025-04-30/
LOCATION:Christ Church\, Radyr\, Heol Isaf\, Radyr\, Cardiff\, CF15 8DY\, United Kingdom
CATEGORIES:Mid Week Worship
ATTACH;FMTTYPE=image/jpeg:https://garthma.wales/wp-content/uploads/2023/01/Christ-Church.jpg
END:VEVENT
END:VCALENDAR