BEGIN:VCALENDAR
VERSION:2.0
PRODID:-//The Garth Ministry Area - ECPv6.15.20//NONSGML v1.0//EN
CALSCALE:GREGORIAN
METHOD:PUBLISH
X-ORIGINAL-URL:https://garthma.wales
X-WR-CALDESC:Events for The Garth Ministry Area
REFRESH-INTERVAL;VALUE=DURATION:PT1H
X-Robots-Tag:noindex
X-PUBLISHED-TTL:PT1H
BEGIN:VTIMEZONE
TZID:Europe/London
BEGIN:DAYLIGHT
TZOFFSETFROM:+0000
TZOFFSETTO:+0100
TZNAME:BST
DTSTART:20240331T010000
END:DAYLIGHT
BEGIN:STANDARD
TZOFFSETFROM:+0100
TZOFFSETTO:+0000
TZNAME:GMT
DTSTART:20241027T010000
END:STANDARD
BEGIN:DAYLIGHT
TZOFFSETFROM:+0000
TZOFFSETTO:+0100
TZNAME:BST
DTSTART:20250330T010000
END:DAYLIGHT
BEGIN:STANDARD
TZOFFSETFROM:+0100
TZOFFSETTO:+0000
TZNAME:GMT
DTSTART:20251026T010000
END:STANDARD
BEGIN:DAYLIGHT
TZOFFSETFROM:+0000
TZOFFSETTO:+0100
TZNAME:BST
DTSTART:20260329T010000
END:DAYLIGHT
BEGIN:STANDARD
TZOFFSETFROM:+0100
TZOFFSETTO:+0000
TZNAME:GMT
DTSTART:20261025T010000
END:STANDARD
END:VTIMEZONE
BEGIN:VEVENT
DTSTART;TZID=Europe/London:20250304T100000
DTEND;TZID=Europe/London:20250304T110000
DTSTAMP:20260422T022221
CREATED:20230910T193532Z
LAST-MODIFIED:20250317T133120Z
UID:10004206-1741082400-1741086000@garthma.wales
SUMMARY:Holy Eucharist - St. David's Church
DESCRIPTION:Holy Eucharist Service held at St. David’s Church\, Groesfaen at 10.00am.
URL:https://garthma.wales/events/midweek-worship-2-2/2025-03-04/
LOCATION:St David’s Church\, Groesfaen\, Llantrisant Road\, Groesfaen\, Pontyclun\, CF72 8NS\, United Kingdom
CATEGORIES:Mid Week Worship
ATTACH;FMTTYPE=image/jpeg:https://garthma.wales/wp-content/uploads/2023/01/Altar-Window-rotated.jpg
END:VEVENT
BEGIN:VEVENT
DTSTART;TZID=Europe/London:20250305T100000
DTEND;TZID=Europe/London:20250305T103000
DTSTAMP:20260422T022221
CREATED:20230910T193141Z
LAST-MODIFIED:20251108T124219Z
UID:10006951-1741168800-1741170600@garthma.wales
SUMMARY:Holy Eucharist - St. Catwg's Church
DESCRIPTION:A warm welcome awaits in our Holy Eucharist Service at St. Catwg’s Church\, Pentyrch at 10am on Wednesdays. Tea & Coffee provided after service.
URL:https://garthma.wales/events/holy-eucharist-st-catwgs-church-2/2025-03-05/
LOCATION:St Catwg’s Church\, Pentyrch\, Church Road\, Pentyrch\, CF15 9QF\, United Kingdom
CATEGORIES:Mid Week Worship
ATTACH;FMTTYPE=image/png:https://garthma.wales/wp-content/uploads/2023/01/window.png
END:VEVENT
BEGIN:VEVENT
DTSTART;TZID=Europe/London:20250305T104500
DTEND;TZID=Europe/London:20250305T120000
DTSTAMP:20260422T022221
CREATED:20240306T202342Z
LAST-MODIFIED:20251108T124124Z
UID:10002721-1741171500-1741176000@garthma.wales
SUMMARY:Caffi Catwg - St Catwg's Church
DESCRIPTION:On Wednesday mornings at St Catwg’s\, we have a service at 10am which is immediately followed by an open coffee morning which starts at 10.45am and lasts until 12 noon. We call this gathering ‘Caffi Catwg’\, and about 20-30 people come – we are always keen to welcome new people. \nMost people who attend are retired but folk of all ages are welcome. Caffi Catwg is an opportunity to meet new people\, just chat with friends and we usually have a couple of fun games too\, whilst sat with our coffee and biscuits. \nWe’d love you to join us.
URL:https://garthma.wales/events/cafe-catwg-2/2025-03-05/
LOCATION:St Catwg’s Church\, Pentyrch\, Church Road\, Pentyrch\, CF15 9QF\, United Kingdom
CATEGORIES:Mid Week Worship
ATTACH;FMTTYPE=image/jpeg:https://garthma.wales/wp-content/uploads/2023/07/Caffi-Catwg-2.jpg
END:VEVENT
BEGIN:VEVENT
DTSTART;TZID=Europe/London:20250306T110000
DTEND;TZID=Europe/London:20250306T120000
DTSTAMP:20260422T022221
CREATED:20230724T170054Z
LAST-MODIFIED:20251106T203608Z
UID:10007098-1741258800-1741262400@garthma.wales
SUMMARY:Holy Eucharist - St. John's Church
DESCRIPTION:Holy Eucharist followed by coffee.
URL:https://garthma.wales/events/midweek-eucharist-4/2025-03-06/
LOCATION:St John’s Church\, Danescourt\, Rachel Close\, Danescourt\, Cardiff\, CF5 2SH\, United Kingdom
CATEGORIES:Mid Week Worship
ATTACH;FMTTYPE=image/jpeg:https://garthma.wales/wp-content/uploads/2023/07/St-Johns-Church-Danescourt.jpg
END:VEVENT
BEGIN:VEVENT
DTSTART;TZID=Europe/London:20250311T100000
DTEND;TZID=Europe/London:20250311T110000
DTSTAMP:20260422T022221
CREATED:20230910T193532Z
LAST-MODIFIED:20250317T133120Z
UID:10006872-1741687200-1741690800@garthma.wales
SUMMARY:Holy Eucharist - St. David's Church
DESCRIPTION:Holy Eucharist Service held at St. David’s Church\, Groesfaen at 10.00am.
URL:https://garthma.wales/events/midweek-worship-2-2/2025-03-11/
LOCATION:St David’s Church\, Groesfaen\, Llantrisant Road\, Groesfaen\, Pontyclun\, CF72 8NS\, United Kingdom
CATEGORIES:Mid Week Worship
ATTACH;FMTTYPE=image/jpeg:https://garthma.wales/wp-content/uploads/2023/01/Altar-Window-rotated.jpg
END:VEVENT
BEGIN:VEVENT
DTSTART;TZID=Europe/London:20250312T100000
DTEND;TZID=Europe/London:20250312T103000
DTSTAMP:20260422T022221
CREATED:20230910T193141Z
LAST-MODIFIED:20251108T124219Z
UID:10003995-1741773600-1741775400@garthma.wales
SUMMARY:Holy Eucharist - St. Catwg's Church
DESCRIPTION:A warm welcome awaits in our Holy Eucharist Service at St. Catwg’s Church\, Pentyrch at 10am on Wednesdays. Tea & Coffee provided after service.
URL:https://garthma.wales/events/holy-eucharist-st-catwgs-church-2/2025-03-12/
LOCATION:St Catwg’s Church\, Pentyrch\, Church Road\, Pentyrch\, CF15 9QF\, United Kingdom
CATEGORIES:Mid Week Worship
ATTACH;FMTTYPE=image/png:https://garthma.wales/wp-content/uploads/2023/01/window.png
END:VEVENT
BEGIN:VEVENT
DTSTART;TZID=Europe/London:20250312T104500
DTEND;TZID=Europe/London:20250312T120000
DTSTAMP:20260422T022221
CREATED:20240306T202342Z
LAST-MODIFIED:20251108T124124Z
UID:10002722-1741776300-1741780800@garthma.wales
SUMMARY:Caffi Catwg - St Catwg's Church
DESCRIPTION:On Wednesday mornings at St Catwg’s\, we have a service at 10am which is immediately followed by an open coffee morning which starts at 10.45am and lasts until 12 noon. We call this gathering ‘Caffi Catwg’\, and about 20-30 people come – we are always keen to welcome new people. \nMost people who attend are retired but folk of all ages are welcome. Caffi Catwg is an opportunity to meet new people\, just chat with friends and we usually have a couple of fun games too\, whilst sat with our coffee and biscuits. \nWe’d love you to join us.
URL:https://garthma.wales/events/cafe-catwg-2/2025-03-12/
LOCATION:St Catwg’s Church\, Pentyrch\, Church Road\, Pentyrch\, CF15 9QF\, United Kingdom
CATEGORIES:Mid Week Worship
ATTACH;FMTTYPE=image/jpeg:https://garthma.wales/wp-content/uploads/2023/07/Caffi-Catwg-2.jpg
END:VEVENT
BEGIN:VEVENT
DTSTART;TZID=Europe/London:20250313T110000
DTEND;TZID=Europe/London:20250313T120000
DTSTAMP:20260422T022221
CREATED:20230724T170054Z
LAST-MODIFIED:20251106T203608Z
UID:10007099-1741863600-1741867200@garthma.wales
SUMMARY:Holy Eucharist - St. John's Church
DESCRIPTION:Holy Eucharist followed by coffee.
URL:https://garthma.wales/events/midweek-eucharist-4/2025-03-13/
LOCATION:St John’s Church\, Danescourt\, Rachel Close\, Danescourt\, Cardiff\, CF5 2SH\, United Kingdom
CATEGORIES:Mid Week Worship
ATTACH;FMTTYPE=image/jpeg:https://garthma.wales/wp-content/uploads/2023/07/St-Johns-Church-Danescourt.jpg
END:VEVENT
BEGIN:VEVENT
DTSTART;TZID=Europe/London:20250318T100000
DTEND;TZID=Europe/London:20250318T110000
DTSTAMP:20260422T022221
CREATED:20230910T193532Z
LAST-MODIFIED:20250317T133120Z
UID:10004207-1742292000-1742295600@garthma.wales
SUMMARY:Holy Eucharist - St. David's Church
DESCRIPTION:Holy Eucharist Service held at St. David’s Church\, Groesfaen at 10.00am.
URL:https://garthma.wales/events/midweek-worship-2-2/2025-03-18/
LOCATION:St David’s Church\, Groesfaen\, Llantrisant Road\, Groesfaen\, Pontyclun\, CF72 8NS\, United Kingdom
CATEGORIES:Mid Week Worship
ATTACH;FMTTYPE=image/jpeg:https://garthma.wales/wp-content/uploads/2023/01/Altar-Window-rotated.jpg
END:VEVENT
BEGIN:VEVENT
DTSTART;TZID=Europe/London:20250319T100000
DTEND;TZID=Europe/London:20250319T103000
DTSTAMP:20260422T022221
CREATED:20230910T193141Z
LAST-MODIFIED:20251108T124219Z
UID:10006952-1742378400-1742380200@garthma.wales
SUMMARY:Holy Eucharist - St. Catwg's Church
DESCRIPTION:A warm welcome awaits in our Holy Eucharist Service at St. Catwg’s Church\, Pentyrch at 10am on Wednesdays. Tea & Coffee provided after service.
URL:https://garthma.wales/events/holy-eucharist-st-catwgs-church-2/2025-03-19/
LOCATION:St Catwg’s Church\, Pentyrch\, Church Road\, Pentyrch\, CF15 9QF\, United Kingdom
CATEGORIES:Mid Week Worship
ATTACH;FMTTYPE=image/png:https://garthma.wales/wp-content/uploads/2023/01/window.png
END:VEVENT
BEGIN:VEVENT
DTSTART;TZID=Europe/London:20250319T104500
DTEND;TZID=Europe/London:20250319T120000
DTSTAMP:20260422T022221
CREATED:20240306T202342Z
LAST-MODIFIED:20251108T124124Z
UID:10002723-1742381100-1742385600@garthma.wales
SUMMARY:Caffi Catwg - St Catwg's Church
DESCRIPTION:On Wednesday mornings at St Catwg’s\, we have a service at 10am which is immediately followed by an open coffee morning which starts at 10.45am and lasts until 12 noon. We call this gathering ‘Caffi Catwg’\, and about 20-30 people come – we are always keen to welcome new people. \nMost people who attend are retired but folk of all ages are welcome. Caffi Catwg is an opportunity to meet new people\, just chat with friends and we usually have a couple of fun games too\, whilst sat with our coffee and biscuits. \nWe’d love you to join us.
URL:https://garthma.wales/events/cafe-catwg-2/2025-03-19/
LOCATION:St Catwg’s Church\, Pentyrch\, Church Road\, Pentyrch\, CF15 9QF\, United Kingdom
CATEGORIES:Mid Week Worship
ATTACH;FMTTYPE=image/jpeg:https://garthma.wales/wp-content/uploads/2023/07/Caffi-Catwg-2.jpg
END:VEVENT
BEGIN:VEVENT
DTSTART;TZID=Europe/London:20250320T110000
DTEND;TZID=Europe/London:20250320T120000
DTSTAMP:20260422T022221
CREATED:20230724T170054Z
LAST-MODIFIED:20251106T203608Z
UID:10007100-1742468400-1742472000@garthma.wales
SUMMARY:Holy Eucharist - St. John's Church
DESCRIPTION:Holy Eucharist followed by coffee.
URL:https://garthma.wales/events/midweek-eucharist-4/2025-03-20/
LOCATION:St John’s Church\, Danescourt\, Rachel Close\, Danescourt\, Cardiff\, CF5 2SH\, United Kingdom
CATEGORIES:Mid Week Worship
ATTACH;FMTTYPE=image/jpeg:https://garthma.wales/wp-content/uploads/2023/07/St-Johns-Church-Danescourt.jpg
END:VEVENT
BEGIN:VEVENT
DTSTART;TZID=Europe/London:20250326T093000
DTEND;TZID=Europe/London:20250326T103000
DTSTAMP:20260422T022221
CREATED:20250325T114950Z
LAST-MODIFIED:20251108T123953Z
UID:10001734-1742981400-1742985000@garthma.wales
SUMMARY:Holy Eucharist - St Michael & All Angels Church
DESCRIPTION:Holy Eucharist in St Michael and All Angels.
URL:https://garthma.wales/events/midweek-eucharist-2-2/2025-03-26/
LOCATION:St Michael and All Angels Church\, Tongwynlais\, Merthyr Road\, Tongwynlais\, CF15 7LD\, United Kingdom
CATEGORIES:Mid Week Worship
ATTACH;FMTTYPE=image/jpeg:https://garthma.wales/wp-content/uploads/2023/08/St-Michaels-Patronal-festival-scaled.jpg
END:VEVENT
BEGIN:VEVENT
DTSTART;TZID=Europe/London:20250326T100000
DTEND;TZID=Europe/London:20250326T103000
DTSTAMP:20260422T022221
CREATED:20230910T193141Z
LAST-MODIFIED:20251108T124219Z
UID:10003996-1742983200-1742985000@garthma.wales
SUMMARY:Holy Eucharist - St. Catwg's Church
DESCRIPTION:A warm welcome awaits in our Holy Eucharist Service at St. Catwg’s Church\, Pentyrch at 10am on Wednesdays. Tea & Coffee provided after service.
URL:https://garthma.wales/events/holy-eucharist-st-catwgs-church-2/2025-03-26/
LOCATION:St Catwg’s Church\, Pentyrch\, Church Road\, Pentyrch\, CF15 9QF\, United Kingdom
CATEGORIES:Mid Week Worship
ATTACH;FMTTYPE=image/png:https://garthma.wales/wp-content/uploads/2023/01/window.png
END:VEVENT
BEGIN:VEVENT
DTSTART;TZID=Europe/London:20250326T100000
DTEND;TZID=Europe/London:20250326T110000
DTSTAMP:20260422T022221
CREATED:20250325T113535Z
LAST-MODIFIED:20251108T124032Z
UID:10000301-1742983200-1742986800@garthma.wales
SUMMARY:Holy Eucharist - Christ Church
DESCRIPTION:Join us for a Holy Eucharist service in Christ Church\, Radyr.
URL:https://garthma.wales/events/midweek-eucharist-6/2025-03-26/
LOCATION:Christ Church\, Radyr\, Heol Isaf\, Radyr\, Cardiff\, CF15 8DY\, United Kingdom
CATEGORIES:Mid Week Worship
ATTACH;FMTTYPE=image/jpeg:https://garthma.wales/wp-content/uploads/2023/01/Christ-Church.jpg
END:VEVENT
BEGIN:VEVENT
DTSTART;TZID=Europe/London:20250326T104500
DTEND;TZID=Europe/London:20250326T120000
DTSTAMP:20260422T022221
CREATED:20240306T202342Z
LAST-MODIFIED:20251108T124124Z
UID:10002724-1742985900-1742990400@garthma.wales
SUMMARY:Caffi Catwg - St Catwg's Church
DESCRIPTION:On Wednesday mornings at St Catwg’s\, we have a service at 10am which is immediately followed by an open coffee morning which starts at 10.45am and lasts until 12 noon. We call this gathering ‘Caffi Catwg’\, and about 20-30 people come – we are always keen to welcome new people. \nMost people who attend are retired but folk of all ages are welcome. Caffi Catwg is an opportunity to meet new people\, just chat with friends and we usually have a couple of fun games too\, whilst sat with our coffee and biscuits. \nWe’d love you to join us.
URL:https://garthma.wales/events/cafe-catwg-2/2025-03-26/
LOCATION:St Catwg’s Church\, Pentyrch\, Church Road\, Pentyrch\, CF15 9QF\, United Kingdom
CATEGORIES:Mid Week Worship
ATTACH;FMTTYPE=image/jpeg:https://garthma.wales/wp-content/uploads/2023/07/Caffi-Catwg-2.jpg
END:VEVENT
BEGIN:VEVENT
DTSTART;TZID=Europe/London:20250327T110000
DTEND;TZID=Europe/London:20250327T120000
DTSTAMP:20260422T022221
CREATED:20230724T170054Z
LAST-MODIFIED:20251106T203608Z
UID:10007101-1743073200-1743076800@garthma.wales
SUMMARY:Holy Eucharist - St. John's Church
DESCRIPTION:Holy Eucharist followed by coffee.
URL:https://garthma.wales/events/midweek-eucharist-4/2025-03-27/
LOCATION:St John’s Church\, Danescourt\, Rachel Close\, Danescourt\, Cardiff\, CF5 2SH\, United Kingdom
CATEGORIES:Mid Week Worship
ATTACH;FMTTYPE=image/jpeg:https://garthma.wales/wp-content/uploads/2023/07/St-Johns-Church-Danescourt.jpg
END:VEVENT
END:VCALENDAR