BEGIN:VCALENDAR
VERSION:2.0
PRODID:-//The Garth Ministry Area - ECPv6.15.20//NONSGML v1.0//EN
CALSCALE:GREGORIAN
METHOD:PUBLISH
X-ORIGINAL-URL:https://garthma.wales
X-WR-CALDESC:Events for The Garth Ministry Area
REFRESH-INTERVAL;VALUE=DURATION:PT1H
X-Robots-Tag:noindex
X-PUBLISHED-TTL:PT1H
BEGIN:VTIMEZONE
TZID:Europe/London
BEGIN:DAYLIGHT
TZOFFSETFROM:+0000
TZOFFSETTO:+0100
TZNAME:BST
DTSTART:20230326T010000
END:DAYLIGHT
BEGIN:STANDARD
TZOFFSETFROM:+0100
TZOFFSETTO:+0000
TZNAME:GMT
DTSTART:20231029T010000
END:STANDARD
BEGIN:DAYLIGHT
TZOFFSETFROM:+0000
TZOFFSETTO:+0100
TZNAME:BST
DTSTART:20240331T010000
END:DAYLIGHT
BEGIN:STANDARD
TZOFFSETFROM:+0100
TZOFFSETTO:+0000
TZNAME:GMT
DTSTART:20241027T010000
END:STANDARD
BEGIN:DAYLIGHT
TZOFFSETFROM:+0000
TZOFFSETTO:+0100
TZNAME:BST
DTSTART:20250330T010000
END:DAYLIGHT
BEGIN:STANDARD
TZOFFSETFROM:+0100
TZOFFSETTO:+0000
TZNAME:GMT
DTSTART:20251026T010000
END:STANDARD
END:VTIMEZONE
BEGIN:VEVENT
DTSTART;TZID=Europe/London:20241203T100000
DTEND;TZID=Europe/London:20241203T110000
DTSTAMP:20260421T032613
CREATED:20230910T193532Z
LAST-MODIFIED:20250317T133120Z
UID:10006865-1733220000-1733223600@garthma.wales
SUMMARY:Holy Eucharist - St. David's Church
DESCRIPTION:Holy Eucharist Service held at St. David’s Church\, Groesfaen at 10.00am.
URL:https://garthma.wales/events/midweek-worship-2-2/2024-12-03/
LOCATION:St David’s Church\, Groesfaen\, Llantrisant Road\, Groesfaen\, Pontyclun\, CF72 8NS\, United Kingdom
CATEGORIES:Mid Week Worship
ATTACH;FMTTYPE=image/jpeg:https://garthma.wales/wp-content/uploads/2023/01/Altar-Window-rotated.jpg
END:VEVENT
BEGIN:VEVENT
DTSTART;TZID=Europe/London:20241204T100000
DTEND;TZID=Europe/London:20241204T103000
DTSTAMP:20260421T032613
CREATED:20230910T193141Z
LAST-MODIFIED:20251108T124219Z
UID:10003988-1733306400-1733308200@garthma.wales
SUMMARY:Holy Eucharist - St. Catwg's Church
DESCRIPTION:A warm welcome awaits in our Holy Eucharist Service at St. Catwg’s Church\, Pentyrch at 10am on Wednesdays. Tea & Coffee provided after service.
URL:https://garthma.wales/events/holy-eucharist-st-catwgs-church-2/2024-12-04/
LOCATION:St Catwg’s Church\, Pentyrch\, Church Road\, Pentyrch\, CF15 9QF\, United Kingdom
CATEGORIES:Mid Week Worship
ATTACH;FMTTYPE=image/png:https://garthma.wales/wp-content/uploads/2023/01/window.png
END:VEVENT
BEGIN:VEVENT
DTSTART;TZID=Europe/London:20241204T104500
DTEND;TZID=Europe/London:20241204T120000
DTSTAMP:20260421T032613
CREATED:20240306T202342Z
LAST-MODIFIED:20251108T124124Z
UID:10002708-1733309100-1733313600@garthma.wales
SUMMARY:Caffi Catwg - St Catwg's Church
DESCRIPTION:On Wednesday mornings at St Catwg’s\, we have a service at 10am which is immediately followed by an open coffee morning which starts at 10.45am and lasts until 12 noon. We call this gathering ‘Caffi Catwg’\, and about 20-30 people come – we are always keen to welcome new people. \nMost people who attend are retired but folk of all ages are welcome. Caffi Catwg is an opportunity to meet new people\, just chat with friends and we usually have a couple of fun games too\, whilst sat with our coffee and biscuits. \nWe’d love you to join us.
URL:https://garthma.wales/events/cafe-catwg-2/2024-12-04/
LOCATION:St Catwg’s Church\, Pentyrch\, Church Road\, Pentyrch\, CF15 9QF\, United Kingdom
CATEGORIES:Mid Week Worship
ATTACH;FMTTYPE=image/jpeg:https://garthma.wales/wp-content/uploads/2023/07/Caffi-Catwg-2.jpg
END:VEVENT
BEGIN:VEVENT
DTSTART;TZID=Europe/London:20241205T110000
DTEND;TZID=Europe/London:20241205T120000
DTSTAMP:20260421T032613
CREATED:20230724T170054Z
LAST-MODIFIED:20251106T203608Z
UID:10007085-1733396400-1733400000@garthma.wales
SUMMARY:Holy Eucharist - St. John's Church
DESCRIPTION:Holy Eucharist followed by coffee.
URL:https://garthma.wales/events/midweek-eucharist-4/2024-12-05/
LOCATION:St John’s Church\, Danescourt\, Rachel Close\, Danescourt\, Cardiff\, CF5 2SH\, United Kingdom
CATEGORIES:Mid Week Worship
ATTACH;FMTTYPE=image/jpeg:https://garthma.wales/wp-content/uploads/2023/07/St-Johns-Church-Danescourt.jpg
END:VEVENT
BEGIN:VEVENT
DTSTART;TZID=Europe/London:20241210T100000
DTEND;TZID=Europe/London:20241210T110000
DTSTAMP:20260421T032614
CREATED:20230910T193532Z
LAST-MODIFIED:20250317T133120Z
UID:10004200-1733824800-1733828400@garthma.wales
SUMMARY:Holy Eucharist - St. David's Church
DESCRIPTION:Holy Eucharist Service held at St. David’s Church\, Groesfaen at 10.00am.
URL:https://garthma.wales/events/midweek-worship-2-2/2024-12-10/
LOCATION:St David’s Church\, Groesfaen\, Llantrisant Road\, Groesfaen\, Pontyclun\, CF72 8NS\, United Kingdom
CATEGORIES:Mid Week Worship
ATTACH;FMTTYPE=image/jpeg:https://garthma.wales/wp-content/uploads/2023/01/Altar-Window-rotated.jpg
END:VEVENT
BEGIN:VEVENT
DTSTART;TZID=Europe/London:20241211T100000
DTEND;TZID=Europe/London:20241211T103000
DTSTAMP:20260421T032614
CREATED:20230910T193141Z
LAST-MODIFIED:20251108T124219Z
UID:10006945-1733911200-1733913000@garthma.wales
SUMMARY:Holy Eucharist - St. Catwg's Church
DESCRIPTION:A warm welcome awaits in our Holy Eucharist Service at St. Catwg’s Church\, Pentyrch at 10am on Wednesdays. Tea & Coffee provided after service.
URL:https://garthma.wales/events/holy-eucharist-st-catwgs-church-2/2024-12-11/
LOCATION:St Catwg’s Church\, Pentyrch\, Church Road\, Pentyrch\, CF15 9QF\, United Kingdom
CATEGORIES:Mid Week Worship
ATTACH;FMTTYPE=image/png:https://garthma.wales/wp-content/uploads/2023/01/window.png
END:VEVENT
BEGIN:VEVENT
DTSTART;TZID=Europe/London:20241211T104500
DTEND;TZID=Europe/London:20241211T120000
DTSTAMP:20260421T032614
CREATED:20240306T202342Z
LAST-MODIFIED:20251108T124124Z
UID:10002709-1733913900-1733918400@garthma.wales
SUMMARY:Caffi Catwg - St Catwg's Church
DESCRIPTION:On Wednesday mornings at St Catwg’s\, we have a service at 10am which is immediately followed by an open coffee morning which starts at 10.45am and lasts until 12 noon. We call this gathering ‘Caffi Catwg’\, and about 20-30 people come – we are always keen to welcome new people. \nMost people who attend are retired but folk of all ages are welcome. Caffi Catwg is an opportunity to meet new people\, just chat with friends and we usually have a couple of fun games too\, whilst sat with our coffee and biscuits. \nWe’d love you to join us.
URL:https://garthma.wales/events/cafe-catwg-2/2024-12-11/
LOCATION:St Catwg’s Church\, Pentyrch\, Church Road\, Pentyrch\, CF15 9QF\, United Kingdom
CATEGORIES:Mid Week Worship
ATTACH;FMTTYPE=image/jpeg:https://garthma.wales/wp-content/uploads/2023/07/Caffi-Catwg-2.jpg
END:VEVENT
BEGIN:VEVENT
DTSTART;TZID=Europe/London:20241212T110000
DTEND;TZID=Europe/London:20241212T120000
DTSTAMP:20260421T032614
CREATED:20230724T170054Z
LAST-MODIFIED:20251106T203608Z
UID:10007086-1734001200-1734004800@garthma.wales
SUMMARY:Holy Eucharist - St. John's Church
DESCRIPTION:Holy Eucharist followed by coffee.
URL:https://garthma.wales/events/midweek-eucharist-4/2024-12-12/
LOCATION:St John’s Church\, Danescourt\, Rachel Close\, Danescourt\, Cardiff\, CF5 2SH\, United Kingdom
CATEGORIES:Mid Week Worship
ATTACH;FMTTYPE=image/jpeg:https://garthma.wales/wp-content/uploads/2023/07/St-Johns-Church-Danescourt.jpg
END:VEVENT
BEGIN:VEVENT
DTSTART;TZID=Europe/London:20241217T100000
DTEND;TZID=Europe/London:20241217T110000
DTSTAMP:20260421T032614
CREATED:20230910T193532Z
LAST-MODIFIED:20250317T133120Z
UID:10006866-1734429600-1734433200@garthma.wales
SUMMARY:Holy Eucharist - St. David's Church
DESCRIPTION:Holy Eucharist Service held at St. David’s Church\, Groesfaen at 10.00am.
URL:https://garthma.wales/events/midweek-worship-2-2/2024-12-17/
LOCATION:St David’s Church\, Groesfaen\, Llantrisant Road\, Groesfaen\, Pontyclun\, CF72 8NS\, United Kingdom
CATEGORIES:Mid Week Worship
ATTACH;FMTTYPE=image/jpeg:https://garthma.wales/wp-content/uploads/2023/01/Altar-Window-rotated.jpg
END:VEVENT
BEGIN:VEVENT
DTSTART;TZID=Europe/London:20241218T100000
DTEND;TZID=Europe/London:20241218T103000
DTSTAMP:20260421T032614
CREATED:20230910T193141Z
LAST-MODIFIED:20251108T124219Z
UID:10003989-1734516000-1734517800@garthma.wales
SUMMARY:Holy Eucharist - St. Catwg's Church
DESCRIPTION:A warm welcome awaits in our Holy Eucharist Service at St. Catwg’s Church\, Pentyrch at 10am on Wednesdays. Tea & Coffee provided after service.
URL:https://garthma.wales/events/holy-eucharist-st-catwgs-church-2/2024-12-18/
LOCATION:St Catwg’s Church\, Pentyrch\, Church Road\, Pentyrch\, CF15 9QF\, United Kingdom
CATEGORIES:Mid Week Worship
ATTACH;FMTTYPE=image/png:https://garthma.wales/wp-content/uploads/2023/01/window.png
END:VEVENT
BEGIN:VEVENT
DTSTART;TZID=Europe/London:20241218T104500
DTEND;TZID=Europe/London:20241218T120000
DTSTAMP:20260421T032614
CREATED:20240306T202342Z
LAST-MODIFIED:20251108T124124Z
UID:10002710-1734518700-1734523200@garthma.wales
SUMMARY:Caffi Catwg - St Catwg's Church
DESCRIPTION:On Wednesday mornings at St Catwg’s\, we have a service at 10am which is immediately followed by an open coffee morning which starts at 10.45am and lasts until 12 noon. We call this gathering ‘Caffi Catwg’\, and about 20-30 people come – we are always keen to welcome new people. \nMost people who attend are retired but folk of all ages are welcome. Caffi Catwg is an opportunity to meet new people\, just chat with friends and we usually have a couple of fun games too\, whilst sat with our coffee and biscuits. \nWe’d love you to join us.
URL:https://garthma.wales/events/cafe-catwg-2/2024-12-18/
LOCATION:St Catwg’s Church\, Pentyrch\, Church Road\, Pentyrch\, CF15 9QF\, United Kingdom
CATEGORIES:Mid Week Worship
ATTACH;FMTTYPE=image/jpeg:https://garthma.wales/wp-content/uploads/2023/07/Caffi-Catwg-2.jpg
END:VEVENT
BEGIN:VEVENT
DTSTART;TZID=Europe/London:20241219T110000
DTEND;TZID=Europe/London:20241219T120000
DTSTAMP:20260421T032614
CREATED:20230724T170054Z
LAST-MODIFIED:20251106T203608Z
UID:10007087-1734606000-1734609600@garthma.wales
SUMMARY:Holy Eucharist - St. John's Church
DESCRIPTION:Holy Eucharist followed by coffee.
URL:https://garthma.wales/events/midweek-eucharist-4/2024-12-19/
LOCATION:St John’s Church\, Danescourt\, Rachel Close\, Danescourt\, Cardiff\, CF5 2SH\, United Kingdom
CATEGORIES:Mid Week Worship
ATTACH;FMTTYPE=image/jpeg:https://garthma.wales/wp-content/uploads/2023/07/St-Johns-Church-Danescourt.jpg
END:VEVENT
BEGIN:VEVENT
DTSTART;TZID=Europe/London:20241224T100000
DTEND;TZID=Europe/London:20241224T110000
DTSTAMP:20260421T032614
CREATED:20230910T193532Z
LAST-MODIFIED:20250317T133120Z
UID:10004201-1735034400-1735038000@garthma.wales
SUMMARY:Holy Eucharist - St. David's Church
DESCRIPTION:Holy Eucharist Service held at St. David’s Church\, Groesfaen at 10.00am.
URL:https://garthma.wales/events/midweek-worship-2-2/2024-12-24/
LOCATION:St David’s Church\, Groesfaen\, Llantrisant Road\, Groesfaen\, Pontyclun\, CF72 8NS\, United Kingdom
CATEGORIES:Mid Week Worship
ATTACH;FMTTYPE=image/jpeg:https://garthma.wales/wp-content/uploads/2023/01/Altar-Window-rotated.jpg
END:VEVENT
BEGIN:VEVENT
DTSTART;TZID=Europe/London:20241225T100000
DTEND;TZID=Europe/London:20241225T103000
DTSTAMP:20260421T032614
CREATED:20230910T193141Z
LAST-MODIFIED:20251108T124219Z
UID:10006946-1735120800-1735122600@garthma.wales
SUMMARY:Holy Eucharist - St. Catwg's Church
DESCRIPTION:A warm welcome awaits in our Holy Eucharist Service at St. Catwg’s Church\, Pentyrch at 10am on Wednesdays. Tea & Coffee provided after service.
URL:https://garthma.wales/events/holy-eucharist-st-catwgs-church-2/2024-12-25/
LOCATION:St Catwg’s Church\, Pentyrch\, Church Road\, Pentyrch\, CF15 9QF\, United Kingdom
CATEGORIES:Mid Week Worship
ATTACH;FMTTYPE=image/png:https://garthma.wales/wp-content/uploads/2023/01/window.png
END:VEVENT
BEGIN:VEVENT
DTSTART;TZID=Europe/London:20241225T104500
DTEND;TZID=Europe/London:20241225T120000
DTSTAMP:20260421T032614
CREATED:20240306T202342Z
LAST-MODIFIED:20251108T124124Z
UID:10002711-1735123500-1735128000@garthma.wales
SUMMARY:Caffi Catwg - St Catwg's Church
DESCRIPTION:On Wednesday mornings at St Catwg’s\, we have a service at 10am which is immediately followed by an open coffee morning which starts at 10.45am and lasts until 12 noon. We call this gathering ‘Caffi Catwg’\, and about 20-30 people come – we are always keen to welcome new people. \nMost people who attend are retired but folk of all ages are welcome. Caffi Catwg is an opportunity to meet new people\, just chat with friends and we usually have a couple of fun games too\, whilst sat with our coffee and biscuits. \nWe’d love you to join us.
URL:https://garthma.wales/events/cafe-catwg-2/2024-12-25/
LOCATION:St Catwg’s Church\, Pentyrch\, Church Road\, Pentyrch\, CF15 9QF\, United Kingdom
CATEGORIES:Mid Week Worship
ATTACH;FMTTYPE=image/jpeg:https://garthma.wales/wp-content/uploads/2023/07/Caffi-Catwg-2.jpg
END:VEVENT
BEGIN:VEVENT
DTSTART;TZID=Europe/London:20241226T110000
DTEND;TZID=Europe/London:20241226T120000
DTSTAMP:20260421T032614
CREATED:20230724T170054Z
LAST-MODIFIED:20251106T203608Z
UID:10007088-1735210800-1735214400@garthma.wales
SUMMARY:Holy Eucharist - St. John's Church
DESCRIPTION:Holy Eucharist followed by coffee.
URL:https://garthma.wales/events/midweek-eucharist-4/2024-12-26/
LOCATION:St John’s Church\, Danescourt\, Rachel Close\, Danescourt\, Cardiff\, CF5 2SH\, United Kingdom
CATEGORIES:Mid Week Worship
ATTACH;FMTTYPE=image/jpeg:https://garthma.wales/wp-content/uploads/2023/07/St-Johns-Church-Danescourt.jpg
END:VEVENT
BEGIN:VEVENT
DTSTART;TZID=Europe/London:20241231T100000
DTEND;TZID=Europe/London:20241231T110000
DTSTAMP:20260421T032614
CREATED:20230910T193532Z
LAST-MODIFIED:20250317T133120Z
UID:10006867-1735639200-1735642800@garthma.wales
SUMMARY:Holy Eucharist - St. David's Church
DESCRIPTION:Holy Eucharist Service held at St. David’s Church\, Groesfaen at 10.00am.
URL:https://garthma.wales/events/midweek-worship-2-2/2024-12-31/
LOCATION:St David’s Church\, Groesfaen\, Llantrisant Road\, Groesfaen\, Pontyclun\, CF72 8NS\, United Kingdom
CATEGORIES:Mid Week Worship
ATTACH;FMTTYPE=image/jpeg:https://garthma.wales/wp-content/uploads/2023/01/Altar-Window-rotated.jpg
END:VEVENT
END:VCALENDAR