BEGIN:VCALENDAR
VERSION:2.0
PRODID:-//The Garth Ministry Area - ECPv6.15.20//NONSGML v1.0//EN
CALSCALE:GREGORIAN
METHOD:PUBLISH
X-WR-CALNAME:The Garth Ministry Area
X-ORIGINAL-URL:https://garthma.wales
X-WR-CALDESC:Events for The Garth Ministry Area
REFRESH-INTERVAL;VALUE=DURATION:PT1H
X-Robots-Tag:noindex
X-PUBLISHED-TTL:PT1H
BEGIN:VTIMEZONE
TZID:Europe/London
BEGIN:DAYLIGHT
TZOFFSETFROM:+0000
TZOFFSETTO:+0100
TZNAME:BST
DTSTART:20220327T010000
END:DAYLIGHT
BEGIN:STANDARD
TZOFFSETFROM:+0100
TZOFFSETTO:+0000
TZNAME:GMT
DTSTART:20221030T010000
END:STANDARD
BEGIN:DAYLIGHT
TZOFFSETFROM:+0000
TZOFFSETTO:+0100
TZNAME:BST
DTSTART:20230326T010000
END:DAYLIGHT
BEGIN:STANDARD
TZOFFSETFROM:+0100
TZOFFSETTO:+0000
TZNAME:GMT
DTSTART:20231029T010000
END:STANDARD
BEGIN:DAYLIGHT
TZOFFSETFROM:+0000
TZOFFSETTO:+0100
TZNAME:BST
DTSTART:20240331T010000
END:DAYLIGHT
BEGIN:STANDARD
TZOFFSETFROM:+0100
TZOFFSETTO:+0000
TZNAME:GMT
DTSTART:20241027T010000
END:STANDARD
END:VTIMEZONE
BEGIN:VEVENT
DTSTART;TZID=Europe/London:20230905T100000
DTEND;TZID=Europe/London:20230905T110000
DTSTAMP:20260420T032903
CREATED:20230130T183004Z
LAST-MODIFIED:20230807T192454Z
UID:10001770-1693908000-1693911600@garthma.wales
SUMMARY:Holy Eucharist - St Mary & St. James
DESCRIPTION:Please join us for our Holy Eucharist Service at St. Mary and St. James’ Church\, Taffs Well.
URL:https://garthma.wales/events/midweek-eucharist-3/2023-09-05/
LOCATION:St Mary & St James Church\, Taff’s Well\, Church Street\, Taffs Well\, CF15 7PG\, United Kingdom
CATEGORIES:Mid Week Worship
ATTACH;FMTTYPE=image/jpeg:https://garthma.wales/wp-content/uploads/2023/07/candle-rotated.jpg
END:VEVENT
BEGIN:VEVENT
DTSTART;TZID=Europe/London:20230905T100000
DTEND;TZID=Europe/London:20230905T110000
DTSTAMP:20260420T032903
CREATED:20230910T193532Z
LAST-MODIFIED:20250317T133120Z
UID:10000939-1693908000-1693911600@garthma.wales
SUMMARY:Holy Eucharist - St. David's Church
DESCRIPTION:Holy Eucharist Service held at St. David’s Church\, Groesfaen at 10.00am.
URL:https://garthma.wales/events/midweek-worship-2-2/2023-09-05/
LOCATION:St David’s Church\, Groesfaen\, Llantrisant Road\, Groesfaen\, Pontyclun\, CF72 8NS\, United Kingdom
CATEGORIES:Mid Week Worship
ATTACH;FMTTYPE=image/jpeg:https://garthma.wales/wp-content/uploads/2023/01/Altar-Window-rotated.jpg
END:VEVENT
BEGIN:VEVENT
DTSTART;TZID=Europe/London:20230906T093000
DTEND;TZID=Europe/London:20230906T103000
DTSTAMP:20260420T032903
CREATED:20230116T211122Z
LAST-MODIFIED:20230808T185650Z
UID:10000237-1693992600-1693996200@garthma.wales
SUMMARY:Holy Eucharist - Christ Church
DESCRIPTION:In the Lady Chapel of Christ Church\, Radyr
URL:https://garthma.wales/events/midweek-eucharist/2023-09-06/
LOCATION:Christ Church\, Radyr\, Heol Isaf\, Radyr\, Cardiff\, CF15 8DY\, United Kingdom
CATEGORIES:Mid Week Worship
ATTACH;FMTTYPE=image/jpeg:https://garthma.wales/wp-content/uploads/2023/01/Christ-Church.jpg
END:VEVENT
BEGIN:VEVENT
DTSTART;TZID=Europe/London:20230906T100000
DTEND;TZID=Europe/London:20230906T103000
DTSTAMP:20260420T032903
CREATED:20230830T130207Z
LAST-MODIFIED:20230830T130207Z
UID:10003495-1693994400-1693996200@garthma.wales
SUMMARY:Holy Eucharist - St. Catwg's Church
DESCRIPTION:A warm welcome awaits in our Holy Eucharist Service at St. Catwg’s Church Pentyrch on alternate Wednesdays (Morning Prayer takes place in the weeks where no Eucharist service). Tea & Coffee provided after service.
URL:https://garthma.wales/events/holy-eucharist-st-catwgs-church/2023-09-06/
LOCATION:St Catwg’s Church\, Pentyrch\, Church Road\, Pentyrch\, CF15 9QF\, United Kingdom
CATEGORIES:Mid Week Worship
ATTACH;FMTTYPE=image/png:https://garthma.wales/wp-content/uploads/2023/01/window.png
END:VEVENT
BEGIN:VEVENT
DTSTART;TZID=Europe/London:20230906T104500
DTEND;TZID=Europe/London:20230906T120000
DTSTAMP:20260420T032903
CREATED:20230807T190644Z
LAST-MODIFIED:20240108T143329Z
UID:10002643-1693997100-1694001600@garthma.wales
SUMMARY:Caffi Catwg - St Catwg's Church
DESCRIPTION:On Wednesday mornings at St Catwg’s\, we have a service at 10am which is immediately followed by an open coffee morning which starts at 10.45am and lasts until 12 noon. We call this gathering ‘Caffi Catwg’\, and about 20-30 people come – we are always keen to welcome new people. \nMost people who attend are retired but folk of all ages are welcome. Caffi Catwg is an opportunity to meet new people\, just chat with friends and we usually have a couple of fun games too\, whilst sat with our coffee and biscuits. \nWe’d love you to join us.
URL:https://garthma.wales/events/cafe-catwg/2023-09-06/
LOCATION:St Catwg’s Church\, Pentyrch\, Church Road\, Pentyrch\, CF15 9QF\, United Kingdom
CATEGORIES:Mid Week Worship
ATTACH;FMTTYPE=image/jpeg:https://garthma.wales/wp-content/uploads/2023/07/Caffi-Catwg-2.jpg
END:VEVENT
BEGIN:VEVENT
DTSTART;TZID=Europe/London:20230907T110000
DTEND;TZID=Europe/London:20230907T120000
DTSTAMP:20260420T032903
CREATED:20230724T170054Z
LAST-MODIFIED:20251106T203608Z
UID:10001900-1694084400-1694088000@garthma.wales
SUMMARY:Holy Eucharist - St. John's Church
DESCRIPTION:Holy Eucharist followed by coffee.
URL:https://garthma.wales/events/midweek-eucharist-4/2023-09-07/
LOCATION:St John’s Church\, Danescourt\, Rachel Close\, Danescourt\, Cardiff\, CF5 2SH\, United Kingdom
CATEGORIES:Mid Week Worship
ATTACH;FMTTYPE=image/jpeg:https://garthma.wales/wp-content/uploads/2023/07/St-Johns-Church-Danescourt.jpg
END:VEVENT
BEGIN:VEVENT
DTSTART;TZID=Europe/London:20230912T100000
DTEND;TZID=Europe/London:20230912T110000
DTSTAMP:20260420T032903
CREATED:20230130T183004Z
LAST-MODIFIED:20230807T192454Z
UID:10001771-1694512800-1694516400@garthma.wales
SUMMARY:Holy Eucharist - St Mary & St. James
DESCRIPTION:Please join us for our Holy Eucharist Service at St. Mary and St. James’ Church\, Taffs Well.
URL:https://garthma.wales/events/midweek-eucharist-3/2023-09-12/
LOCATION:St Mary & St James Church\, Taff’s Well\, Church Street\, Taffs Well\, CF15 7PG\, United Kingdom
CATEGORIES:Mid Week Worship
ATTACH;FMTTYPE=image/jpeg:https://garthma.wales/wp-content/uploads/2023/07/candle-rotated.jpg
END:VEVENT
BEGIN:VEVENT
DTSTART;TZID=Europe/London:20230912T100000
DTEND;TZID=Europe/London:20230912T110000
DTSTAMP:20260420T032903
CREATED:20230910T193532Z
LAST-MODIFIED:20250317T133120Z
UID:10006833-1694512800-1694516400@garthma.wales
SUMMARY:Holy Eucharist - St. David's Church
DESCRIPTION:Holy Eucharist Service held at St. David’s Church\, Groesfaen at 10.00am.
URL:https://garthma.wales/events/midweek-worship-2-2/2023-09-12/
LOCATION:St David’s Church\, Groesfaen\, Llantrisant Road\, Groesfaen\, Pontyclun\, CF72 8NS\, United Kingdom
CATEGORIES:Mid Week Worship
ATTACH;FMTTYPE=image/jpeg:https://garthma.wales/wp-content/uploads/2023/01/Altar-Window-rotated.jpg
END:VEVENT
BEGIN:VEVENT
DTSTART;TZID=Europe/London:20230913T093000
DTEND;TZID=Europe/London:20230913T103000
DTSTAMP:20260420T032903
CREATED:20230116T211122Z
LAST-MODIFIED:20230808T185650Z
UID:10000238-1694597400-1694601000@garthma.wales
SUMMARY:Holy Eucharist - Christ Church
DESCRIPTION:In the Lady Chapel of Christ Church\, Radyr
URL:https://garthma.wales/events/midweek-eucharist/2023-09-13/
LOCATION:Christ Church\, Radyr\, Heol Isaf\, Radyr\, Cardiff\, CF15 8DY\, United Kingdom
CATEGORIES:Mid Week Worship
ATTACH;FMTTYPE=image/jpeg:https://garthma.wales/wp-content/uploads/2023/01/Christ-Church.jpg
END:VEVENT
BEGIN:VEVENT
DTSTART;TZID=Europe/London:20230913T100000
DTEND;TZID=Europe/London:20230913T103000
DTSTAMP:20260420T032903
CREATED:20230910T193141Z
LAST-MODIFIED:20251108T124219Z
UID:10003496-1694599200-1694601000@garthma.wales
SUMMARY:Holy Eucharist - St. Catwg's Church
DESCRIPTION:A warm welcome awaits in our Holy Eucharist Service at St. Catwg’s Church\, Pentyrch at 10am on Wednesdays. Tea & Coffee provided after service.
URL:https://garthma.wales/events/holy-eucharist-st-catwgs-church-2/2023-09-13/
LOCATION:St Catwg’s Church\, Pentyrch\, Church Road\, Pentyrch\, CF15 9QF\, United Kingdom
CATEGORIES:Mid Week Worship
ATTACH;FMTTYPE=image/png:https://garthma.wales/wp-content/uploads/2023/01/window.png
END:VEVENT
BEGIN:VEVENT
DTSTART;TZID=Europe/London:20230913T104500
DTEND;TZID=Europe/London:20230913T120000
DTSTAMP:20260420T032903
CREATED:20230807T190644Z
LAST-MODIFIED:20240108T143329Z
UID:10002644-1694601900-1694606400@garthma.wales
SUMMARY:Caffi Catwg - St Catwg's Church
DESCRIPTION:On Wednesday mornings at St Catwg’s\, we have a service at 10am which is immediately followed by an open coffee morning which starts at 10.45am and lasts until 12 noon. We call this gathering ‘Caffi Catwg’\, and about 20-30 people come – we are always keen to welcome new people. \nMost people who attend are retired but folk of all ages are welcome. Caffi Catwg is an opportunity to meet new people\, just chat with friends and we usually have a couple of fun games too\, whilst sat with our coffee and biscuits. \nWe’d love you to join us.
URL:https://garthma.wales/events/cafe-catwg/2023-09-13/
LOCATION:St Catwg’s Church\, Pentyrch\, Church Road\, Pentyrch\, CF15 9QF\, United Kingdom
CATEGORIES:Mid Week Worship
ATTACH;FMTTYPE=image/jpeg:https://garthma.wales/wp-content/uploads/2023/07/Caffi-Catwg-2.jpg
END:VEVENT
BEGIN:VEVENT
DTSTART;TZID=Europe/London:20230914T110000
DTEND;TZID=Europe/London:20230914T120000
DTSTAMP:20260420T032903
CREATED:20230724T170054Z
LAST-MODIFIED:20251106T203608Z
UID:10001901-1694689200-1694692800@garthma.wales
SUMMARY:Holy Eucharist - St. John's Church
DESCRIPTION:Holy Eucharist followed by coffee.
URL:https://garthma.wales/events/midweek-eucharist-4/2023-09-14/
LOCATION:St John’s Church\, Danescourt\, Rachel Close\, Danescourt\, Cardiff\, CF5 2SH\, United Kingdom
CATEGORIES:Mid Week Worship
ATTACH;FMTTYPE=image/jpeg:https://garthma.wales/wp-content/uploads/2023/07/St-Johns-Church-Danescourt.jpg
END:VEVENT
BEGIN:VEVENT
DTSTART;TZID=Europe/London:20230919T100000
DTEND;TZID=Europe/London:20230919T110000
DTSTAMP:20260420T032903
CREATED:20230130T183004Z
LAST-MODIFIED:20230807T192454Z
UID:10001772-1695117600-1695121200@garthma.wales
SUMMARY:Holy Eucharist - St Mary & St. James
DESCRIPTION:Please join us for our Holy Eucharist Service at St. Mary and St. James’ Church\, Taffs Well.
URL:https://garthma.wales/events/midweek-eucharist-3/2023-09-19/
LOCATION:St Mary & St James Church\, Taff’s Well\, Church Street\, Taffs Well\, CF15 7PG\, United Kingdom
CATEGORIES:Mid Week Worship
ATTACH;FMTTYPE=image/jpeg:https://garthma.wales/wp-content/uploads/2023/07/candle-rotated.jpg
END:VEVENT
BEGIN:VEVENT
DTSTART;TZID=Europe/London:20230919T100000
DTEND;TZID=Europe/London:20230919T110000
DTSTAMP:20260420T032903
CREATED:20230910T193532Z
LAST-MODIFIED:20250317T133120Z
UID:10004168-1695117600-1695121200@garthma.wales
SUMMARY:Holy Eucharist - St. David's Church
DESCRIPTION:Holy Eucharist Service held at St. David’s Church\, Groesfaen at 10.00am.
URL:https://garthma.wales/events/midweek-worship-2-2/2023-09-19/
LOCATION:St David’s Church\, Groesfaen\, Llantrisant Road\, Groesfaen\, Pontyclun\, CF72 8NS\, United Kingdom
CATEGORIES:Mid Week Worship
ATTACH;FMTTYPE=image/jpeg:https://garthma.wales/wp-content/uploads/2023/01/Altar-Window-rotated.jpg
END:VEVENT
BEGIN:VEVENT
DTSTART;TZID=Europe/London:20230920T080000
DTEND;TZID=Europe/London:20230920T170000
DTSTAMP:20260420T032903
CREATED:20230910T193242Z
LAST-MODIFIED:20250317T133950Z
UID:10007083-1695196800-1695229200@garthma.wales
SUMMARY:Morning Prayer - St. Catwg's Church
DESCRIPTION:A warm welcome awaits in our Morning Prayer mid-week Service at St. Catwg’s Church Pentyrch on alternate Wednesdays (Morning Prayer takes place in the weeks where there is no mid-week Eucharist service). Tea & Coffee provided after service.
URL:https://garthma.wales/events/midweek-worship-3/2023-09-20/1/
LOCATION:St Catwg’s Church\, Pentyrch\, Church Road\, Pentyrch\, CF15 9QF\, United Kingdom
CATEGORIES:Mid Week Worship
ATTACH;FMTTYPE=image/png:https://garthma.wales/wp-content/uploads/2023/01/window.png
END:VEVENT
BEGIN:VEVENT
DTSTART;TZID=Europe/London:20230920T093000
DTEND;TZID=Europe/London:20230920T103000
DTSTAMP:20260420T032903
CREATED:20230116T211122Z
LAST-MODIFIED:20230808T185650Z
UID:10000239-1695202200-1695205800@garthma.wales
SUMMARY:Holy Eucharist - Christ Church
DESCRIPTION:In the Lady Chapel of Christ Church\, Radyr
URL:https://garthma.wales/events/midweek-eucharist/2023-09-20/
LOCATION:Christ Church\, Radyr\, Heol Isaf\, Radyr\, Cardiff\, CF15 8DY\, United Kingdom
CATEGORIES:Mid Week Worship
ATTACH;FMTTYPE=image/jpeg:https://garthma.wales/wp-content/uploads/2023/01/Christ-Church.jpg
END:VEVENT
BEGIN:VEVENT
DTSTART;TZID=Europe/London:20230920T100000
DTEND;TZID=Europe/London:20230920T103000
DTSTAMP:20260420T032903
CREATED:20230910T193141Z
LAST-MODIFIED:20251108T124219Z
UID:10006913-1695204000-1695205800@garthma.wales
SUMMARY:Holy Eucharist - St. Catwg's Church
DESCRIPTION:A warm welcome awaits in our Holy Eucharist Service at St. Catwg’s Church\, Pentyrch at 10am on Wednesdays. Tea & Coffee provided after service.
URL:https://garthma.wales/events/holy-eucharist-st-catwgs-church-2/2023-09-20/
LOCATION:St Catwg’s Church\, Pentyrch\, Church Road\, Pentyrch\, CF15 9QF\, United Kingdom
CATEGORIES:Mid Week Worship
ATTACH;FMTTYPE=image/png:https://garthma.wales/wp-content/uploads/2023/01/window.png
END:VEVENT
BEGIN:VEVENT
DTSTART;TZID=Europe/London:20230920T100000
DTEND;TZID=Europe/London:20230920T103000
DTSTAMP:20260420T032903
CREATED:20230910T193242Z
LAST-MODIFIED:20250317T133950Z
UID:10000639-1695204000-1695205800@garthma.wales
SUMMARY:Morning Prayer - St. Catwg's Church
DESCRIPTION:A warm welcome awaits in our Morning Prayer mid-week Service at St. Catwg’s Church Pentyrch on alternate Wednesdays (Morning Prayer takes place in the weeks where there is no mid-week Eucharist service). Tea & Coffee provided after service.
URL:https://garthma.wales/events/midweek-worship-3/2023-09-20/2/
LOCATION:St Catwg’s Church\, Pentyrch\, Church Road\, Pentyrch\, CF15 9QF\, United Kingdom
CATEGORIES:Mid Week Worship
ATTACH;FMTTYPE=image/png:https://garthma.wales/wp-content/uploads/2023/01/window.png
END:VEVENT
BEGIN:VEVENT
DTSTART;TZID=Europe/London:20230920T104500
DTEND;TZID=Europe/London:20230920T120000
DTSTAMP:20260420T032903
CREATED:20230807T190644Z
LAST-MODIFIED:20240108T143329Z
UID:10002645-1695206700-1695211200@garthma.wales
SUMMARY:Caffi Catwg - St Catwg's Church
DESCRIPTION:On Wednesday mornings at St Catwg’s\, we have a service at 10am which is immediately followed by an open coffee morning which starts at 10.45am and lasts until 12 noon. We call this gathering ‘Caffi Catwg’\, and about 20-30 people come – we are always keen to welcome new people. \nMost people who attend are retired but folk of all ages are welcome. Caffi Catwg is an opportunity to meet new people\, just chat with friends and we usually have a couple of fun games too\, whilst sat with our coffee and biscuits. \nWe’d love you to join us.
URL:https://garthma.wales/events/cafe-catwg/2023-09-20/
LOCATION:St Catwg’s Church\, Pentyrch\, Church Road\, Pentyrch\, CF15 9QF\, United Kingdom
CATEGORIES:Mid Week Worship
ATTACH;FMTTYPE=image/jpeg:https://garthma.wales/wp-content/uploads/2023/07/Caffi-Catwg-2.jpg
END:VEVENT
BEGIN:VEVENT
DTSTART;TZID=Europe/London:20230921T110000
DTEND;TZID=Europe/London:20230921T120000
DTSTAMP:20260420T032903
CREATED:20230724T170054Z
LAST-MODIFIED:20251106T203608Z
UID:10001902-1695294000-1695297600@garthma.wales
SUMMARY:Holy Eucharist - St. John's Church
DESCRIPTION:Holy Eucharist followed by coffee.
URL:https://garthma.wales/events/midweek-eucharist-4/2023-09-21/
LOCATION:St John’s Church\, Danescourt\, Rachel Close\, Danescourt\, Cardiff\, CF5 2SH\, United Kingdom
CATEGORIES:Mid Week Worship
ATTACH;FMTTYPE=image/jpeg:https://garthma.wales/wp-content/uploads/2023/07/St-Johns-Church-Danescourt.jpg
END:VEVENT
BEGIN:VEVENT
DTSTART;TZID=Europe/London:20230926T100000
DTEND;TZID=Europe/London:20230926T110000
DTSTAMP:20260420T032903
CREATED:20230130T183004Z
LAST-MODIFIED:20230807T192454Z
UID:10001773-1695722400-1695726000@garthma.wales
SUMMARY:Holy Eucharist - St Mary & St. James
DESCRIPTION:Please join us for our Holy Eucharist Service at St. Mary and St. James’ Church\, Taffs Well.
URL:https://garthma.wales/events/midweek-eucharist-3/2023-09-26/
LOCATION:St Mary & St James Church\, Taff’s Well\, Church Street\, Taffs Well\, CF15 7PG\, United Kingdom
CATEGORIES:Mid Week Worship
ATTACH;FMTTYPE=image/jpeg:https://garthma.wales/wp-content/uploads/2023/07/candle-rotated.jpg
END:VEVENT
BEGIN:VEVENT
DTSTART;TZID=Europe/London:20230926T100000
DTEND;TZID=Europe/London:20230926T110000
DTSTAMP:20260420T032903
CREATED:20230910T193532Z
LAST-MODIFIED:20250317T133120Z
UID:10006834-1695722400-1695726000@garthma.wales
SUMMARY:Holy Eucharist - St. David's Church
DESCRIPTION:Holy Eucharist Service held at St. David’s Church\, Groesfaen at 10.00am.
URL:https://garthma.wales/events/midweek-worship-2-2/2023-09-26/
LOCATION:St David’s Church\, Groesfaen\, Llantrisant Road\, Groesfaen\, Pontyclun\, CF72 8NS\, United Kingdom
CATEGORIES:Mid Week Worship
ATTACH;FMTTYPE=image/jpeg:https://garthma.wales/wp-content/uploads/2023/01/Altar-Window-rotated.jpg
END:VEVENT
BEGIN:VEVENT
DTSTART;TZID=Europe/London:20230927T093000
DTEND;TZID=Europe/London:20230927T103000
DTSTAMP:20260420T032904
CREATED:20230116T211122Z
LAST-MODIFIED:20230808T185650Z
UID:10000240-1695807000-1695810600@garthma.wales
SUMMARY:Holy Eucharist - Christ Church
DESCRIPTION:In the Lady Chapel of Christ Church\, Radyr
URL:https://garthma.wales/events/midweek-eucharist/2023-09-27/
LOCATION:Christ Church\, Radyr\, Heol Isaf\, Radyr\, Cardiff\, CF15 8DY\, United Kingdom
CATEGORIES:Mid Week Worship
ATTACH;FMTTYPE=image/jpeg:https://garthma.wales/wp-content/uploads/2023/01/Christ-Church.jpg
END:VEVENT
BEGIN:VEVENT
DTSTART;TZID=Europe/London:20230927T100000
DTEND;TZID=Europe/London:20230927T103000
DTSTAMP:20260420T032904
CREATED:20230910T193141Z
LAST-MODIFIED:20251108T124219Z
UID:10003957-1695808800-1695810600@garthma.wales
SUMMARY:Holy Eucharist - St. Catwg's Church
DESCRIPTION:A warm welcome awaits in our Holy Eucharist Service at St. Catwg’s Church\, Pentyrch at 10am on Wednesdays. Tea & Coffee provided after service.
URL:https://garthma.wales/events/holy-eucharist-st-catwgs-church-2/2023-09-27/
LOCATION:St Catwg’s Church\, Pentyrch\, Church Road\, Pentyrch\, CF15 9QF\, United Kingdom
CATEGORIES:Mid Week Worship
ATTACH;FMTTYPE=image/png:https://garthma.wales/wp-content/uploads/2023/01/window.png
END:VEVENT
BEGIN:VEVENT
DTSTART;TZID=Europe/London:20230927T104500
DTEND;TZID=Europe/London:20230927T120000
DTSTAMP:20260420T032904
CREATED:20230807T190644Z
LAST-MODIFIED:20240108T143329Z
UID:10002646-1695811500-1695816000@garthma.wales
SUMMARY:Caffi Catwg - St Catwg's Church
DESCRIPTION:On Wednesday mornings at St Catwg’s\, we have a service at 10am which is immediately followed by an open coffee morning which starts at 10.45am and lasts until 12 noon. We call this gathering ‘Caffi Catwg’\, and about 20-30 people come – we are always keen to welcome new people. \nMost people who attend are retired but folk of all ages are welcome. Caffi Catwg is an opportunity to meet new people\, just chat with friends and we usually have a couple of fun games too\, whilst sat with our coffee and biscuits. \nWe’d love you to join us.
URL:https://garthma.wales/events/cafe-catwg/2023-09-27/
LOCATION:St Catwg’s Church\, Pentyrch\, Church Road\, Pentyrch\, CF15 9QF\, United Kingdom
CATEGORIES:Mid Week Worship
ATTACH;FMTTYPE=image/jpeg:https://garthma.wales/wp-content/uploads/2023/07/Caffi-Catwg-2.jpg
END:VEVENT
BEGIN:VEVENT
DTSTART;TZID=Europe/London:20230928T110000
DTEND;TZID=Europe/London:20230928T120000
DTSTAMP:20260420T032904
CREATED:20230724T170054Z
LAST-MODIFIED:20251106T203608Z
UID:10001903-1695898800-1695902400@garthma.wales
SUMMARY:Holy Eucharist - St. John's Church
DESCRIPTION:Holy Eucharist followed by coffee.
URL:https://garthma.wales/events/midweek-eucharist-4/2023-09-28/
LOCATION:St John’s Church\, Danescourt\, Rachel Close\, Danescourt\, Cardiff\, CF5 2SH\, United Kingdom
CATEGORIES:Mid Week Worship
ATTACH;FMTTYPE=image/jpeg:https://garthma.wales/wp-content/uploads/2023/07/St-Johns-Church-Danescourt.jpg
END:VEVENT
END:VCALENDAR