BEGIN:VCALENDAR
VERSION:2.0
PRODID:-//The Garth Ministry Area - ECPv6.15.20//NONSGML v1.0//EN
CALSCALE:GREGORIAN
METHOD:PUBLISH
X-ORIGINAL-URL:https://garthma.wales
X-WR-CALDESC:Events for The Garth Ministry Area
REFRESH-INTERVAL;VALUE=DURATION:PT1H
X-Robots-Tag:noindex
X-PUBLISHED-TTL:PT1H
BEGIN:VTIMEZONE
TZID:Europe/London
BEGIN:DAYLIGHT
TZOFFSETFROM:+0000
TZOFFSETTO:+0100
TZNAME:BST
DTSTART:20220327T010000
END:DAYLIGHT
BEGIN:STANDARD
TZOFFSETFROM:+0100
TZOFFSETTO:+0000
TZNAME:GMT
DTSTART:20221030T010000
END:STANDARD
BEGIN:DAYLIGHT
TZOFFSETFROM:+0000
TZOFFSETTO:+0100
TZNAME:BST
DTSTART:20230326T010000
END:DAYLIGHT
BEGIN:STANDARD
TZOFFSETFROM:+0100
TZOFFSETTO:+0000
TZNAME:GMT
DTSTART:20231029T010000
END:STANDARD
BEGIN:DAYLIGHT
TZOFFSETFROM:+0000
TZOFFSETTO:+0100
TZNAME:BST
DTSTART:20240331T010000
END:DAYLIGHT
BEGIN:STANDARD
TZOFFSETFROM:+0100
TZOFFSETTO:+0000
TZNAME:GMT
DTSTART:20241027T010000
END:STANDARD
END:VTIMEZONE
BEGIN:VEVENT
DTSTART;TZID=Europe/London:20230704T100000
DTEND;TZID=Europe/London:20230704T110000
DTSTAMP:20260420T053305
CREATED:20230130T183004Z
LAST-MODIFIED:20230807T192454Z
UID:10001761-1688464800-1688468400@garthma.wales
SUMMARY:Holy Eucharist - St Mary & St. James
DESCRIPTION:Please join us for our Holy Eucharist Service at St. Mary and St. James’ Church\, Taffs Well.
URL:https://garthma.wales/events/midweek-eucharist-3/2023-07-04/
LOCATION:St Mary & St James Church\, Taff’s Well\, Church Street\, Taffs Well\, CF15 7PG\, United Kingdom
CATEGORIES:Mid Week Worship
ATTACH;FMTTYPE=image/jpeg:https://garthma.wales/wp-content/uploads/2023/07/candle-rotated.jpg
END:VEVENT
BEGIN:VEVENT
DTSTART;TZID=Europe/London:20230705T093000
DTEND;TZID=Europe/London:20230705T103000
DTSTAMP:20260420T053305
CREATED:20230116T211122Z
LAST-MODIFIED:20230808T185650Z
UID:10000228-1688549400-1688553000@garthma.wales
SUMMARY:Holy Eucharist - Christ Church
DESCRIPTION:In the Lady Chapel of Christ Church\, Radyr
URL:https://garthma.wales/events/midweek-eucharist/2023-07-05/
LOCATION:Christ Church\, Radyr\, Heol Isaf\, Radyr\, Cardiff\, CF15 8DY\, United Kingdom
CATEGORIES:Mid Week Worship
ATTACH;FMTTYPE=image/jpeg:https://garthma.wales/wp-content/uploads/2023/01/Christ-Church.jpg
END:VEVENT
BEGIN:VEVENT
DTSTART;TZID=Europe/London:20230705T100000
DTEND;TZID=Europe/London:20230705T103000
DTSTAMP:20260420T053305
CREATED:20230130T181225Z
LAST-MODIFIED:20230830T130257Z
UID:10000629-1688551200-1688553000@garthma.wales
SUMMARY:Morning Prayer - St. Catwg's Church
DESCRIPTION:A warm welcome awaits in our Morning Prayer mid-week Service at St. Catwg’s Church Pentyrch on alternate Wednesdays (Morning Prayer takes place in the weeks where there is no mid-week Eucharist service). Tea & Coffee provided after service.
URL:https://garthma.wales/events/midweek-worship/2023-07-05/
LOCATION:St Catwg’s Church\, Pentyrch\, Church Road\, Pentyrch\, CF15 9QF\, United Kingdom
CATEGORIES:Mid Week Worship
ATTACH;FMTTYPE=image/png:https://garthma.wales/wp-content/uploads/2023/01/window.png
END:VEVENT
BEGIN:VEVENT
DTSTART;TZID=Europe/London:20230706T110000
DTEND;TZID=Europe/London:20230706T120000
DTSTAMP:20260420T053305
CREATED:20230724T170054Z
LAST-MODIFIED:20251106T203608Z
UID:10001891-1688641200-1688644800@garthma.wales
SUMMARY:Holy Eucharist - St. John's Church
DESCRIPTION:Holy Eucharist followed by coffee.
URL:https://garthma.wales/events/midweek-eucharist-4/2023-07-06/
LOCATION:St John’s Church\, Danescourt\, Rachel Close\, Danescourt\, Cardiff\, CF5 2SH\, United Kingdom
CATEGORIES:Mid Week Worship
ATTACH;FMTTYPE=image/jpeg:https://garthma.wales/wp-content/uploads/2023/07/St-Johns-Church-Danescourt.jpg
END:VEVENT
BEGIN:VEVENT
DTSTART;TZID=Europe/London:20230711T100000
DTEND;TZID=Europe/London:20230711T110000
DTSTAMP:20260420T053305
CREATED:20230130T183004Z
LAST-MODIFIED:20230807T192454Z
UID:10001762-1689069600-1689073200@garthma.wales
SUMMARY:Holy Eucharist - St Mary & St. James
DESCRIPTION:Please join us for our Holy Eucharist Service at St. Mary and St. James’ Church\, Taffs Well.
URL:https://garthma.wales/events/midweek-eucharist-3/2023-07-11/
LOCATION:St Mary & St James Church\, Taff’s Well\, Church Street\, Taffs Well\, CF15 7PG\, United Kingdom
CATEGORIES:Mid Week Worship
ATTACH;FMTTYPE=image/jpeg:https://garthma.wales/wp-content/uploads/2023/07/candle-rotated.jpg
END:VEVENT
BEGIN:VEVENT
DTSTART;TZID=Europe/London:20230712T093000
DTEND;TZID=Europe/London:20230712T103000
DTSTAMP:20260420T053305
CREATED:20230116T211122Z
LAST-MODIFIED:20230808T185650Z
UID:10000229-1689154200-1689157800@garthma.wales
SUMMARY:Holy Eucharist - Christ Church
DESCRIPTION:In the Lady Chapel of Christ Church\, Radyr
URL:https://garthma.wales/events/midweek-eucharist/2023-07-12/
LOCATION:Christ Church\, Radyr\, Heol Isaf\, Radyr\, Cardiff\, CF15 8DY\, United Kingdom
CATEGORIES:Mid Week Worship
ATTACH;FMTTYPE=image/jpeg:https://garthma.wales/wp-content/uploads/2023/01/Christ-Church.jpg
END:VEVENT
BEGIN:VEVENT
DTSTART;TZID=Europe/London:20230712T100000
DTEND;TZID=Europe/London:20230712T103000
DTSTAMP:20260420T053305
CREATED:20230830T130207Z
LAST-MODIFIED:20230830T130207Z
UID:10003491-1689156000-1689157800@garthma.wales
SUMMARY:Holy Eucharist - St. Catwg's Church
DESCRIPTION:A warm welcome awaits in our Holy Eucharist Service at St. Catwg’s Church Pentyrch on alternate Wednesdays (Morning Prayer takes place in the weeks where no Eucharist service). Tea & Coffee provided after service.
URL:https://garthma.wales/events/holy-eucharist-st-catwgs-church/2023-07-12/
LOCATION:St Catwg’s Church\, Pentyrch\, Church Road\, Pentyrch\, CF15 9QF\, United Kingdom
CATEGORIES:Mid Week Worship
ATTACH;FMTTYPE=image/png:https://garthma.wales/wp-content/uploads/2023/01/window.png
END:VEVENT
BEGIN:VEVENT
DTSTART;TZID=Europe/London:20230713T110000
DTEND;TZID=Europe/London:20230713T120000
DTSTAMP:20260420T053305
CREATED:20230724T170054Z
LAST-MODIFIED:20251106T203608Z
UID:10001892-1689246000-1689249600@garthma.wales
SUMMARY:Holy Eucharist - St. John's Church
DESCRIPTION:Holy Eucharist followed by coffee.
URL:https://garthma.wales/events/midweek-eucharist-4/2023-07-13/
LOCATION:St John’s Church\, Danescourt\, Rachel Close\, Danescourt\, Cardiff\, CF5 2SH\, United Kingdom
CATEGORIES:Mid Week Worship
ATTACH;FMTTYPE=image/jpeg:https://garthma.wales/wp-content/uploads/2023/07/St-Johns-Church-Danescourt.jpg
END:VEVENT
BEGIN:VEVENT
DTSTART;TZID=Europe/London:20230718T100000
DTEND;TZID=Europe/London:20230718T110000
DTSTAMP:20260420T053305
CREATED:20230130T183004Z
LAST-MODIFIED:20230807T192454Z
UID:10001763-1689674400-1689678000@garthma.wales
SUMMARY:Holy Eucharist - St Mary & St. James
DESCRIPTION:Please join us for our Holy Eucharist Service at St. Mary and St. James’ Church\, Taffs Well.
URL:https://garthma.wales/events/midweek-eucharist-3/2023-07-18/
LOCATION:St Mary & St James Church\, Taff’s Well\, Church Street\, Taffs Well\, CF15 7PG\, United Kingdom
CATEGORIES:Mid Week Worship
ATTACH;FMTTYPE=image/jpeg:https://garthma.wales/wp-content/uploads/2023/07/candle-rotated.jpg
END:VEVENT
BEGIN:VEVENT
DTSTART;TZID=Europe/London:20230719T093000
DTEND;TZID=Europe/London:20230719T103000
DTSTAMP:20260420T053305
CREATED:20230116T211122Z
LAST-MODIFIED:20230808T185650Z
UID:10000230-1689759000-1689762600@garthma.wales
SUMMARY:Holy Eucharist - Christ Church
DESCRIPTION:In the Lady Chapel of Christ Church\, Radyr
URL:https://garthma.wales/events/midweek-eucharist/2023-07-19/
LOCATION:Christ Church\, Radyr\, Heol Isaf\, Radyr\, Cardiff\, CF15 8DY\, United Kingdom
CATEGORIES:Mid Week Worship
ATTACH;FMTTYPE=image/jpeg:https://garthma.wales/wp-content/uploads/2023/01/Christ-Church.jpg
END:VEVENT
BEGIN:VEVENT
DTSTART;TZID=Europe/London:20230719T100000
DTEND;TZID=Europe/London:20230719T103000
DTSTAMP:20260420T053305
CREATED:20230130T181225Z
LAST-MODIFIED:20230830T130257Z
UID:10000631-1689760800-1689762600@garthma.wales
SUMMARY:Morning Prayer - St. Catwg's Church
DESCRIPTION:A warm welcome awaits in our Morning Prayer mid-week Service at St. Catwg’s Church Pentyrch on alternate Wednesdays (Morning Prayer takes place in the weeks where there is no mid-week Eucharist service). Tea & Coffee provided after service.
URL:https://garthma.wales/events/midweek-worship/2023-07-19/
LOCATION:St Catwg’s Church\, Pentyrch\, Church Road\, Pentyrch\, CF15 9QF\, United Kingdom
CATEGORIES:Mid Week Worship
ATTACH;FMTTYPE=image/png:https://garthma.wales/wp-content/uploads/2023/01/window.png
END:VEVENT
BEGIN:VEVENT
DTSTART;TZID=Europe/London:20230720T110000
DTEND;TZID=Europe/London:20230720T120000
DTSTAMP:20260420T053305
CREATED:20230724T170054Z
LAST-MODIFIED:20251106T203608Z
UID:10001893-1689850800-1689854400@garthma.wales
SUMMARY:Holy Eucharist - St. John's Church
DESCRIPTION:Holy Eucharist followed by coffee.
URL:https://garthma.wales/events/midweek-eucharist-4/2023-07-20/
LOCATION:St John’s Church\, Danescourt\, Rachel Close\, Danescourt\, Cardiff\, CF5 2SH\, United Kingdom
CATEGORIES:Mid Week Worship
ATTACH;FMTTYPE=image/jpeg:https://garthma.wales/wp-content/uploads/2023/07/St-Johns-Church-Danescourt.jpg
END:VEVENT
BEGIN:VEVENT
DTSTART;TZID=Europe/London:20230725T100000
DTEND;TZID=Europe/London:20230725T110000
DTSTAMP:20260420T053305
CREATED:20230130T183004Z
LAST-MODIFIED:20230807T192454Z
UID:10001764-1690279200-1690282800@garthma.wales
SUMMARY:Holy Eucharist - St Mary & St. James
DESCRIPTION:Please join us for our Holy Eucharist Service at St. Mary and St. James’ Church\, Taffs Well.
URL:https://garthma.wales/events/midweek-eucharist-3/2023-07-25/
LOCATION:St Mary & St James Church\, Taff’s Well\, Church Street\, Taffs Well\, CF15 7PG\, United Kingdom
CATEGORIES:Mid Week Worship
ATTACH;FMTTYPE=image/jpeg:https://garthma.wales/wp-content/uploads/2023/07/candle-rotated.jpg
END:VEVENT
BEGIN:VEVENT
DTSTART;TZID=Europe/London:20230726T093000
DTEND;TZID=Europe/London:20230726T103000
DTSTAMP:20260420T053305
CREATED:20230116T211122Z
LAST-MODIFIED:20230808T185650Z
UID:10000231-1690363800-1690367400@garthma.wales
SUMMARY:Holy Eucharist - Christ Church
DESCRIPTION:In the Lady Chapel of Christ Church\, Radyr
URL:https://garthma.wales/events/midweek-eucharist/2023-07-26/
LOCATION:Christ Church\, Radyr\, Heol Isaf\, Radyr\, Cardiff\, CF15 8DY\, United Kingdom
CATEGORIES:Mid Week Worship
ATTACH;FMTTYPE=image/jpeg:https://garthma.wales/wp-content/uploads/2023/01/Christ-Church.jpg
END:VEVENT
BEGIN:VEVENT
DTSTART;TZID=Europe/London:20230726T100000
DTEND;TZID=Europe/London:20230726T103000
DTSTAMP:20260420T053305
CREATED:20230830T130207Z
LAST-MODIFIED:20230830T130207Z
UID:10003492-1690365600-1690367400@garthma.wales
SUMMARY:Holy Eucharist - St. Catwg's Church
DESCRIPTION:A warm welcome awaits in our Holy Eucharist Service at St. Catwg’s Church Pentyrch on alternate Wednesdays (Morning Prayer takes place in the weeks where no Eucharist service). Tea & Coffee provided after service.
URL:https://garthma.wales/events/holy-eucharist-st-catwgs-church/2023-07-26/
LOCATION:St Catwg’s Church\, Pentyrch\, Church Road\, Pentyrch\, CF15 9QF\, United Kingdom
CATEGORIES:Mid Week Worship
ATTACH;FMTTYPE=image/png:https://garthma.wales/wp-content/uploads/2023/01/window.png
END:VEVENT
BEGIN:VEVENT
DTSTART;TZID=Europe/London:20230727T110000
DTEND;TZID=Europe/London:20230727T120000
DTSTAMP:20260420T053305
CREATED:20230724T170054Z
LAST-MODIFIED:20251106T203608Z
UID:10001894-1690455600-1690459200@garthma.wales
SUMMARY:Holy Eucharist - St. John's Church
DESCRIPTION:Holy Eucharist followed by coffee.
URL:https://garthma.wales/events/midweek-eucharist-4/2023-07-27/
LOCATION:St John’s Church\, Danescourt\, Rachel Close\, Danescourt\, Cardiff\, CF5 2SH\, United Kingdom
CATEGORIES:Mid Week Worship
ATTACH;FMTTYPE=image/jpeg:https://garthma.wales/wp-content/uploads/2023/07/St-Johns-Church-Danescourt.jpg
END:VEVENT
END:VCALENDAR