BEGIN:VCALENDAR
VERSION:2.0
PRODID:-//The Garth Ministry Area - ECPv6.15.20//NONSGML v1.0//EN
CALSCALE:GREGORIAN
METHOD:PUBLISH
X-ORIGINAL-URL:https://garthma.wales
X-WR-CALDESC:Events for The Garth Ministry Area
REFRESH-INTERVAL;VALUE=DURATION:PT1H
X-Robots-Tag:noindex
X-PUBLISHED-TTL:PT1H
BEGIN:VTIMEZONE
TZID:Europe/London
BEGIN:DAYLIGHT
TZOFFSETFROM:+0000
TZOFFSETTO:+0100
TZNAME:BST
DTSTART:20290325T010000
END:DAYLIGHT
BEGIN:STANDARD
TZOFFSETFROM:+0100
TZOFFSETTO:+0000
TZNAME:GMT
DTSTART:20291028T010000
END:STANDARD
BEGIN:DAYLIGHT
TZOFFSETFROM:+0000
TZOFFSETTO:+0100
TZNAME:BST
DTSTART:20300331T010000
END:DAYLIGHT
BEGIN:STANDARD
TZOFFSETFROM:+0100
TZOFFSETTO:+0000
TZNAME:GMT
DTSTART:20301027T010000
END:STANDARD
BEGIN:DAYLIGHT
TZOFFSETFROM:+0000
TZOFFSETTO:+0100
TZNAME:BST
DTSTART:20310330T010000
END:DAYLIGHT
BEGIN:STANDARD
TZOFFSETFROM:+0100
TZOFFSETTO:+0000
TZNAME:GMT
DTSTART:20311026T010000
END:STANDARD
END:VTIMEZONE
BEGIN:VEVENT
DTSTART;TZID=Europe/London:20301117T091500
DTEND;TZID=Europe/London:20301117T101500
DTSTAMP:20260420T000822
CREATED:20260115T154656Z
LAST-MODIFIED:20260115T154657Z
UID:10011738-1921137300-1921140900@garthma.wales
SUMMARY:Holy Eucharist with Sunday Club - St John's Church
DESCRIPTION:Please join us for our Holy Eucharist Service at St. John’s Church in Danescourt\, along with our Sunday Club.
URL:https://garthma.wales/events/sung-eucharist-with-sunday-club-2-2-2/2030-11-17/
LOCATION:St John’s Church\, Danescourt\, Rachel Close\, Danescourt\, Cardiff\, CF5 2SH\, United Kingdom
CATEGORIES:Sunday Worship
ATTACH;FMTTYPE=image/jpeg:https://garthma.wales/wp-content/uploads/2023/07/St-Johns-Church-Danescourt.jpg
END:VEVENT
BEGIN:VEVENT
DTSTART;TZID=Europe/London:20301117T093000
DTEND;TZID=Europe/London:20301117T103000
DTSTAMP:20260420T000822
CREATED:20230130T182546Z
LAST-MODIFIED:20251108T122357Z
UID:10011643-1921138200-1921141800@garthma.wales
SUMMARY:Holy Eucharist - St Michael & All Angels
DESCRIPTION:We would love you to come and join us for this Holy Eucharist Service at St. Michael & All Angels\, Tongwynlais.
URL:https://garthma.wales/events/sunday-eucharist-5/2030-11-17/
LOCATION:St Michael and All Angels Church\, Tongwynlais\, Merthyr Road\, Tongwynlais\, CF15 7LD\, United Kingdom
ATTACH;FMTTYPE=image/jpeg:https://garthma.wales/wp-content/uploads/2023/08/St-Michaels-Patronal-festival-scaled.jpg
END:VEVENT
BEGIN:VEVENT
DTSTART;TZID=Europe/London:20301117T103000
DTEND;TZID=Europe/London:20301117T113000
DTSTAMP:20260420T000822
CREATED:20250127T124930Z
LAST-MODIFIED:20260107T105554Z
UID:10011722-1921141800-1921145400@garthma.wales
SUMMARY:Holy Eucharist - St Mary's Church
DESCRIPTION:A warm welcome awaits you\, so please join us for our Holy Eucharist Service at St. Mary’s Church\, St. Fagans. There will also be Junior Church during the service.
URL:https://garthma.wales/events/sunday-eucharist-8/2030-11-17/
LOCATION:St Mary’s Church\, St Fagans\, Crofft-y-Genau Road\, St Fagans\, CF5 6EL\, United Kingdom
CATEGORIES:Sunday Worship
ATTACH;FMTTYPE=image/webp:https://garthma.wales/wp-content/uploads/2023/01/Tower-Glass-Door-image-St-Marys.webp
END:VEVENT
BEGIN:VEVENT
DTSTART;TZID=Europe/London:20301117T110000
DTEND;TZID=Europe/London:20301117T120000
DTSTAMP:20260420T000822
CREATED:20250223T183804Z
LAST-MODIFIED:20260128T132451Z
UID:10011825-1921143600-1921147200@garthma.wales
SUMMARY:Holy Eucharist with Sunday Club - St. Catwg's Church
DESCRIPTION:Holy Eucharist with the Sunday School taking place within the main service at the back of the Church.
URL:https://garthma.wales/events/sunday-eucharist-2-3/2030-11-17/
LOCATION:St Catwg’s Church\, Pentyrch\, Church Road\, Pentyrch\, CF15 9QF\, United Kingdom
CATEGORIES:Sunday Worship
ATTACH;FMTTYPE=image/jpeg:https://garthma.wales/wp-content/uploads/2025/02/St-Catwgs-Sunday-Club_Feb-23.jpg
END:VEVENT
BEGIN:VEVENT
DTSTART;TZID=Europe/London:20301117T110000
DTEND;TZID=Europe/London:20301117T120000
DTSTAMP:20260420T000822
CREATED:20260115T155006Z
LAST-MODIFIED:20260115T155007Z
UID:10011748-1921143600-1921147200@garthma.wales
SUMMARY:Holy Eucharist with Sunday Club - Christ Church
DESCRIPTION:Holy Eucharist in the Main Church.\nSunday Club meet in the New School Rooms
URL:https://garthma.wales/events/sung-eucharist-with-sunday-club-4/2030-11-17/
LOCATION:Christ Church\, Radyr\, Heol Isaf\, Radyr\, Cardiff\, CF15 8DY\, United Kingdom
CATEGORIES:Sunday Worship
ATTACH;FMTTYPE=image/jpeg:https://garthma.wales/wp-content/uploads/2023/01/Christ-Church.jpg
END:VEVENT
BEGIN:VEVENT
DTSTART;TZID=Europe/London:20301117T160000
DTEND;TZID=Europe/London:20301117T173000
DTSTAMP:20260420T000822
CREATED:20230811T152713Z
LAST-MODIFIED:20250331T113730Z
UID:10011642-1921161600-1921167000@garthma.wales
SUMMARY:Messy Church
DESCRIPTION:Messy Church is a new and interactive way of ‘doing church’. It involves activities based on a different theme every month\, and includes lots of ‘making and doing’\, followed by a short celebration\, then sharing a complementary meal together. \nMessy Church is available to ALL children aged 12 and under with an accompanying adult\, who may be a parent\, guardian\, grandparent\, godparent\, uncle/auntie etc. It lasts approximately 90 minutes. \nMessy Church is all about making new friends and sharing God’s love in an inter-generational way.
URL:https://garthma.wales/events/messy-church/2030-11-17/
LOCATION:Creigiau Church Hall\, Cardiff Road\, Creigiau\, CF15 9NL\, United Kingdom
ATTACH;FMTTYPE=image/png:https://garthma.wales/wp-content/uploads/2023/08/Messy-Church-logo┬-for-online-use.png
END:VEVENT
END:VCALENDAR